BEGIN:VCALENDAR
VERSION:2.0
PRODID:-//Service Magazin sechs+sechzig - ECPv6.15.18//NONSGML v1.0//EN
CALSCALE:GREGORIAN
METHOD:PUBLISH
X-WR-CALNAME:Service Magazin sechs+sechzig
X-ORIGINAL-URL:https://service.magazin66.de
X-WR-CALDESC:Veranstaltungen für Service Magazin sechs+sechzig
REFRESH-INTERVAL;VALUE=DURATION:PT1H
X-Robots-Tag:noindex
X-PUBLISHED-TTL:PT1H
BEGIN:VTIMEZONE
TZID:Europe/Berlin
BEGIN:DAYLIGHT
TZOFFSETFROM:+0100
TZOFFSETTO:+0200
TZNAME:CEST
DTSTART:20240331T010000
END:DAYLIGHT
BEGIN:STANDARD
TZOFFSETFROM:+0200
TZOFFSETTO:+0100
TZNAME:CET
DTSTART:20241027T010000
END:STANDARD
BEGIN:DAYLIGHT
TZOFFSETFROM:+0100
TZOFFSETTO:+0200
TZNAME:CEST
DTSTART:20250330T010000
END:DAYLIGHT
BEGIN:STANDARD
TZOFFSETFROM:+0200
TZOFFSETTO:+0100
TZNAME:CET
DTSTART:20251026T010000
END:STANDARD
BEGIN:DAYLIGHT
TZOFFSETFROM:+0100
TZOFFSETTO:+0200
TZNAME:CEST
DTSTART:20260329T010000
END:DAYLIGHT
BEGIN:STANDARD
TZOFFSETFROM:+0200
TZOFFSETTO:+0100
TZNAME:CET
DTSTART:20261025T010000
END:STANDARD
END:VTIMEZONE
BEGIN:VEVENT
DTSTART;TZID=Europe/Berlin:20251221T140000
DTEND;TZID=Europe/Berlin:20251221T170000
DTSTAMP:20260420T192108
CREATED:20251124T173406Z
LAST-MODIFIED:20251124T173406Z
UID:10000342-1766325600-1766336400@service.magazin66.de
SUMMARY:Advent im Museum
DESCRIPTION:An den Adventssonntagen um 16 Uhr kommt die MÄRCHENERZÄHLEREI und erzählt spannende und außergewöhnliche Märchen im gemütlichen Ambiente einer Stube aus dem Spätmittelalter. Von 14 bis 17 Uhr gibt es heißen Apfelpunsch und leckere Lebkuchen. Um 14:30 kann man eine Schnupperführung durchs Museum besuchen. Ein weihnachtlicher Nachmittag in den drei Handwerkerhäuser in der Kühnertsgasse erwartet Sie\, Ihre Kinder und Enkel. \nEintritt auf Spendenbasis. \n 
URL:https://service.magazin66.de/event/advent-im-museum/2025-12-21/
LOCATION:Museum |22|20|18|\, Kühnertsgasse 22\, Nürnberg\, 90402
CATEGORIES:Unterwegs mit Enkeln
ORGANIZER;CN="Altstadtfreunde N%C3%BCrnberg e. V.":MAILTO:info@altstadtfreunde-nuernberg.de
GEO:49.45024;11.08241
X-APPLE-STRUCTURED-LOCATION;VALUE=URI;X-ADDRESS=Museum |22|20|18| Kühnertsgasse 22 Nürnberg 90402;X-APPLE-RADIUS=500;X-TITLE=Kühnertsgasse 22:geo:11.08241,49.45024
END:VEVENT
END:VCALENDAR