BEGIN:VCALENDAR
VERSION:2.0
PRODID:-//Service Magazin sechs+sechzig - ECPv6.15.18//NONSGML v1.0//EN
CALSCALE:GREGORIAN
METHOD:PUBLISH
X-WR-CALNAME:Service Magazin sechs+sechzig
X-ORIGINAL-URL:https://service.magazin66.de
X-WR-CALDESC:Veranstaltungen für Service Magazin sechs+sechzig
REFRESH-INTERVAL;VALUE=DURATION:PT1H
X-Robots-Tag:noindex
X-PUBLISHED-TTL:PT1H
BEGIN:VTIMEZONE
TZID:Europe/Berlin
BEGIN:DAYLIGHT
TZOFFSETFROM:+0100
TZOFFSETTO:+0200
TZNAME:CEST
DTSTART:20250330T010000
END:DAYLIGHT
BEGIN:STANDARD
TZOFFSETFROM:+0200
TZOFFSETTO:+0100
TZNAME:CET
DTSTART:20251026T010000
END:STANDARD
BEGIN:DAYLIGHT
TZOFFSETFROM:+0100
TZOFFSETTO:+0200
TZNAME:CEST
DTSTART:20260329T010000
END:DAYLIGHT
BEGIN:STANDARD
TZOFFSETFROM:+0200
TZOFFSETTO:+0100
TZNAME:CET
DTSTART:20261025T010000
END:STANDARD
BEGIN:DAYLIGHT
TZOFFSETFROM:+0100
TZOFFSETTO:+0200
TZNAME:CEST
DTSTART:20270328T010000
END:DAYLIGHT
BEGIN:STANDARD
TZOFFSETFROM:+0200
TZOFFSETTO:+0100
TZNAME:CET
DTSTART:20271031T010000
END:STANDARD
END:VTIMEZONE
BEGIN:VEVENT
DTSTART;TZID=Europe/Berlin:20260205T133000
DTEND;TZID=Europe/Berlin:20260205T153000
DTSTAMP:20260422T125414
CREATED:20251124T162420Z
LAST-MODIFIED:20251124T162420Z
UID:2165-1770298200-1770305400@service.magazin66.de
SUMMARY:Clever einkaufen
DESCRIPTION:Nachhaltig und gesund mit kleinem Budget \nGaststätte »Gaismannshof III«\, ­Regelsbacher Straße 33\, Nürnberg \nReferentin: Frau Bartens\, Verbraucherzentrale Bayern \nVeranstalter: AWO-Seniorenclub Südwest \nInfo: 0911 / 6411200\, j-guhl@t-online.de
URL:https://service.magazin66.de/event/clever-einkaufen/
CATEGORIES:Gesundheit und Sport
END:VEVENT
END:VCALENDAR