BEGIN:VCALENDAR
VERSION:2.0
PRODID:-//Service Magazin sechs+sechzig - ECPv6.15.18//NONSGML v1.0//EN
CALSCALE:GREGORIAN
METHOD:PUBLISH
X-WR-CALNAME:Service Magazin sechs+sechzig
X-ORIGINAL-URL:https://service.magazin66.de
X-WR-CALDESC:Veranstaltungen für Service Magazin sechs+sechzig
REFRESH-INTERVAL;VALUE=DURATION:PT1H
X-Robots-Tag:noindex
X-PUBLISHED-TTL:PT1H
BEGIN:VTIMEZONE
TZID:Europe/Berlin
BEGIN:DAYLIGHT
TZOFFSETFROM:+0100
TZOFFSETTO:+0200
TZNAME:CEST
DTSTART:20250330T010000
END:DAYLIGHT
BEGIN:STANDARD
TZOFFSETFROM:+0200
TZOFFSETTO:+0100
TZNAME:CET
DTSTART:20251026T010000
END:STANDARD
BEGIN:DAYLIGHT
TZOFFSETFROM:+0100
TZOFFSETTO:+0200
TZNAME:CEST
DTSTART:20260329T010000
END:DAYLIGHT
BEGIN:STANDARD
TZOFFSETFROM:+0200
TZOFFSETTO:+0100
TZNAME:CET
DTSTART:20261025T010000
END:STANDARD
BEGIN:DAYLIGHT
TZOFFSETFROM:+0100
TZOFFSETTO:+0200
TZNAME:CEST
DTSTART:20270328T010000
END:DAYLIGHT
BEGIN:STANDARD
TZOFFSETFROM:+0200
TZOFFSETTO:+0100
TZNAME:CET
DTSTART:20271031T010000
END:STANDARD
END:VTIMEZONE
BEGIN:VEVENT
DTSTART;TZID=Europe/Berlin:20260119T160000
DTEND;TZID=Europe/Berlin:20260119T173000
DTSTAMP:20260420T182507
CREATED:20251124T160247Z
LAST-MODIFIED:20251124T160247Z
UID:2153-1768838400-1768843800@service.magazin66.de
SUMMARY:Ein Brückenschlag zwischen den Generationen
DESCRIPTION:
URL:https://service.magazin66.de/event/ein-brueckenschlag-zwischen-den-generationen/
LOCATION:BZ\, Gewerbemuseumsplatz 2\, Nürnberg\, 90403
CATEGORIES:Beratung, Vorträge und Workshops
ORGANIZER;CN="Alten-Akademie N%C3%BCrnberg e. V.":MAILTO:info@aakn.de
GEO:49.4513408;11.0831783
X-APPLE-STRUCTURED-LOCATION;VALUE=URI;X-ADDRESS=BZ Gewerbemuseumsplatz 2 Nürnberg 90403;X-APPLE-RADIUS=500;X-TITLE=Gewerbemuseumsplatz 2:geo:11.0831783,49.4513408
END:VEVENT
END:VCALENDAR