BEGIN:VCALENDAR
VERSION:2.0
PRODID:-//Service Magazin sechs+sechzig - ECPv6.15.18//NONSGML v1.0//EN
CALSCALE:GREGORIAN
METHOD:PUBLISH
X-WR-CALNAME:Service Magazin sechs+sechzig
X-ORIGINAL-URL:https://service.magazin66.de
X-WR-CALDESC:Veranstaltungen für Service Magazin sechs+sechzig
REFRESH-INTERVAL;VALUE=DURATION:PT1H
X-Robots-Tag:noindex
X-PUBLISHED-TTL:PT1H
BEGIN:VTIMEZONE
TZID:Europe/Berlin
BEGIN:DAYLIGHT
TZOFFSETFROM:+0100
TZOFFSETTO:+0200
TZNAME:CEST
DTSTART:20250330T010000
END:DAYLIGHT
BEGIN:STANDARD
TZOFFSETFROM:+0200
TZOFFSETTO:+0100
TZNAME:CET
DTSTART:20251026T010000
END:STANDARD
BEGIN:DAYLIGHT
TZOFFSETFROM:+0100
TZOFFSETTO:+0200
TZNAME:CEST
DTSTART:20260329T010000
END:DAYLIGHT
BEGIN:STANDARD
TZOFFSETFROM:+0200
TZOFFSETTO:+0100
TZNAME:CET
DTSTART:20261025T010000
END:STANDARD
BEGIN:DAYLIGHT
TZOFFSETFROM:+0100
TZOFFSETTO:+0200
TZNAME:CEST
DTSTART:20270328T010000
END:DAYLIGHT
BEGIN:STANDARD
TZOFFSETFROM:+0200
TZOFFSETTO:+0100
TZNAME:CET
DTSTART:20271031T010000
END:STANDARD
END:VTIMEZONE
BEGIN:VEVENT
DTSTART;TZID=Europe/Berlin:20260405T110000
DTEND;TZID=Europe/Berlin:20260405T120000
DTSTAMP:20260420T183031
CREATED:20251127T105455Z
LAST-MODIFIED:20260222T103107Z
UID:10001557-1775386800-1775390400@service.magazin66.de
SUMMARY:Familienführung für Groß und Klein
DESCRIPTION:Kunstgespräch für Kinder ab 3 Jahren aufwärts in Begleitung von Erwachsenen. \nJeden 1. Sonntag im Monat \nInfo: 0911 / 2402069\, nmn.de
URL:https://service.magazin66.de/event/familienfuehrung-fuer-gross-und-klein/2026-04-05/
LOCATION:Neues Museum Nürnberg\, Klarissenplatz\, Nürnberg\, 90402
CATEGORIES:Unterwegs mit Enkeln
GEO:49.4477957;11.0801801
X-APPLE-STRUCTURED-LOCATION;VALUE=URI;X-ADDRESS=Neues Museum Nürnberg Klarissenplatz Nürnberg 90402;X-APPLE-RADIUS=500;X-TITLE=Klarissenplatz:geo:11.0801801,49.4477957
END:VEVENT
END:VCALENDAR