BEGIN:VCALENDAR
VERSION:2.0
PRODID:-//Service Magazin sechs+sechzig - ECPv6.15.18//NONSGML v1.0//EN
CALSCALE:GREGORIAN
METHOD:PUBLISH
X-WR-CALNAME:Service Magazin sechs+sechzig
X-ORIGINAL-URL:https://service.magazin66.de
X-WR-CALDESC:Veranstaltungen für Service Magazin sechs+sechzig
REFRESH-INTERVAL;VALUE=DURATION:PT1H
X-Robots-Tag:noindex
X-PUBLISHED-TTL:PT1H
BEGIN:VTIMEZONE
TZID:Europe/Berlin
BEGIN:DAYLIGHT
TZOFFSETFROM:+0100
TZOFFSETTO:+0200
TZNAME:CEST
DTSTART:20250330T010000
END:DAYLIGHT
BEGIN:STANDARD
TZOFFSETFROM:+0200
TZOFFSETTO:+0100
TZNAME:CET
DTSTART:20251026T010000
END:STANDARD
BEGIN:DAYLIGHT
TZOFFSETFROM:+0100
TZOFFSETTO:+0200
TZNAME:CEST
DTSTART:20260329T010000
END:DAYLIGHT
BEGIN:STANDARD
TZOFFSETFROM:+0200
TZOFFSETTO:+0100
TZNAME:CET
DTSTART:20261025T010000
END:STANDARD
BEGIN:DAYLIGHT
TZOFFSETFROM:+0100
TZOFFSETTO:+0200
TZNAME:CEST
DTSTART:20270328T010000
END:DAYLIGHT
BEGIN:STANDARD
TZOFFSETFROM:+0200
TZOFFSETTO:+0100
TZNAME:CET
DTSTART:20271031T010000
END:STANDARD
END:VTIMEZONE
BEGIN:VEVENT
DTSTART;TZID=Europe/Berlin:20260312T170000
DTEND;TZID=Europe/Berlin:20260312T190000
DTSTAMP:20260420T181138
CREATED:20251128T113412Z
LAST-MODIFIED:20251128T113412Z
UID:10000659-1773334800-1773342000@service.magazin66.de
SUMMARY:Kegeln in Gebersdorf
DESCRIPTION:In der Sportgaststätte „Superb“ können wir unsere Treffsicherheit testen. Wer mag\, kann im Anschluss an die sportliche Aktivität ein kühles Getränk oder einen Imbiss genießen. Kosten: 2 Euro pro Person/Stunde für die Bahn. \nInfo/Anmeldung bei der Anmeldung bei der fübs: 0911 / 9741785
URL:https://service.magazin66.de/event/kegeln-in-gebersdorf/2026-03-12/
LOCATION:Sportgaststätte Superb\, Neumühlenweg 160\, Gebersdorf
CATEGORIES:Gesundheit und Sport
ORGANIZER;CN="f%C3%BCbs":MAILTO:fachstelle-fuebs@fuerth.de
GEO:49.4355463;10.9926415
X-APPLE-STRUCTURED-LOCATION;VALUE=URI;X-ADDRESS=Sportgaststätte Superb Neumühlenweg 160 Gebersdorf;X-APPLE-RADIUS=500;X-TITLE=Neumühlenweg 160:geo:10.9926415,49.4355463
END:VEVENT
END:VCALENDAR