BEGIN:VCALENDAR
VERSION:2.0
PRODID:-//Service Magazin sechs+sechzig - ECPv6.15.18//NONSGML v1.0//EN
CALSCALE:GREGORIAN
METHOD:PUBLISH
X-WR-CALNAME:Service Magazin sechs+sechzig
X-ORIGINAL-URL:https://service.magazin66.de
X-WR-CALDESC:Veranstaltungen für Service Magazin sechs+sechzig
REFRESH-INTERVAL;VALUE=DURATION:PT1H
X-Robots-Tag:noindex
X-PUBLISHED-TTL:PT1H
BEGIN:VTIMEZONE
TZID:Europe/Berlin
BEGIN:DAYLIGHT
TZOFFSETFROM:+0100
TZOFFSETTO:+0200
TZNAME:CEST
DTSTART:20250330T010000
END:DAYLIGHT
BEGIN:STANDARD
TZOFFSETFROM:+0200
TZOFFSETTO:+0100
TZNAME:CET
DTSTART:20251026T010000
END:STANDARD
BEGIN:DAYLIGHT
TZOFFSETFROM:+0100
TZOFFSETTO:+0200
TZNAME:CEST
DTSTART:20260329T010000
END:DAYLIGHT
BEGIN:STANDARD
TZOFFSETFROM:+0200
TZOFFSETTO:+0100
TZNAME:CET
DTSTART:20261025T010000
END:STANDARD
BEGIN:DAYLIGHT
TZOFFSETFROM:+0100
TZOFFSETTO:+0200
TZNAME:CEST
DTSTART:20270328T010000
END:DAYLIGHT
BEGIN:STANDARD
TZOFFSETFROM:+0200
TZOFFSETTO:+0100
TZNAME:CET
DTSTART:20271031T010000
END:STANDARD
END:VTIMEZONE
BEGIN:VEVENT
DTSTART;TZID=Europe/Berlin:20261220T100000
DTEND;TZID=Europe/Berlin:20261220T110000
DTSTAMP:20260420T084422
CREATED:20251128T163210Z
LAST-MODIFIED:20251128T163210Z
UID:10000804-1797760800-1797764400@service.magazin66.de
SUMMARY:Latschn und Ratschn
DESCRIPTION:Langsames Gehtempo\, 60 Minuten lang\, auf befestigten Wegen. Treffpunkt: Freitags auf dem Parkplatz „Neubaugasse am Markt“\, Pulverturmgasse 5\, Altdorf. \nEine Anmeldung ist nicht erforderlich – kommen Sie einfach vorbei!
URL:https://service.magazin66.de/event/latschn-und-ratschn/2026-12-20/
LOCATION:Parkplatz Neubaugasse am Markt\, Pulverturmgasse 5\, Altdorf\, 90518
CATEGORIES:Spaziergänge und Wanderungen
GEO:49.384052;11.355745
X-APPLE-STRUCTURED-LOCATION;VALUE=URI;X-ADDRESS=Parkplatz Neubaugasse am Markt Pulverturmgasse 5 Altdorf 90518;X-APPLE-RADIUS=500;X-TITLE=Pulverturmgasse 5:geo:11.355745,49.384052
END:VEVENT
END:VCALENDAR