BEGIN:VCALENDAR
VERSION:2.0
PRODID:-//Service Magazin sechs+sechzig - ECPv6.15.18//NONSGML v1.0//EN
CALSCALE:GREGORIAN
METHOD:PUBLISH
X-WR-CALNAME:Service Magazin sechs+sechzig
X-ORIGINAL-URL:https://service.magazin66.de
X-WR-CALDESC:Veranstaltungen für Service Magazin sechs+sechzig
REFRESH-INTERVAL;VALUE=DURATION:PT1H
X-Robots-Tag:noindex
X-PUBLISHED-TTL:PT1H
BEGIN:VTIMEZONE
TZID:Europe/Berlin
BEGIN:DAYLIGHT
TZOFFSETFROM:+0100
TZOFFSETTO:+0200
TZNAME:CEST
DTSTART:20250330T010000
END:DAYLIGHT
BEGIN:STANDARD
TZOFFSETFROM:+0200
TZOFFSETTO:+0100
TZNAME:CET
DTSTART:20251026T010000
END:STANDARD
BEGIN:DAYLIGHT
TZOFFSETFROM:+0100
TZOFFSETTO:+0200
TZNAME:CEST
DTSTART:20260329T010000
END:DAYLIGHT
BEGIN:STANDARD
TZOFFSETFROM:+0200
TZOFFSETTO:+0100
TZNAME:CET
DTSTART:20261025T010000
END:STANDARD
BEGIN:DAYLIGHT
TZOFFSETFROM:+0100
TZOFFSETTO:+0200
TZNAME:CEST
DTSTART:20270328T010000
END:DAYLIGHT
BEGIN:STANDARD
TZOFFSETFROM:+0200
TZOFFSETTO:+0100
TZNAME:CET
DTSTART:20271031T010000
END:STANDARD
END:VTIMEZONE
BEGIN:VEVENT
DTSTART;TZID=Europe/Berlin:20260222T100000
DTEND;TZID=Europe/Berlin:20260222T170000
DTSTAMP:20260420T230736
CREATED:20251125T125127Z
LAST-MODIFIED:20251125T125127Z
UID:2307-1771754400-1771779600@service.magazin66.de
SUMMARY:Lauf - Kunigundenberg - Dehnberg - Nuschelberg
DESCRIPTION:Treffpunkt 10:00 Uhr Nürnberg Hbf. Service Point\, VAG\nRundwanderweg\, ca. 14 km\, Einkehr\nRückkehr vorauss. 17:00 Uhr Hbf.\n\nInfo/Anmeldung: nuernberg-lorenz@49ontop.de
URL:https://service.magazin66.de/event/lauf-kunigundenberg-dehnberg-nuschelberg/
CATEGORIES:Spaziergänge und Wanderungen
ORGANIZER;CN="Gruppe 49 on top e. V.":MAILTO:nuernberg-lorenz@49ontop.de
END:VEVENT
END:VCALENDAR