BEGIN:VCALENDAR
VERSION:2.0
PRODID:-//Service Magazin sechs+sechzig - ECPv6.15.18//NONSGML v1.0//EN
CALSCALE:GREGORIAN
METHOD:PUBLISH
X-WR-CALNAME:Service Magazin sechs+sechzig
X-ORIGINAL-URL:https://service.magazin66.de
X-WR-CALDESC:Veranstaltungen für Service Magazin sechs+sechzig
REFRESH-INTERVAL;VALUE=DURATION:PT1H
X-Robots-Tag:noindex
X-PUBLISHED-TTL:PT1H
BEGIN:VTIMEZONE
TZID:Europe/Berlin
BEGIN:DAYLIGHT
TZOFFSETFROM:+0100
TZOFFSETTO:+0200
TZNAME:CEST
DTSTART:20250330T010000
END:DAYLIGHT
BEGIN:STANDARD
TZOFFSETFROM:+0200
TZOFFSETTO:+0100
TZNAME:CET
DTSTART:20251026T010000
END:STANDARD
BEGIN:DAYLIGHT
TZOFFSETFROM:+0100
TZOFFSETTO:+0200
TZNAME:CEST
DTSTART:20260329T010000
END:DAYLIGHT
BEGIN:STANDARD
TZOFFSETFROM:+0200
TZOFFSETTO:+0100
TZNAME:CET
DTSTART:20261025T010000
END:STANDARD
BEGIN:DAYLIGHT
TZOFFSETFROM:+0100
TZOFFSETTO:+0200
TZNAME:CEST
DTSTART:20270328T010000
END:DAYLIGHT
BEGIN:STANDARD
TZOFFSETFROM:+0200
TZOFFSETTO:+0100
TZNAME:CET
DTSTART:20271031T010000
END:STANDARD
END:VTIMEZONE
BEGIN:VEVENT
DTSTART;TZID=Europe/Berlin:20260204T123000
DTEND;TZID=Europe/Berlin:20260204T140000
DTSTAMP:20260420T193830
CREATED:20251128T163909Z
LAST-MODIFIED:20251128T163909Z
UID:10000808-1770208200-1770213600@service.magazin66.de
SUMMARY:Mittagsstammtisch 60+
DESCRIPTION:Der Mittagsstammtisch 60+ findet jeden 1. Mittwoch im Monat um 12:30 Uhr in der Alten Nagelschmiede am Oberen Markt statt.\nHier steht der Austausch in gemütlicher Runde bei einem gemeinsamen Mittagessen im Mittelpunkt.\nEine Anmeldung ist nicht erforderlich – kommen Sie einfach vorbei!
URL:https://service.magazin66.de/event/mittagsstammtisch-60/2026-02-04/
LOCATION:Alte Nagelschmiede\, Oberer Markt 13\, Altdorf\, 90518
CATEGORIES:Stammtische, Café und Seniorentreffs
GEO:49.3853038;11.3551508
X-APPLE-STRUCTURED-LOCATION;VALUE=URI;X-ADDRESS=Alte Nagelschmiede Oberer Markt 13 Altdorf 90518;X-APPLE-RADIUS=500;X-TITLE=Oberer Markt 13:geo:11.3551508,49.3853038
END:VEVENT
END:VCALENDAR