BEGIN:VCALENDAR
VERSION:2.0
PRODID:-//Service Magazin sechs+sechzig - ECPv6.15.18//NONSGML v1.0//EN
CALSCALE:GREGORIAN
METHOD:PUBLISH
X-WR-CALNAME:Service Magazin sechs+sechzig
X-ORIGINAL-URL:https://service.magazin66.de
X-WR-CALDESC:Veranstaltungen für Service Magazin sechs+sechzig
REFRESH-INTERVAL;VALUE=DURATION:PT1H
X-Robots-Tag:noindex
X-PUBLISHED-TTL:PT1H
BEGIN:VTIMEZONE
TZID:Europe/Berlin
BEGIN:DAYLIGHT
TZOFFSETFROM:+0100
TZOFFSETTO:+0200
TZNAME:CEST
DTSTART:20250330T010000
END:DAYLIGHT
BEGIN:STANDARD
TZOFFSETFROM:+0200
TZOFFSETTO:+0100
TZNAME:CET
DTSTART:20251026T010000
END:STANDARD
BEGIN:DAYLIGHT
TZOFFSETFROM:+0100
TZOFFSETTO:+0200
TZNAME:CEST
DTSTART:20260329T010000
END:DAYLIGHT
BEGIN:STANDARD
TZOFFSETFROM:+0200
TZOFFSETTO:+0100
TZNAME:CET
DTSTART:20261025T010000
END:STANDARD
BEGIN:DAYLIGHT
TZOFFSETFROM:+0100
TZOFFSETTO:+0200
TZNAME:CEST
DTSTART:20270328T010000
END:DAYLIGHT
BEGIN:STANDARD
TZOFFSETFROM:+0200
TZOFFSETTO:+0100
TZNAME:CET
DTSTART:20271031T010000
END:STANDARD
END:VTIMEZONE
BEGIN:VEVENT
DTSTART;TZID=Europe/Berlin:20260121T160000
DTEND;TZID=Europe/Berlin:20260121T180000
DTSTAMP:20260420T181140
CREATED:20251128T165844Z
LAST-MODIFIED:20251128T165844Z
UID:10000903-1769011200-1769018400@service.magazin66.de
SUMMARY:Seniorenkegeln in Altdorf
DESCRIPTION:Jeden 1. und 3. Mittwoch im Monat treffen sich Seniorinnen und Senioren zum Kegeln in der Gaststätte Sportpark\, Heumannstraße 5 in Altdorf\, jeweils von 16 bis 18 Uhr. Kostenbeitrag 3 Euro. Bitte Turnschuhe mitbringen. Eine Anmeldung ist nicht erforderlich – Gäste sind herzlich willkommen!\nWeitere Infos unter Tel. 09187 / 8164.
URL:https://service.magazin66.de/event/seniorenkegeln-in-altdorf-2/2026-01-21/
LOCATION:Gaststätte Sportpark\, Heumannstraße 5\, Altdorf\, 90518
CATEGORIES:Gesundheit und Sport
GEO:49.3856207;11.3616847
X-APPLE-STRUCTURED-LOCATION;VALUE=URI;X-ADDRESS=Gaststätte Sportpark Heumannstraße 5 Altdorf 90518;X-APPLE-RADIUS=500;X-TITLE=Heumannstraße 5:geo:11.3616847,49.3856207
END:VEVENT
END:VCALENDAR