BEGIN:VCALENDAR
VERSION:2.0
PRODID:-//Service Magazin sechs+sechzig - ECPv6.15.18//NONSGML v1.0//EN
CALSCALE:GREGORIAN
METHOD:PUBLISH
X-WR-CALNAME:Service Magazin sechs+sechzig
X-ORIGINAL-URL:https://service.magazin66.de
X-WR-CALDESC:Veranstaltungen für Service Magazin sechs+sechzig
REFRESH-INTERVAL;VALUE=DURATION:PT1H
X-Robots-Tag:noindex
X-PUBLISHED-TTL:PT1H
BEGIN:VTIMEZONE
TZID:Europe/Berlin
BEGIN:DAYLIGHT
TZOFFSETFROM:+0100
TZOFFSETTO:+0200
TZNAME:CEST
DTSTART:20250330T010000
END:DAYLIGHT
BEGIN:STANDARD
TZOFFSETFROM:+0200
TZOFFSETTO:+0100
TZNAME:CET
DTSTART:20251026T010000
END:STANDARD
BEGIN:DAYLIGHT
TZOFFSETFROM:+0100
TZOFFSETTO:+0200
TZNAME:CEST
DTSTART:20260329T010000
END:DAYLIGHT
BEGIN:STANDARD
TZOFFSETFROM:+0200
TZOFFSETTO:+0100
TZNAME:CET
DTSTART:20261025T010000
END:STANDARD
BEGIN:DAYLIGHT
TZOFFSETFROM:+0100
TZOFFSETTO:+0200
TZNAME:CEST
DTSTART:20270328T010000
END:DAYLIGHT
BEGIN:STANDARD
TZOFFSETFROM:+0200
TZOFFSETTO:+0100
TZNAME:CET
DTSTART:20271031T010000
END:STANDARD
END:VTIMEZONE
BEGIN:VEVENT
DTSTART;TZID=Europe/Berlin:20260307T090000
DTEND;TZID=Europe/Berlin:20260307T163000
DTSTAMP:20260420T225458
CREATED:20251125T125450Z
LAST-MODIFIED:20251125T125450Z
UID:2309-1772874000-1772901000@service.magazin66.de
SUMMARY:Von Heroldsberg nach Kalchreuth
DESCRIPTION:Wegstrecke ca. 13 km\, Einkehr \nTreffpunkt 09:00 Uhr Nürnberg Hbf. Service Point\, VAG \nRückkehr voraussichtlich 16:30 Uhr Nürnberg Hbf \nInfo/Anmeldung: nuernberg-lorenz@49ontop.de
URL:https://service.magazin66.de/event/von-heroldsberg-nach-kalchreuth/
CATEGORIES:Spaziergänge und Wanderungen
ORGANIZER;CN="Gruppe 49 on top e. V.":MAILTO:nuernberg-lorenz@49ontop.de
END:VEVENT
END:VCALENDAR