BEGIN:VCALENDAR
VERSION:2.0
PRODID:-//Service Magazin sechs+sechzig - ECPv6.15.18//NONSGML v1.0//EN
CALSCALE:GREGORIAN
METHOD:PUBLISH
X-WR-CALNAME:Service Magazin sechs+sechzig
X-ORIGINAL-URL:https://service.magazin66.de
X-WR-CALDESC:Veranstaltungen für Service Magazin sechs+sechzig
REFRESH-INTERVAL;VALUE=DURATION:PT1H
X-Robots-Tag:noindex
X-PUBLISHED-TTL:PT1H
BEGIN:VTIMEZONE
TZID:Europe/Berlin
BEGIN:DAYLIGHT
TZOFFSETFROM:+0100
TZOFFSETTO:+0200
TZNAME:CEST
DTSTART:20240331T010000
END:DAYLIGHT
BEGIN:STANDARD
TZOFFSETFROM:+0200
TZOFFSETTO:+0100
TZNAME:CET
DTSTART:20241027T010000
END:STANDARD
BEGIN:DAYLIGHT
TZOFFSETFROM:+0100
TZOFFSETTO:+0200
TZNAME:CEST
DTSTART:20250330T010000
END:DAYLIGHT
BEGIN:STANDARD
TZOFFSETFROM:+0200
TZOFFSETTO:+0100
TZNAME:CET
DTSTART:20251026T010000
END:STANDARD
BEGIN:DAYLIGHT
TZOFFSETFROM:+0100
TZOFFSETTO:+0200
TZNAME:CEST
DTSTART:20260329T010000
END:DAYLIGHT
BEGIN:STANDARD
TZOFFSETFROM:+0200
TZOFFSETTO:+0100
TZNAME:CET
DTSTART:20261025T010000
END:STANDARD
END:VTIMEZONE
BEGIN:VEVENT
DTSTART;TZID=Europe/Berlin:20251214T113000
DTEND;TZID=Europe/Berlin:20251214T163000
DTSTAMP:20260420T173117
CREATED:20251128T140257Z
LAST-MODIFIED:20251128T140425Z
UID:2475-1765711800-1765729800@service.magazin66.de
SUMMARY:Weihnachten früher
DESCRIPTION:Hier wird gezeigt\, wie Weihnachten in vergangenen Jahrzehnten gefeiert wurde und welche Bräuche damals zum Fest gehörten. Um 11.30\, 13.00 und 15.00 Uhr finden im historischen Körner’schen Haus Führungen statt\, in denen Geschichten und Traditionen rund um Heiligabend vermittelt werden. Die festlich geschmückte 50er-Jahre-Wohnung ermöglicht zudem einen lebendigen Blick auf das Weihnachtsgefühl der Wirtschaftswunderzeit. An diesem Tag gelten die regulären Eintrittspreise\, eine Anmeldung ist nicht erforderlich.
URL:https://service.magazin66.de/event/weihnachten-frueher/
LOCATION:Industriemuseum Lauf\, Sichartstr. 5-20\, Lauf\, 91207
CATEGORIES:Unterwegs mit Enkeln
GEO:49.5100129;11.2778821
X-APPLE-STRUCTURED-LOCATION;VALUE=URI;X-ADDRESS=Industriemuseum Lauf Sichartstr. 5-20 Lauf 91207;X-APPLE-RADIUS=500;X-TITLE=Sichartstr. 5-20:geo:11.2778821,49.5100129
END:VEVENT
END:VCALENDAR