BEGIN:VCALENDAR
VERSION:2.0
PRODID:-//Service Magazin sechs+sechzig - ECPv6.15.18//NONSGML v1.0//EN
CALSCALE:GREGORIAN
METHOD:PUBLISH
X-WR-CALNAME:Service Magazin sechs+sechzig
X-ORIGINAL-URL:https://service.magazin66.de
X-WR-CALDESC:Veranstaltungen für Service Magazin sechs+sechzig
REFRESH-INTERVAL;VALUE=DURATION:PT1H
X-Robots-Tag:noindex
X-PUBLISHED-TTL:PT1H
BEGIN:VTIMEZONE
TZID:Europe/Berlin
BEGIN:DAYLIGHT
TZOFFSETFROM:+0100
TZOFFSETTO:+0200
TZNAME:CEST
DTSTART:20250330T010000
END:DAYLIGHT
BEGIN:STANDARD
TZOFFSETFROM:+0200
TZOFFSETTO:+0100
TZNAME:CET
DTSTART:20251026T010000
END:STANDARD
BEGIN:DAYLIGHT
TZOFFSETFROM:+0100
TZOFFSETTO:+0200
TZNAME:CEST
DTSTART:20260329T010000
END:DAYLIGHT
BEGIN:STANDARD
TZOFFSETFROM:+0200
TZOFFSETTO:+0100
TZNAME:CET
DTSTART:20261025T010000
END:STANDARD
BEGIN:DAYLIGHT
TZOFFSETFROM:+0100
TZOFFSETTO:+0200
TZNAME:CEST
DTSTART:20270328T010000
END:DAYLIGHT
BEGIN:STANDARD
TZOFFSETFROM:+0200
TZOFFSETTO:+0100
TZNAME:CET
DTSTART:20271031T010000
END:STANDARD
END:VTIMEZONE
BEGIN:VEVENT
DTSTART;TZID=Europe/Berlin:20260121T090000
DTEND;TZID=Europe/Berlin:20260121T143000
DTSTAMP:20260420T200508
CREATED:20251125T132817Z
LAST-MODIFIED:20251125T132817Z
UID:2321-1768986000-1769005800@service.magazin66.de
SUMMARY:Zum Messerschleifer
DESCRIPTION:Reichelsdorf Süd – Eibach (der Gastwirt schleift Messer) – Stein Kirche – Altenberg \n12 Kilometer\, Gehzeit ca. 4 Stunden \nTreffpunkt 9:05 Uhr U-Bahn Röthenbach (Abf 9:19 Bus61) \nWanderführer  Kurt Frischholz\nTelefon: 0911-3000381\nMobil-Telefon: 0160-94843453\nE-Mail: wanderkurt0308@t-online.de \nBei einer Zeche ab 20 € ist das Messerschleifen frei\, \n 
URL:https://service.magazin66.de/event/zum-messerschleifer/
CATEGORIES:Spaziergänge und Wanderungen
ORGANIZER;CN="Fr%C3%A4nkischer Wanderverein N%C3%BCrnberg e. V.":MAILTO:info@fwv-nuernberg.de
END:VEVENT
END:VCALENDAR