BEGIN:VCALENDAR
VERSION:2.0
PRODID:-//Service Magazin sechs+sechzig - ECPv6.15.18//NONSGML v1.0//EN
CALSCALE:GREGORIAN
METHOD:PUBLISH
X-WR-CALNAME:Service Magazin sechs+sechzig
X-ORIGINAL-URL:https://service.magazin66.de
X-WR-CALDESC:Veranstaltungen für Service Magazin sechs+sechzig
REFRESH-INTERVAL;VALUE=DURATION:PT1H
X-Robots-Tag:noindex
X-PUBLISHED-TTL:PT1H
BEGIN:VTIMEZONE
TZID:Europe/Berlin
BEGIN:DAYLIGHT
TZOFFSETFROM:+0100
TZOFFSETTO:+0200
TZNAME:CEST
DTSTART:20250330T010000
END:DAYLIGHT
BEGIN:STANDARD
TZOFFSETFROM:+0200
TZOFFSETTO:+0100
TZNAME:CET
DTSTART:20251026T010000
END:STANDARD
BEGIN:DAYLIGHT
TZOFFSETFROM:+0100
TZOFFSETTO:+0200
TZNAME:CEST
DTSTART:20260329T010000
END:DAYLIGHT
BEGIN:STANDARD
TZOFFSETFROM:+0200
TZOFFSETTO:+0100
TZNAME:CET
DTSTART:20261025T010000
END:STANDARD
BEGIN:DAYLIGHT
TZOFFSETFROM:+0100
TZOFFSETTO:+0200
TZNAME:CEST
DTSTART:20270328T010000
END:DAYLIGHT
BEGIN:STANDARD
TZOFFSETFROM:+0200
TZOFFSETTO:+0100
TZNAME:CET
DTSTART:20271031T010000
END:STANDARD
END:VTIMEZONE
BEGIN:VEVENT
DTSTART;TZID=Europe/Berlin:20260420T143000
DTEND;TZID=Europe/Berlin:20260420T160000
DTSTAMP:20260420T065123
CREATED:20251124T151411Z
LAST-MODIFIED:20260222T135535Z
UID:10001583-1776695400-1776700800@service.magazin66.de
SUMMARY:Plauder-Café
DESCRIPTION:Tee\, Kaffee\, Infos über Angebote im Stadtteil und Beratung
URL:https://service.magazin66.de/event/plauder-cafe/2026-04-20/
LOCATION:MGH Awothek\, Karl-Bröger-Straße 9\, Nürnberg\, 90459
CATEGORIES:Stammtische, Café und Seniorentreffs
ORGANIZER;CN="AWO Kreisverband N%C3%BCrnberg e.V.":MAILTO:mgh-assistenz@awo-nbg.de
GEO:49.4436413;11.0785623
X-APPLE-STRUCTURED-LOCATION;VALUE=URI;X-ADDRESS=MGH Awothek Karl-Bröger-Straße 9 Nürnberg 90459;X-APPLE-RADIUS=500;X-TITLE=Karl-Bröger-Straße 9:geo:11.0785623,49.4436413
END:VEVENT
BEGIN:VEVENT
DTSTART;TZID=Europe/Berlin:20260427T143000
DTEND;TZID=Europe/Berlin:20260427T160000
DTSTAMP:20260420T065123
CREATED:20251124T151411Z
LAST-MODIFIED:20260222T135535Z
UID:10001584-1777300200-1777305600@service.magazin66.de
SUMMARY:Plauder-Café
DESCRIPTION:Tee\, Kaffee\, Infos über Angebote im Stadtteil und Beratung
URL:https://service.magazin66.de/event/plauder-cafe/2026-04-27/
LOCATION:MGH Awothek\, Karl-Bröger-Straße 9\, Nürnberg\, 90459
CATEGORIES:Stammtische, Café und Seniorentreffs
ORGANIZER;CN="AWO Kreisverband N%C3%BCrnberg e.V.":MAILTO:mgh-assistenz@awo-nbg.de
GEO:49.4436413;11.0785623
X-APPLE-STRUCTURED-LOCATION;VALUE=URI;X-ADDRESS=MGH Awothek Karl-Bröger-Straße 9 Nürnberg 90459;X-APPLE-RADIUS=500;X-TITLE=Karl-Bröger-Straße 9:geo:11.0785623,49.4436413
END:VEVENT
BEGIN:VEVENT
DTSTART;TZID=Europe/Berlin:20260504T143000
DTEND;TZID=Europe/Berlin:20260504T160000
DTSTAMP:20260420T065123
CREATED:20251124T151411Z
LAST-MODIFIED:20260222T135535Z
UID:10001585-1777905000-1777910400@service.magazin66.de
SUMMARY:Plauder-Café
DESCRIPTION:Tee\, Kaffee\, Infos über Angebote im Stadtteil und Beratung
URL:https://service.magazin66.de/event/plauder-cafe/2026-05-04/
LOCATION:MGH Awothek\, Karl-Bröger-Straße 9\, Nürnberg\, 90459
CATEGORIES:Stammtische, Café und Seniorentreffs
ORGANIZER;CN="AWO Kreisverband N%C3%BCrnberg e.V.":MAILTO:mgh-assistenz@awo-nbg.de
GEO:49.4436413;11.0785623
X-APPLE-STRUCTURED-LOCATION;VALUE=URI;X-ADDRESS=MGH Awothek Karl-Bröger-Straße 9 Nürnberg 90459;X-APPLE-RADIUS=500;X-TITLE=Karl-Bröger-Straße 9:geo:11.0785623,49.4436413
END:VEVENT
BEGIN:VEVENT
DTSTART;TZID=Europe/Berlin:20260511T143000
DTEND;TZID=Europe/Berlin:20260511T160000
DTSTAMP:20260420T065123
CREATED:20251124T151411Z
LAST-MODIFIED:20260222T135535Z
UID:10001586-1778509800-1778515200@service.magazin66.de
SUMMARY:Plauder-Café
DESCRIPTION:Tee\, Kaffee\, Infos über Angebote im Stadtteil und Beratung
URL:https://service.magazin66.de/event/plauder-cafe/2026-05-11/
LOCATION:MGH Awothek\, Karl-Bröger-Straße 9\, Nürnberg\, 90459
CATEGORIES:Stammtische, Café und Seniorentreffs
ORGANIZER;CN="AWO Kreisverband N%C3%BCrnberg e.V.":MAILTO:mgh-assistenz@awo-nbg.de
GEO:49.4436413;11.0785623
X-APPLE-STRUCTURED-LOCATION;VALUE=URI;X-ADDRESS=MGH Awothek Karl-Bröger-Straße 9 Nürnberg 90459;X-APPLE-RADIUS=500;X-TITLE=Karl-Bröger-Straße 9:geo:11.0785623,49.4436413
END:VEVENT
BEGIN:VEVENT
DTSTART;TZID=Europe/Berlin:20260518T143000
DTEND;TZID=Europe/Berlin:20260518T160000
DTSTAMP:20260420T065123
CREATED:20251124T151411Z
LAST-MODIFIED:20260222T135535Z
UID:10001587-1779114600-1779120000@service.magazin66.de
SUMMARY:Plauder-Café
DESCRIPTION:Tee\, Kaffee\, Infos über Angebote im Stadtteil und Beratung
URL:https://service.magazin66.de/event/plauder-cafe/2026-05-18/
LOCATION:MGH Awothek\, Karl-Bröger-Straße 9\, Nürnberg\, 90459
CATEGORIES:Stammtische, Café und Seniorentreffs
ORGANIZER;CN="AWO Kreisverband N%C3%BCrnberg e.V.":MAILTO:mgh-assistenz@awo-nbg.de
GEO:49.4436413;11.0785623
X-APPLE-STRUCTURED-LOCATION;VALUE=URI;X-ADDRESS=MGH Awothek Karl-Bröger-Straße 9 Nürnberg 90459;X-APPLE-RADIUS=500;X-TITLE=Karl-Bröger-Straße 9:geo:11.0785623,49.4436413
END:VEVENT
BEGIN:VEVENT
DTSTART;TZID=Europe/Berlin:20260525T143000
DTEND;TZID=Europe/Berlin:20260525T160000
DTSTAMP:20260420T065123
CREATED:20251124T151411Z
LAST-MODIFIED:20260222T135535Z
UID:10001588-1779719400-1779724800@service.magazin66.de
SUMMARY:Plauder-Café
DESCRIPTION:Tee\, Kaffee\, Infos über Angebote im Stadtteil und Beratung
URL:https://service.magazin66.de/event/plauder-cafe/2026-05-25/
LOCATION:MGH Awothek\, Karl-Bröger-Straße 9\, Nürnberg\, 90459
CATEGORIES:Stammtische, Café und Seniorentreffs
ORGANIZER;CN="AWO Kreisverband N%C3%BCrnberg e.V.":MAILTO:mgh-assistenz@awo-nbg.de
GEO:49.4436413;11.0785623
X-APPLE-STRUCTURED-LOCATION;VALUE=URI;X-ADDRESS=MGH Awothek Karl-Bröger-Straße 9 Nürnberg 90459;X-APPLE-RADIUS=500;X-TITLE=Karl-Bröger-Straße 9:geo:11.0785623,49.4436413
END:VEVENT
BEGIN:VEVENT
DTSTART;TZID=Europe/Berlin:20260601T143000
DTEND;TZID=Europe/Berlin:20260601T160000
DTSTAMP:20260420T065123
CREATED:20251124T151411Z
LAST-MODIFIED:20260222T135535Z
UID:10001589-1780324200-1780329600@service.magazin66.de
SUMMARY:Plauder-Café
DESCRIPTION:Tee\, Kaffee\, Infos über Angebote im Stadtteil und Beratung
URL:https://service.magazin66.de/event/plauder-cafe/2026-06-01/
LOCATION:MGH Awothek\, Karl-Bröger-Straße 9\, Nürnberg\, 90459
CATEGORIES:Stammtische, Café und Seniorentreffs
ORGANIZER;CN="AWO Kreisverband N%C3%BCrnberg e.V.":MAILTO:mgh-assistenz@awo-nbg.de
GEO:49.4436413;11.0785623
X-APPLE-STRUCTURED-LOCATION;VALUE=URI;X-ADDRESS=MGH Awothek Karl-Bröger-Straße 9 Nürnberg 90459;X-APPLE-RADIUS=500;X-TITLE=Karl-Bröger-Straße 9:geo:11.0785623,49.4436413
END:VEVENT
BEGIN:VEVENT
DTSTART;TZID=Europe/Berlin:20260608T143000
DTEND;TZID=Europe/Berlin:20260608T160000
DTSTAMP:20260420T065123
CREATED:20251124T151411Z
LAST-MODIFIED:20260222T135535Z
UID:10001590-1780929000-1780934400@service.magazin66.de
SUMMARY:Plauder-Café
DESCRIPTION:Tee\, Kaffee\, Infos über Angebote im Stadtteil und Beratung
URL:https://service.magazin66.de/event/plauder-cafe/2026-06-08/
LOCATION:MGH Awothek\, Karl-Bröger-Straße 9\, Nürnberg\, 90459
CATEGORIES:Stammtische, Café und Seniorentreffs
ORGANIZER;CN="AWO Kreisverband N%C3%BCrnberg e.V.":MAILTO:mgh-assistenz@awo-nbg.de
GEO:49.4436413;11.0785623
X-APPLE-STRUCTURED-LOCATION;VALUE=URI;X-ADDRESS=MGH Awothek Karl-Bröger-Straße 9 Nürnberg 90459;X-APPLE-RADIUS=500;X-TITLE=Karl-Bröger-Straße 9:geo:11.0785623,49.4436413
END:VEVENT
BEGIN:VEVENT
DTSTART;TZID=Europe/Berlin:20260615T143000
DTEND;TZID=Europe/Berlin:20260615T160000
DTSTAMP:20260420T065123
CREATED:20251124T151411Z
LAST-MODIFIED:20260222T135535Z
UID:10001591-1781533800-1781539200@service.magazin66.de
SUMMARY:Plauder-Café
DESCRIPTION:Tee\, Kaffee\, Infos über Angebote im Stadtteil und Beratung
URL:https://service.magazin66.de/event/plauder-cafe/2026-06-15/
LOCATION:MGH Awothek\, Karl-Bröger-Straße 9\, Nürnberg\, 90459
CATEGORIES:Stammtische, Café und Seniorentreffs
ORGANIZER;CN="AWO Kreisverband N%C3%BCrnberg e.V.":MAILTO:mgh-assistenz@awo-nbg.de
GEO:49.4436413;11.0785623
X-APPLE-STRUCTURED-LOCATION;VALUE=URI;X-ADDRESS=MGH Awothek Karl-Bröger-Straße 9 Nürnberg 90459;X-APPLE-RADIUS=500;X-TITLE=Karl-Bröger-Straße 9:geo:11.0785623,49.4436413
END:VEVENT
BEGIN:VEVENT
DTSTART;TZID=Europe/Berlin:20260622T143000
DTEND;TZID=Europe/Berlin:20260622T160000
DTSTAMP:20260420T065123
CREATED:20251124T151411Z
LAST-MODIFIED:20260222T135535Z
UID:10001592-1782138600-1782144000@service.magazin66.de
SUMMARY:Plauder-Café
DESCRIPTION:Tee\, Kaffee\, Infos über Angebote im Stadtteil und Beratung
URL:https://service.magazin66.de/event/plauder-cafe/2026-06-22/
LOCATION:MGH Awothek\, Karl-Bröger-Straße 9\, Nürnberg\, 90459
CATEGORIES:Stammtische, Café und Seniorentreffs
ORGANIZER;CN="AWO Kreisverband N%C3%BCrnberg e.V.":MAILTO:mgh-assistenz@awo-nbg.de
GEO:49.4436413;11.0785623
X-APPLE-STRUCTURED-LOCATION;VALUE=URI;X-ADDRESS=MGH Awothek Karl-Bröger-Straße 9 Nürnberg 90459;X-APPLE-RADIUS=500;X-TITLE=Karl-Bröger-Straße 9:geo:11.0785623,49.4436413
END:VEVENT
BEGIN:VEVENT
DTSTART;TZID=Europe/Berlin:20260629T143000
DTEND;TZID=Europe/Berlin:20260629T160000
DTSTAMP:20260420T065123
CREATED:20251124T151411Z
LAST-MODIFIED:20260222T135535Z
UID:10001593-1782743400-1782748800@service.magazin66.de
SUMMARY:Plauder-Café
DESCRIPTION:Tee\, Kaffee\, Infos über Angebote im Stadtteil und Beratung
URL:https://service.magazin66.de/event/plauder-cafe/2026-06-29/
LOCATION:MGH Awothek\, Karl-Bröger-Straße 9\, Nürnberg\, 90459
CATEGORIES:Stammtische, Café und Seniorentreffs
ORGANIZER;CN="AWO Kreisverband N%C3%BCrnberg e.V.":MAILTO:mgh-assistenz@awo-nbg.de
GEO:49.4436413;11.0785623
X-APPLE-STRUCTURED-LOCATION;VALUE=URI;X-ADDRESS=MGH Awothek Karl-Bröger-Straße 9 Nürnberg 90459;X-APPLE-RADIUS=500;X-TITLE=Karl-Bröger-Straße 9:geo:11.0785623,49.4436413
END:VEVENT
BEGIN:VEVENT
DTSTART;TZID=Europe/Berlin:20260706T143000
DTEND;TZID=Europe/Berlin:20260706T160000
DTSTAMP:20260420T065123
CREATED:20251124T151411Z
LAST-MODIFIED:20260222T135535Z
UID:10001594-1783348200-1783353600@service.magazin66.de
SUMMARY:Plauder-Café
DESCRIPTION:Tee\, Kaffee\, Infos über Angebote im Stadtteil und Beratung
URL:https://service.magazin66.de/event/plauder-cafe/2026-07-06/
LOCATION:MGH Awothek\, Karl-Bröger-Straße 9\, Nürnberg\, 90459
CATEGORIES:Stammtische, Café und Seniorentreffs
ORGANIZER;CN="AWO Kreisverband N%C3%BCrnberg e.V.":MAILTO:mgh-assistenz@awo-nbg.de
GEO:49.4436413;11.0785623
X-APPLE-STRUCTURED-LOCATION;VALUE=URI;X-ADDRESS=MGH Awothek Karl-Bröger-Straße 9 Nürnberg 90459;X-APPLE-RADIUS=500;X-TITLE=Karl-Bröger-Straße 9:geo:11.0785623,49.4436413
END:VEVENT
BEGIN:VEVENT
DTSTART;TZID=Europe/Berlin:20260713T143000
DTEND;TZID=Europe/Berlin:20260713T160000
DTSTAMP:20260420T065123
CREATED:20251124T151411Z
LAST-MODIFIED:20260222T135535Z
UID:10001595-1783953000-1783958400@service.magazin66.de
SUMMARY:Plauder-Café
DESCRIPTION:Tee\, Kaffee\, Infos über Angebote im Stadtteil und Beratung
URL:https://service.magazin66.de/event/plauder-cafe/2026-07-13/
LOCATION:MGH Awothek\, Karl-Bröger-Straße 9\, Nürnberg\, 90459
CATEGORIES:Stammtische, Café und Seniorentreffs
ORGANIZER;CN="AWO Kreisverband N%C3%BCrnberg e.V.":MAILTO:mgh-assistenz@awo-nbg.de
GEO:49.4436413;11.0785623
X-APPLE-STRUCTURED-LOCATION;VALUE=URI;X-ADDRESS=MGH Awothek Karl-Bröger-Straße 9 Nürnberg 90459;X-APPLE-RADIUS=500;X-TITLE=Karl-Bröger-Straße 9:geo:11.0785623,49.4436413
END:VEVENT
BEGIN:VEVENT
DTSTART;TZID=Europe/Berlin:20260720T143000
DTEND;TZID=Europe/Berlin:20260720T160000
DTSTAMP:20260420T065123
CREATED:20251124T151411Z
LAST-MODIFIED:20260222T135535Z
UID:10001596-1784557800-1784563200@service.magazin66.de
SUMMARY:Plauder-Café
DESCRIPTION:Tee\, Kaffee\, Infos über Angebote im Stadtteil und Beratung
URL:https://service.magazin66.de/event/plauder-cafe/2026-07-20/
LOCATION:MGH Awothek\, Karl-Bröger-Straße 9\, Nürnberg\, 90459
CATEGORIES:Stammtische, Café und Seniorentreffs
ORGANIZER;CN="AWO Kreisverband N%C3%BCrnberg e.V.":MAILTO:mgh-assistenz@awo-nbg.de
GEO:49.4436413;11.0785623
X-APPLE-STRUCTURED-LOCATION;VALUE=URI;X-ADDRESS=MGH Awothek Karl-Bröger-Straße 9 Nürnberg 90459;X-APPLE-RADIUS=500;X-TITLE=Karl-Bröger-Straße 9:geo:11.0785623,49.4436413
END:VEVENT
BEGIN:VEVENT
DTSTART;TZID=Europe/Berlin:20260727T143000
DTEND;TZID=Europe/Berlin:20260727T160000
DTSTAMP:20260420T065123
CREATED:20251124T151411Z
LAST-MODIFIED:20260222T135535Z
UID:10001597-1785162600-1785168000@service.magazin66.de
SUMMARY:Plauder-Café
DESCRIPTION:Tee\, Kaffee\, Infos über Angebote im Stadtteil und Beratung
URL:https://service.magazin66.de/event/plauder-cafe/2026-07-27/
LOCATION:MGH Awothek\, Karl-Bröger-Straße 9\, Nürnberg\, 90459
CATEGORIES:Stammtische, Café und Seniorentreffs
ORGANIZER;CN="AWO Kreisverband N%C3%BCrnberg e.V.":MAILTO:mgh-assistenz@awo-nbg.de
GEO:49.4436413;11.0785623
X-APPLE-STRUCTURED-LOCATION;VALUE=URI;X-ADDRESS=MGH Awothek Karl-Bröger-Straße 9 Nürnberg 90459;X-APPLE-RADIUS=500;X-TITLE=Karl-Bröger-Straße 9:geo:11.0785623,49.4436413
END:VEVENT
BEGIN:VEVENT
DTSTART;TZID=Europe/Berlin:20260803T143000
DTEND;TZID=Europe/Berlin:20260803T160000
DTSTAMP:20260420T065123
CREATED:20251124T151411Z
LAST-MODIFIED:20260222T135535Z
UID:10001598-1785767400-1785772800@service.magazin66.de
SUMMARY:Plauder-Café
DESCRIPTION:Tee\, Kaffee\, Infos über Angebote im Stadtteil und Beratung
URL:https://service.magazin66.de/event/plauder-cafe/2026-08-03/
LOCATION:MGH Awothek\, Karl-Bröger-Straße 9\, Nürnberg\, 90459
CATEGORIES:Stammtische, Café und Seniorentreffs
ORGANIZER;CN="AWO Kreisverband N%C3%BCrnberg e.V.":MAILTO:mgh-assistenz@awo-nbg.de
GEO:49.4436413;11.0785623
X-APPLE-STRUCTURED-LOCATION;VALUE=URI;X-ADDRESS=MGH Awothek Karl-Bröger-Straße 9 Nürnberg 90459;X-APPLE-RADIUS=500;X-TITLE=Karl-Bröger-Straße 9:geo:11.0785623,49.4436413
END:VEVENT
BEGIN:VEVENT
DTSTART;TZID=Europe/Berlin:20260810T143000
DTEND;TZID=Europe/Berlin:20260810T160000
DTSTAMP:20260420T065123
CREATED:20251124T151411Z
LAST-MODIFIED:20260222T135535Z
UID:10001599-1786372200-1786377600@service.magazin66.de
SUMMARY:Plauder-Café
DESCRIPTION:Tee\, Kaffee\, Infos über Angebote im Stadtteil und Beratung
URL:https://service.magazin66.de/event/plauder-cafe/2026-08-10/
LOCATION:MGH Awothek\, Karl-Bröger-Straße 9\, Nürnberg\, 90459
CATEGORIES:Stammtische, Café und Seniorentreffs
ORGANIZER;CN="AWO Kreisverband N%C3%BCrnberg e.V.":MAILTO:mgh-assistenz@awo-nbg.de
GEO:49.4436413;11.0785623
X-APPLE-STRUCTURED-LOCATION;VALUE=URI;X-ADDRESS=MGH Awothek Karl-Bröger-Straße 9 Nürnberg 90459;X-APPLE-RADIUS=500;X-TITLE=Karl-Bröger-Straße 9:geo:11.0785623,49.4436413
END:VEVENT
BEGIN:VEVENT
DTSTART;TZID=Europe/Berlin:20260817T143000
DTEND;TZID=Europe/Berlin:20260817T160000
DTSTAMP:20260420T065123
CREATED:20251124T151411Z
LAST-MODIFIED:20260222T135535Z
UID:10001600-1786977000-1786982400@service.magazin66.de
SUMMARY:Plauder-Café
DESCRIPTION:Tee\, Kaffee\, Infos über Angebote im Stadtteil und Beratung
URL:https://service.magazin66.de/event/plauder-cafe/2026-08-17/
LOCATION:MGH Awothek\, Karl-Bröger-Straße 9\, Nürnberg\, 90459
CATEGORIES:Stammtische, Café und Seniorentreffs
ORGANIZER;CN="AWO Kreisverband N%C3%BCrnberg e.V.":MAILTO:mgh-assistenz@awo-nbg.de
GEO:49.4436413;11.0785623
X-APPLE-STRUCTURED-LOCATION;VALUE=URI;X-ADDRESS=MGH Awothek Karl-Bröger-Straße 9 Nürnberg 90459;X-APPLE-RADIUS=500;X-TITLE=Karl-Bröger-Straße 9:geo:11.0785623,49.4436413
END:VEVENT
BEGIN:VEVENT
DTSTART;TZID=Europe/Berlin:20260824T143000
DTEND;TZID=Europe/Berlin:20260824T160000
DTSTAMP:20260420T065123
CREATED:20251124T151411Z
LAST-MODIFIED:20260222T135535Z
UID:10001601-1787581800-1787587200@service.magazin66.de
SUMMARY:Plauder-Café
DESCRIPTION:Tee\, Kaffee\, Infos über Angebote im Stadtteil und Beratung
URL:https://service.magazin66.de/event/plauder-cafe/2026-08-24/
LOCATION:MGH Awothek\, Karl-Bröger-Straße 9\, Nürnberg\, 90459
CATEGORIES:Stammtische, Café und Seniorentreffs
ORGANIZER;CN="AWO Kreisverband N%C3%BCrnberg e.V.":MAILTO:mgh-assistenz@awo-nbg.de
GEO:49.4436413;11.0785623
X-APPLE-STRUCTURED-LOCATION;VALUE=URI;X-ADDRESS=MGH Awothek Karl-Bröger-Straße 9 Nürnberg 90459;X-APPLE-RADIUS=500;X-TITLE=Karl-Bröger-Straße 9:geo:11.0785623,49.4436413
END:VEVENT
BEGIN:VEVENT
DTSTART;TZID=Europe/Berlin:20260831T143000
DTEND;TZID=Europe/Berlin:20260831T160000
DTSTAMP:20260420T065123
CREATED:20251124T151411Z
LAST-MODIFIED:20260222T135535Z
UID:10001602-1788186600-1788192000@service.magazin66.de
SUMMARY:Plauder-Café
DESCRIPTION:Tee\, Kaffee\, Infos über Angebote im Stadtteil und Beratung
URL:https://service.magazin66.de/event/plauder-cafe/2026-08-31/
LOCATION:MGH Awothek\, Karl-Bröger-Straße 9\, Nürnberg\, 90459
CATEGORIES:Stammtische, Café und Seniorentreffs
ORGANIZER;CN="AWO Kreisverband N%C3%BCrnberg e.V.":MAILTO:mgh-assistenz@awo-nbg.de
GEO:49.4436413;11.0785623
X-APPLE-STRUCTURED-LOCATION;VALUE=URI;X-ADDRESS=MGH Awothek Karl-Bröger-Straße 9 Nürnberg 90459;X-APPLE-RADIUS=500;X-TITLE=Karl-Bröger-Straße 9:geo:11.0785623,49.4436413
END:VEVENT
BEGIN:VEVENT
DTSTART;TZID=Europe/Berlin:20260907T143000
DTEND;TZID=Europe/Berlin:20260907T160000
DTSTAMP:20260420T065123
CREATED:20251124T151411Z
LAST-MODIFIED:20260222T135535Z
UID:10001603-1788791400-1788796800@service.magazin66.de
SUMMARY:Plauder-Café
DESCRIPTION:Tee\, Kaffee\, Infos über Angebote im Stadtteil und Beratung
URL:https://service.magazin66.de/event/plauder-cafe/2026-09-07/
LOCATION:MGH Awothek\, Karl-Bröger-Straße 9\, Nürnberg\, 90459
CATEGORIES:Stammtische, Café und Seniorentreffs
ORGANIZER;CN="AWO Kreisverband N%C3%BCrnberg e.V.":MAILTO:mgh-assistenz@awo-nbg.de
GEO:49.4436413;11.0785623
X-APPLE-STRUCTURED-LOCATION;VALUE=URI;X-ADDRESS=MGH Awothek Karl-Bröger-Straße 9 Nürnberg 90459;X-APPLE-RADIUS=500;X-TITLE=Karl-Bröger-Straße 9:geo:11.0785623,49.4436413
END:VEVENT
BEGIN:VEVENT
DTSTART;TZID=Europe/Berlin:20260914T143000
DTEND;TZID=Europe/Berlin:20260914T160000
DTSTAMP:20260420T065123
CREATED:20251124T151411Z
LAST-MODIFIED:20260222T135535Z
UID:10001604-1789396200-1789401600@service.magazin66.de
SUMMARY:Plauder-Café
DESCRIPTION:Tee\, Kaffee\, Infos über Angebote im Stadtteil und Beratung
URL:https://service.magazin66.de/event/plauder-cafe/2026-09-14/
LOCATION:MGH Awothek\, Karl-Bröger-Straße 9\, Nürnberg\, 90459
CATEGORIES:Stammtische, Café und Seniorentreffs
ORGANIZER;CN="AWO Kreisverband N%C3%BCrnberg e.V.":MAILTO:mgh-assistenz@awo-nbg.de
GEO:49.4436413;11.0785623
X-APPLE-STRUCTURED-LOCATION;VALUE=URI;X-ADDRESS=MGH Awothek Karl-Bröger-Straße 9 Nürnberg 90459;X-APPLE-RADIUS=500;X-TITLE=Karl-Bröger-Straße 9:geo:11.0785623,49.4436413
END:VEVENT
BEGIN:VEVENT
DTSTART;TZID=Europe/Berlin:20260921T143000
DTEND;TZID=Europe/Berlin:20260921T160000
DTSTAMP:20260420T065123
CREATED:20251124T151411Z
LAST-MODIFIED:20260222T135535Z
UID:10001605-1790001000-1790006400@service.magazin66.de
SUMMARY:Plauder-Café
DESCRIPTION:Tee\, Kaffee\, Infos über Angebote im Stadtteil und Beratung
URL:https://service.magazin66.de/event/plauder-cafe/2026-09-21/
LOCATION:MGH Awothek\, Karl-Bröger-Straße 9\, Nürnberg\, 90459
CATEGORIES:Stammtische, Café und Seniorentreffs
ORGANIZER;CN="AWO Kreisverband N%C3%BCrnberg e.V.":MAILTO:mgh-assistenz@awo-nbg.de
GEO:49.4436413;11.0785623
X-APPLE-STRUCTURED-LOCATION;VALUE=URI;X-ADDRESS=MGH Awothek Karl-Bröger-Straße 9 Nürnberg 90459;X-APPLE-RADIUS=500;X-TITLE=Karl-Bröger-Straße 9:geo:11.0785623,49.4436413
END:VEVENT
BEGIN:VEVENT
DTSTART;TZID=Europe/Berlin:20260928T143000
DTEND;TZID=Europe/Berlin:20260928T160000
DTSTAMP:20260420T065123
CREATED:20251124T151411Z
LAST-MODIFIED:20260222T135535Z
UID:10001606-1790605800-1790611200@service.magazin66.de
SUMMARY:Plauder-Café
DESCRIPTION:Tee\, Kaffee\, Infos über Angebote im Stadtteil und Beratung
URL:https://service.magazin66.de/event/plauder-cafe/2026-09-28/
LOCATION:MGH Awothek\, Karl-Bröger-Straße 9\, Nürnberg\, 90459
CATEGORIES:Stammtische, Café und Seniorentreffs
ORGANIZER;CN="AWO Kreisverband N%C3%BCrnberg e.V.":MAILTO:mgh-assistenz@awo-nbg.de
GEO:49.4436413;11.0785623
X-APPLE-STRUCTURED-LOCATION;VALUE=URI;X-ADDRESS=MGH Awothek Karl-Bröger-Straße 9 Nürnberg 90459;X-APPLE-RADIUS=500;X-TITLE=Karl-Bröger-Straße 9:geo:11.0785623,49.4436413
END:VEVENT
BEGIN:VEVENT
DTSTART;TZID=Europe/Berlin:20261005T143000
DTEND;TZID=Europe/Berlin:20261005T160000
DTSTAMP:20260420T065123
CREATED:20251124T151411Z
LAST-MODIFIED:20260222T135535Z
UID:10001607-1791210600-1791216000@service.magazin66.de
SUMMARY:Plauder-Café
DESCRIPTION:Tee\, Kaffee\, Infos über Angebote im Stadtteil und Beratung
URL:https://service.magazin66.de/event/plauder-cafe/2026-10-05/
LOCATION:MGH Awothek\, Karl-Bröger-Straße 9\, Nürnberg\, 90459
CATEGORIES:Stammtische, Café und Seniorentreffs
ORGANIZER;CN="AWO Kreisverband N%C3%BCrnberg e.V.":MAILTO:mgh-assistenz@awo-nbg.de
GEO:49.4436413;11.0785623
X-APPLE-STRUCTURED-LOCATION;VALUE=URI;X-ADDRESS=MGH Awothek Karl-Bröger-Straße 9 Nürnberg 90459;X-APPLE-RADIUS=500;X-TITLE=Karl-Bröger-Straße 9:geo:11.0785623,49.4436413
END:VEVENT
BEGIN:VEVENT
DTSTART;TZID=Europe/Berlin:20261012T143000
DTEND;TZID=Europe/Berlin:20261012T160000
DTSTAMP:20260420T065123
CREATED:20251124T151411Z
LAST-MODIFIED:20260222T135535Z
UID:10001608-1791815400-1791820800@service.magazin66.de
SUMMARY:Plauder-Café
DESCRIPTION:Tee\, Kaffee\, Infos über Angebote im Stadtteil und Beratung
URL:https://service.magazin66.de/event/plauder-cafe/2026-10-12/
LOCATION:MGH Awothek\, Karl-Bröger-Straße 9\, Nürnberg\, 90459
CATEGORIES:Stammtische, Café und Seniorentreffs
ORGANIZER;CN="AWO Kreisverband N%C3%BCrnberg e.V.":MAILTO:mgh-assistenz@awo-nbg.de
GEO:49.4436413;11.0785623
X-APPLE-STRUCTURED-LOCATION;VALUE=URI;X-ADDRESS=MGH Awothek Karl-Bröger-Straße 9 Nürnberg 90459;X-APPLE-RADIUS=500;X-TITLE=Karl-Bröger-Straße 9:geo:11.0785623,49.4436413
END:VEVENT
BEGIN:VEVENT
DTSTART;TZID=Europe/Berlin:20261019T143000
DTEND;TZID=Europe/Berlin:20261019T160000
DTSTAMP:20260420T065123
CREATED:20251124T151411Z
LAST-MODIFIED:20260222T135535Z
UID:10001609-1792420200-1792425600@service.magazin66.de
SUMMARY:Plauder-Café
DESCRIPTION:Tee\, Kaffee\, Infos über Angebote im Stadtteil und Beratung
URL:https://service.magazin66.de/event/plauder-cafe/2026-10-19/
LOCATION:MGH Awothek\, Karl-Bröger-Straße 9\, Nürnberg\, 90459
CATEGORIES:Stammtische, Café und Seniorentreffs
ORGANIZER;CN="AWO Kreisverband N%C3%BCrnberg e.V.":MAILTO:mgh-assistenz@awo-nbg.de
GEO:49.4436413;11.0785623
X-APPLE-STRUCTURED-LOCATION;VALUE=URI;X-ADDRESS=MGH Awothek Karl-Bröger-Straße 9 Nürnberg 90459;X-APPLE-RADIUS=500;X-TITLE=Karl-Bröger-Straße 9:geo:11.0785623,49.4436413
END:VEVENT
BEGIN:VEVENT
DTSTART;TZID=Europe/Berlin:20261026T143000
DTEND;TZID=Europe/Berlin:20261026T160000
DTSTAMP:20260420T065123
CREATED:20251124T151411Z
LAST-MODIFIED:20260222T135535Z
UID:10001610-1793025000-1793030400@service.magazin66.de
SUMMARY:Plauder-Café
DESCRIPTION:Tee\, Kaffee\, Infos über Angebote im Stadtteil und Beratung
URL:https://service.magazin66.de/event/plauder-cafe/2026-10-26/
LOCATION:MGH Awothek\, Karl-Bröger-Straße 9\, Nürnberg\, 90459
CATEGORIES:Stammtische, Café und Seniorentreffs
ORGANIZER;CN="AWO Kreisverband N%C3%BCrnberg e.V.":MAILTO:mgh-assistenz@awo-nbg.de
GEO:49.4436413;11.0785623
X-APPLE-STRUCTURED-LOCATION;VALUE=URI;X-ADDRESS=MGH Awothek Karl-Bröger-Straße 9 Nürnberg 90459;X-APPLE-RADIUS=500;X-TITLE=Karl-Bröger-Straße 9:geo:11.0785623,49.4436413
END:VEVENT
BEGIN:VEVENT
DTSTART;TZID=Europe/Berlin:20261102T143000
DTEND;TZID=Europe/Berlin:20261102T160000
DTSTAMP:20260420T065123
CREATED:20251124T151411Z
LAST-MODIFIED:20260222T135535Z
UID:10001611-1793629800-1793635200@service.magazin66.de
SUMMARY:Plauder-Café
DESCRIPTION:Tee\, Kaffee\, Infos über Angebote im Stadtteil und Beratung
URL:https://service.magazin66.de/event/plauder-cafe/2026-11-02/
LOCATION:MGH Awothek\, Karl-Bröger-Straße 9\, Nürnberg\, 90459
CATEGORIES:Stammtische, Café und Seniorentreffs
ORGANIZER;CN="AWO Kreisverband N%C3%BCrnberg e.V.":MAILTO:mgh-assistenz@awo-nbg.de
GEO:49.4436413;11.0785623
X-APPLE-STRUCTURED-LOCATION;VALUE=URI;X-ADDRESS=MGH Awothek Karl-Bröger-Straße 9 Nürnberg 90459;X-APPLE-RADIUS=500;X-TITLE=Karl-Bröger-Straße 9:geo:11.0785623,49.4436413
END:VEVENT
BEGIN:VEVENT
DTSTART;TZID=Europe/Berlin:20261109T143000
DTEND;TZID=Europe/Berlin:20261109T160000
DTSTAMP:20260420T065123
CREATED:20251124T151411Z
LAST-MODIFIED:20260222T135535Z
UID:10001612-1794234600-1794240000@service.magazin66.de
SUMMARY:Plauder-Café
DESCRIPTION:Tee\, Kaffee\, Infos über Angebote im Stadtteil und Beratung
URL:https://service.magazin66.de/event/plauder-cafe/2026-11-09/
LOCATION:MGH Awothek\, Karl-Bröger-Straße 9\, Nürnberg\, 90459
CATEGORIES:Stammtische, Café und Seniorentreffs
ORGANIZER;CN="AWO Kreisverband N%C3%BCrnberg e.V.":MAILTO:mgh-assistenz@awo-nbg.de
GEO:49.4436413;11.0785623
X-APPLE-STRUCTURED-LOCATION;VALUE=URI;X-ADDRESS=MGH Awothek Karl-Bröger-Straße 9 Nürnberg 90459;X-APPLE-RADIUS=500;X-TITLE=Karl-Bröger-Straße 9:geo:11.0785623,49.4436413
END:VEVENT
END:VCALENDAR