BEGIN:VCALENDAR
VERSION:2.0
PRODID:-//Service Magazin sechs+sechzig - ECPv6.15.18//NONSGML v1.0//EN
CALSCALE:GREGORIAN
METHOD:PUBLISH
X-WR-CALNAME:Service Magazin sechs+sechzig
X-ORIGINAL-URL:https://service.magazin66.de
X-WR-CALDESC:Veranstaltungen für Service Magazin sechs+sechzig
REFRESH-INTERVAL;VALUE=DURATION:PT1H
X-Robots-Tag:noindex
X-PUBLISHED-TTL:PT1H
BEGIN:VTIMEZONE
TZID:Europe/Berlin
BEGIN:DAYLIGHT
TZOFFSETFROM:+0100
TZOFFSETTO:+0200
TZNAME:CEST
DTSTART:20250330T010000
END:DAYLIGHT
BEGIN:STANDARD
TZOFFSETFROM:+0200
TZOFFSETTO:+0100
TZNAME:CET
DTSTART:20251026T010000
END:STANDARD
BEGIN:DAYLIGHT
TZOFFSETFROM:+0100
TZOFFSETTO:+0200
TZNAME:CEST
DTSTART:20260329T010000
END:DAYLIGHT
BEGIN:STANDARD
TZOFFSETFROM:+0200
TZOFFSETTO:+0100
TZNAME:CET
DTSTART:20261025T010000
END:STANDARD
BEGIN:DAYLIGHT
TZOFFSETFROM:+0100
TZOFFSETTO:+0200
TZNAME:CEST
DTSTART:20270328T010000
END:DAYLIGHT
BEGIN:STANDARD
TZOFFSETFROM:+0200
TZOFFSETTO:+0100
TZNAME:CET
DTSTART:20271031T010000
END:STANDARD
END:VTIMEZONE
BEGIN:VEVENT
DTSTART;TZID=Europe/Berlin:20260514T180000
DTEND;TZID=Europe/Berlin:20260514T200000
DTSTAMP:20260420T070355
CREATED:20251128T135840Z
LAST-MODIFIED:20251128T135840Z
UID:10000740-1778781600-1778788800@service.magazin66.de
SUMMARY:Omas for Future
DESCRIPTION:Initiative der Generation 50+ für einen nachhaltigeren Lebensstil. Zu den Treffen\, die an jedem zweiten Donnerstag im Monat stattfinden\, sind Interessierte herzlich willkommen. Und natürlich sind auch engagierte Opas for Future eingeladen.
URL:https://service.magazin66.de/event/omas-for-future/2026-05-14/
LOCATION:AWO Treff Lauf\, Hämmernplatz 4\, Lauf\, 91207
CATEGORIES:Stammtische, Café und Seniorentreffs
GEO:49.5088102;11.2750502
X-APPLE-STRUCTURED-LOCATION;VALUE=URI;X-ADDRESS=AWO Treff Lauf Hämmernplatz 4 Lauf 91207;X-APPLE-RADIUS=500;X-TITLE=Hämmernplatz 4:geo:11.2750502,49.5088102
END:VEVENT
BEGIN:VEVENT
DTSTART;TZID=Europe/Berlin:20260611T180000
DTEND;TZID=Europe/Berlin:20260611T200000
DTSTAMP:20260420T070355
CREATED:20251128T135840Z
LAST-MODIFIED:20251128T135840Z
UID:10000741-1781200800-1781208000@service.magazin66.de
SUMMARY:Omas for Future
DESCRIPTION:Initiative der Generation 50+ für einen nachhaltigeren Lebensstil. Zu den Treffen\, die an jedem zweiten Donnerstag im Monat stattfinden\, sind Interessierte herzlich willkommen. Und natürlich sind auch engagierte Opas for Future eingeladen.
URL:https://service.magazin66.de/event/omas-for-future/2026-06-11/
LOCATION:AWO Treff Lauf\, Hämmernplatz 4\, Lauf\, 91207
CATEGORIES:Stammtische, Café und Seniorentreffs
GEO:49.5088102;11.2750502
X-APPLE-STRUCTURED-LOCATION;VALUE=URI;X-ADDRESS=AWO Treff Lauf Hämmernplatz 4 Lauf 91207;X-APPLE-RADIUS=500;X-TITLE=Hämmernplatz 4:geo:11.2750502,49.5088102
END:VEVENT
BEGIN:VEVENT
DTSTART;TZID=Europe/Berlin:20260709T180000
DTEND;TZID=Europe/Berlin:20260709T200000
DTSTAMP:20260420T070355
CREATED:20251128T135840Z
LAST-MODIFIED:20251128T135840Z
UID:10000742-1783620000-1783627200@service.magazin66.de
SUMMARY:Omas for Future
DESCRIPTION:Initiative der Generation 50+ für einen nachhaltigeren Lebensstil. Zu den Treffen\, die an jedem zweiten Donnerstag im Monat stattfinden\, sind Interessierte herzlich willkommen. Und natürlich sind auch engagierte Opas for Future eingeladen.
URL:https://service.magazin66.de/event/omas-for-future/2026-07-09/
LOCATION:AWO Treff Lauf\, Hämmernplatz 4\, Lauf\, 91207
CATEGORIES:Stammtische, Café und Seniorentreffs
GEO:49.5088102;11.2750502
X-APPLE-STRUCTURED-LOCATION;VALUE=URI;X-ADDRESS=AWO Treff Lauf Hämmernplatz 4 Lauf 91207;X-APPLE-RADIUS=500;X-TITLE=Hämmernplatz 4:geo:11.2750502,49.5088102
END:VEVENT
BEGIN:VEVENT
DTSTART;TZID=Europe/Berlin:20260813T180000
DTEND;TZID=Europe/Berlin:20260813T200000
DTSTAMP:20260420T070356
CREATED:20251128T135840Z
LAST-MODIFIED:20251128T135840Z
UID:10000743-1786644000-1786651200@service.magazin66.de
SUMMARY:Omas for Future
DESCRIPTION:Initiative der Generation 50+ für einen nachhaltigeren Lebensstil. Zu den Treffen\, die an jedem zweiten Donnerstag im Monat stattfinden\, sind Interessierte herzlich willkommen. Und natürlich sind auch engagierte Opas for Future eingeladen.
URL:https://service.magazin66.de/event/omas-for-future/2026-08-13/
LOCATION:AWO Treff Lauf\, Hämmernplatz 4\, Lauf\, 91207
CATEGORIES:Stammtische, Café und Seniorentreffs
GEO:49.5088102;11.2750502
X-APPLE-STRUCTURED-LOCATION;VALUE=URI;X-ADDRESS=AWO Treff Lauf Hämmernplatz 4 Lauf 91207;X-APPLE-RADIUS=500;X-TITLE=Hämmernplatz 4:geo:11.2750502,49.5088102
END:VEVENT
BEGIN:VEVENT
DTSTART;TZID=Europe/Berlin:20260910T180000
DTEND;TZID=Europe/Berlin:20260910T200000
DTSTAMP:20260420T070356
CREATED:20251128T135840Z
LAST-MODIFIED:20251128T135840Z
UID:10000744-1789063200-1789070400@service.magazin66.de
SUMMARY:Omas for Future
DESCRIPTION:Initiative der Generation 50+ für einen nachhaltigeren Lebensstil. Zu den Treffen\, die an jedem zweiten Donnerstag im Monat stattfinden\, sind Interessierte herzlich willkommen. Und natürlich sind auch engagierte Opas for Future eingeladen.
URL:https://service.magazin66.de/event/omas-for-future/2026-09-10/
LOCATION:AWO Treff Lauf\, Hämmernplatz 4\, Lauf\, 91207
CATEGORIES:Stammtische, Café und Seniorentreffs
GEO:49.5088102;11.2750502
X-APPLE-STRUCTURED-LOCATION;VALUE=URI;X-ADDRESS=AWO Treff Lauf Hämmernplatz 4 Lauf 91207;X-APPLE-RADIUS=500;X-TITLE=Hämmernplatz 4:geo:11.2750502,49.5088102
END:VEVENT
BEGIN:VEVENT
DTSTART;TZID=Europe/Berlin:20261008T180000
DTEND;TZID=Europe/Berlin:20261008T200000
DTSTAMP:20260420T070356
CREATED:20251128T135840Z
LAST-MODIFIED:20251128T135840Z
UID:10000745-1791482400-1791489600@service.magazin66.de
SUMMARY:Omas for Future
DESCRIPTION:Initiative der Generation 50+ für einen nachhaltigeren Lebensstil. Zu den Treffen\, die an jedem zweiten Donnerstag im Monat stattfinden\, sind Interessierte herzlich willkommen. Und natürlich sind auch engagierte Opas for Future eingeladen.
URL:https://service.magazin66.de/event/omas-for-future/2026-10-08/
LOCATION:AWO Treff Lauf\, Hämmernplatz 4\, Lauf\, 91207
CATEGORIES:Stammtische, Café und Seniorentreffs
GEO:49.5088102;11.2750502
X-APPLE-STRUCTURED-LOCATION;VALUE=URI;X-ADDRESS=AWO Treff Lauf Hämmernplatz 4 Lauf 91207;X-APPLE-RADIUS=500;X-TITLE=Hämmernplatz 4:geo:11.2750502,49.5088102
END:VEVENT
BEGIN:VEVENT
DTSTART;TZID=Europe/Berlin:20261112T180000
DTEND;TZID=Europe/Berlin:20261112T200000
DTSTAMP:20260420T070356
CREATED:20251128T135840Z
LAST-MODIFIED:20251128T135840Z
UID:10000746-1794506400-1794513600@service.magazin66.de
SUMMARY:Omas for Future
DESCRIPTION:Initiative der Generation 50+ für einen nachhaltigeren Lebensstil. Zu den Treffen\, die an jedem zweiten Donnerstag im Monat stattfinden\, sind Interessierte herzlich willkommen. Und natürlich sind auch engagierte Opas for Future eingeladen.
URL:https://service.magazin66.de/event/omas-for-future/2026-11-12/
LOCATION:AWO Treff Lauf\, Hämmernplatz 4\, Lauf\, 91207
CATEGORIES:Stammtische, Café und Seniorentreffs
GEO:49.5088102;11.2750502
X-APPLE-STRUCTURED-LOCATION;VALUE=URI;X-ADDRESS=AWO Treff Lauf Hämmernplatz 4 Lauf 91207;X-APPLE-RADIUS=500;X-TITLE=Hämmernplatz 4:geo:11.2750502,49.5088102
END:VEVENT
BEGIN:VEVENT
DTSTART;TZID=Europe/Berlin:20261210T180000
DTEND;TZID=Europe/Berlin:20261210T200000
DTSTAMP:20260420T070356
CREATED:20251128T135840Z
LAST-MODIFIED:20251128T135840Z
UID:10000747-1796925600-1796932800@service.magazin66.de
SUMMARY:Omas for Future
DESCRIPTION:Initiative der Generation 50+ für einen nachhaltigeren Lebensstil. Zu den Treffen\, die an jedem zweiten Donnerstag im Monat stattfinden\, sind Interessierte herzlich willkommen. Und natürlich sind auch engagierte Opas for Future eingeladen.
URL:https://service.magazin66.de/event/omas-for-future/2026-12-10/
LOCATION:AWO Treff Lauf\, Hämmernplatz 4\, Lauf\, 91207
CATEGORIES:Stammtische, Café und Seniorentreffs
GEO:49.5088102;11.2750502
X-APPLE-STRUCTURED-LOCATION;VALUE=URI;X-ADDRESS=AWO Treff Lauf Hämmernplatz 4 Lauf 91207;X-APPLE-RADIUS=500;X-TITLE=Hämmernplatz 4:geo:11.2750502,49.5088102
END:VEVENT
END:VCALENDAR