BEGIN:VCALENDAR
VERSION:2.0
PRODID:-//Service Magazin sechs+sechzig - ECPv6.15.18//NONSGML v1.0//EN
CALSCALE:GREGORIAN
METHOD:PUBLISH
X-WR-CALNAME:Service Magazin sechs+sechzig
X-ORIGINAL-URL:https://service.magazin66.de
X-WR-CALDESC:Veranstaltungen für Service Magazin sechs+sechzig
REFRESH-INTERVAL;VALUE=DURATION:PT1H
X-Robots-Tag:noindex
X-PUBLISHED-TTL:PT1H
BEGIN:VTIMEZONE
TZID:Europe/Berlin
BEGIN:DAYLIGHT
TZOFFSETFROM:+0100
TZOFFSETTO:+0200
TZNAME:CEST
DTSTART:20250330T010000
END:DAYLIGHT
BEGIN:STANDARD
TZOFFSETFROM:+0200
TZOFFSETTO:+0100
TZNAME:CET
DTSTART:20251026T010000
END:STANDARD
BEGIN:DAYLIGHT
TZOFFSETFROM:+0100
TZOFFSETTO:+0200
TZNAME:CEST
DTSTART:20260329T010000
END:DAYLIGHT
BEGIN:STANDARD
TZOFFSETFROM:+0200
TZOFFSETTO:+0100
TZNAME:CET
DTSTART:20261025T010000
END:STANDARD
BEGIN:DAYLIGHT
TZOFFSETFROM:+0100
TZOFFSETTO:+0200
TZNAME:CEST
DTSTART:20270328T010000
END:DAYLIGHT
BEGIN:STANDARD
TZOFFSETFROM:+0200
TZOFFSETTO:+0100
TZNAME:CET
DTSTART:20271031T010000
END:STANDARD
BEGIN:DAYLIGHT
TZOFFSETFROM:+0100
TZOFFSETTO:+0200
TZNAME:CEST
DTSTART:20280326T010000
END:DAYLIGHT
BEGIN:STANDARD
TZOFFSETFROM:+0200
TZOFFSETTO:+0100
TZNAME:CET
DTSTART:20281029T010000
END:STANDARD
END:VTIMEZONE
BEGIN:VEVENT
DTSTART;TZID=Europe/Berlin:20260511T120000
DTEND;TZID=Europe/Berlin:20260511T133000
DTSTAMP:20260420T070850
CREATED:20251129T100021Z
LAST-MODIFIED:20251129T101325Z
UID:10000961-1778500800-1778506200@service.magazin66.de
SUMMARY:Zusammen is(s)t man weniger allein
DESCRIPTION:Das Café Bleiweiß serviert ein warmes Essen und ein alkoholfreies Getränk für zusammen 10 Euro – ermäßigt mit NürnbergPass 7\,50 Euro. \nIn Kooperation mit dem Seniorennetzwerk Südstadt Ost. \nAnmeldung bis eine Woche vor dem jeweiligen Termin. Info & Reservierung: \nTelefon 09 11 / 37678585\, Anna_Storm@noa.nuernberg.de oder \nTelefon 09 11 / 2 31-8232\, seniorentreffs@stadt.nuernberg.de
URL:https://service.magazin66.de/event/zusammen-isst-man-weniger-allein/2026-05-11/
LOCATION:Treff Bleiweiß\, Hintere Bleiweißstraße 15\, Nürnberg\, 90461
CATEGORIES:Stammtische, Café und Seniorentreffs
GEO:49.4414252;11.0929161
X-APPLE-STRUCTURED-LOCATION;VALUE=URI;X-ADDRESS=Treff Bleiweiß Hintere Bleiweißstraße 15 Nürnberg 90461;X-APPLE-RADIUS=500;X-TITLE=Hintere Bleiweißstraße 15:geo:11.0929161,49.4414252
END:VEVENT
BEGIN:VEVENT
DTSTART;TZID=Europe/Berlin:20260608T120000
DTEND;TZID=Europe/Berlin:20260608T133000
DTSTAMP:20260420T070850
CREATED:20251129T100021Z
LAST-MODIFIED:20251129T101325Z
UID:10000962-1780920000-1780925400@service.magazin66.de
SUMMARY:Zusammen is(s)t man weniger allein
DESCRIPTION:Das Café Bleiweiß serviert ein warmes Essen und ein alkoholfreies Getränk für zusammen 10 Euro – ermäßigt mit NürnbergPass 7\,50 Euro. \nIn Kooperation mit dem Seniorennetzwerk Südstadt Ost. \nAnmeldung bis eine Woche vor dem jeweiligen Termin. Info & Reservierung: \nTelefon 09 11 / 37678585\, Anna_Storm@noa.nuernberg.de oder \nTelefon 09 11 / 2 31-8232\, seniorentreffs@stadt.nuernberg.de
URL:https://service.magazin66.de/event/zusammen-isst-man-weniger-allein/2026-06-08/
LOCATION:Treff Bleiweiß\, Hintere Bleiweißstraße 15\, Nürnberg\, 90461
CATEGORIES:Stammtische, Café und Seniorentreffs
GEO:49.4414252;11.0929161
X-APPLE-STRUCTURED-LOCATION;VALUE=URI;X-ADDRESS=Treff Bleiweiß Hintere Bleiweißstraße 15 Nürnberg 90461;X-APPLE-RADIUS=500;X-TITLE=Hintere Bleiweißstraße 15:geo:11.0929161,49.4414252
END:VEVENT
BEGIN:VEVENT
DTSTART;TZID=Europe/Berlin:20260713T120000
DTEND;TZID=Europe/Berlin:20260713T133000
DTSTAMP:20260420T070850
CREATED:20251129T100021Z
LAST-MODIFIED:20251129T101325Z
UID:10000963-1783944000-1783949400@service.magazin66.de
SUMMARY:Zusammen is(s)t man weniger allein
DESCRIPTION:Das Café Bleiweiß serviert ein warmes Essen und ein alkoholfreies Getränk für zusammen 10 Euro – ermäßigt mit NürnbergPass 7\,50 Euro. \nIn Kooperation mit dem Seniorennetzwerk Südstadt Ost. \nAnmeldung bis eine Woche vor dem jeweiligen Termin. Info & Reservierung: \nTelefon 09 11 / 37678585\, Anna_Storm@noa.nuernberg.de oder \nTelefon 09 11 / 2 31-8232\, seniorentreffs@stadt.nuernberg.de
URL:https://service.magazin66.de/event/zusammen-isst-man-weniger-allein/2026-07-13/
LOCATION:Treff Bleiweiß\, Hintere Bleiweißstraße 15\, Nürnberg\, 90461
CATEGORIES:Stammtische, Café und Seniorentreffs
GEO:49.4414252;11.0929161
X-APPLE-STRUCTURED-LOCATION;VALUE=URI;X-ADDRESS=Treff Bleiweiß Hintere Bleiweißstraße 15 Nürnberg 90461;X-APPLE-RADIUS=500;X-TITLE=Hintere Bleiweißstraße 15:geo:11.0929161,49.4414252
END:VEVENT
BEGIN:VEVENT
DTSTART;TZID=Europe/Berlin:20260810T120000
DTEND;TZID=Europe/Berlin:20260810T133000
DTSTAMP:20260420T070850
CREATED:20251129T100021Z
LAST-MODIFIED:20251129T101325Z
UID:10000964-1786363200-1786368600@service.magazin66.de
SUMMARY:Zusammen is(s)t man weniger allein
DESCRIPTION:Das Café Bleiweiß serviert ein warmes Essen und ein alkoholfreies Getränk für zusammen 10 Euro – ermäßigt mit NürnbergPass 7\,50 Euro. \nIn Kooperation mit dem Seniorennetzwerk Südstadt Ost. \nAnmeldung bis eine Woche vor dem jeweiligen Termin. Info & Reservierung: \nTelefon 09 11 / 37678585\, Anna_Storm@noa.nuernberg.de oder \nTelefon 09 11 / 2 31-8232\, seniorentreffs@stadt.nuernberg.de
URL:https://service.magazin66.de/event/zusammen-isst-man-weniger-allein/2026-08-10/
LOCATION:Treff Bleiweiß\, Hintere Bleiweißstraße 15\, Nürnberg\, 90461
CATEGORIES:Stammtische, Café und Seniorentreffs
GEO:49.4414252;11.0929161
X-APPLE-STRUCTURED-LOCATION;VALUE=URI;X-ADDRESS=Treff Bleiweiß Hintere Bleiweißstraße 15 Nürnberg 90461;X-APPLE-RADIUS=500;X-TITLE=Hintere Bleiweißstraße 15:geo:11.0929161,49.4414252
END:VEVENT
BEGIN:VEVENT
DTSTART;TZID=Europe/Berlin:20260914T120000
DTEND;TZID=Europe/Berlin:20260914T133000
DTSTAMP:20260420T070850
CREATED:20251129T100021Z
LAST-MODIFIED:20251129T101325Z
UID:10000965-1789387200-1789392600@service.magazin66.de
SUMMARY:Zusammen is(s)t man weniger allein
DESCRIPTION:Das Café Bleiweiß serviert ein warmes Essen und ein alkoholfreies Getränk für zusammen 10 Euro – ermäßigt mit NürnbergPass 7\,50 Euro. \nIn Kooperation mit dem Seniorennetzwerk Südstadt Ost. \nAnmeldung bis eine Woche vor dem jeweiligen Termin. Info & Reservierung: \nTelefon 09 11 / 37678585\, Anna_Storm@noa.nuernberg.de oder \nTelefon 09 11 / 2 31-8232\, seniorentreffs@stadt.nuernberg.de
URL:https://service.magazin66.de/event/zusammen-isst-man-weniger-allein/2026-09-14/
LOCATION:Treff Bleiweiß\, Hintere Bleiweißstraße 15\, Nürnberg\, 90461
CATEGORIES:Stammtische, Café und Seniorentreffs
GEO:49.4414252;11.0929161
X-APPLE-STRUCTURED-LOCATION;VALUE=URI;X-ADDRESS=Treff Bleiweiß Hintere Bleiweißstraße 15 Nürnberg 90461;X-APPLE-RADIUS=500;X-TITLE=Hintere Bleiweißstraße 15:geo:11.0929161,49.4414252
END:VEVENT
BEGIN:VEVENT
DTSTART;TZID=Europe/Berlin:20261012T120000
DTEND;TZID=Europe/Berlin:20261012T133000
DTSTAMP:20260420T070850
CREATED:20251129T100021Z
LAST-MODIFIED:20251129T101325Z
UID:10000966-1791806400-1791811800@service.magazin66.de
SUMMARY:Zusammen is(s)t man weniger allein
DESCRIPTION:Das Café Bleiweiß serviert ein warmes Essen und ein alkoholfreies Getränk für zusammen 10 Euro – ermäßigt mit NürnbergPass 7\,50 Euro. \nIn Kooperation mit dem Seniorennetzwerk Südstadt Ost. \nAnmeldung bis eine Woche vor dem jeweiligen Termin. Info & Reservierung: \nTelefon 09 11 / 37678585\, Anna_Storm@noa.nuernberg.de oder \nTelefon 09 11 / 2 31-8232\, seniorentreffs@stadt.nuernberg.de
URL:https://service.magazin66.de/event/zusammen-isst-man-weniger-allein/2026-10-12/
LOCATION:Treff Bleiweiß\, Hintere Bleiweißstraße 15\, Nürnberg\, 90461
CATEGORIES:Stammtische, Café und Seniorentreffs
GEO:49.4414252;11.0929161
X-APPLE-STRUCTURED-LOCATION;VALUE=URI;X-ADDRESS=Treff Bleiweiß Hintere Bleiweißstraße 15 Nürnberg 90461;X-APPLE-RADIUS=500;X-TITLE=Hintere Bleiweißstraße 15:geo:11.0929161,49.4414252
END:VEVENT
BEGIN:VEVENT
DTSTART;TZID=Europe/Berlin:20261109T120000
DTEND;TZID=Europe/Berlin:20261109T133000
DTSTAMP:20260420T070850
CREATED:20251129T100021Z
LAST-MODIFIED:20251129T101325Z
UID:10000967-1794225600-1794231000@service.magazin66.de
SUMMARY:Zusammen is(s)t man weniger allein
DESCRIPTION:Das Café Bleiweiß serviert ein warmes Essen und ein alkoholfreies Getränk für zusammen 10 Euro – ermäßigt mit NürnbergPass 7\,50 Euro. \nIn Kooperation mit dem Seniorennetzwerk Südstadt Ost. \nAnmeldung bis eine Woche vor dem jeweiligen Termin. Info & Reservierung: \nTelefon 09 11 / 37678585\, Anna_Storm@noa.nuernberg.de oder \nTelefon 09 11 / 2 31-8232\, seniorentreffs@stadt.nuernberg.de
URL:https://service.magazin66.de/event/zusammen-isst-man-weniger-allein/2026-11-09/
LOCATION:Treff Bleiweiß\, Hintere Bleiweißstraße 15\, Nürnberg\, 90461
CATEGORIES:Stammtische, Café und Seniorentreffs
GEO:49.4414252;11.0929161
X-APPLE-STRUCTURED-LOCATION;VALUE=URI;X-ADDRESS=Treff Bleiweiß Hintere Bleiweißstraße 15 Nürnberg 90461;X-APPLE-RADIUS=500;X-TITLE=Hintere Bleiweißstraße 15:geo:11.0929161,49.4414252
END:VEVENT
BEGIN:VEVENT
DTSTART;TZID=Europe/Berlin:20261214T120000
DTEND;TZID=Europe/Berlin:20261214T133000
DTSTAMP:20260420T070850
CREATED:20251129T100021Z
LAST-MODIFIED:20251129T101325Z
UID:10000968-1797249600-1797255000@service.magazin66.de
SUMMARY:Zusammen is(s)t man weniger allein
DESCRIPTION:Das Café Bleiweiß serviert ein warmes Essen und ein alkoholfreies Getränk für zusammen 10 Euro – ermäßigt mit NürnbergPass 7\,50 Euro. \nIn Kooperation mit dem Seniorennetzwerk Südstadt Ost. \nAnmeldung bis eine Woche vor dem jeweiligen Termin. Info & Reservierung: \nTelefon 09 11 / 37678585\, Anna_Storm@noa.nuernberg.de oder \nTelefon 09 11 / 2 31-8232\, seniorentreffs@stadt.nuernberg.de
URL:https://service.magazin66.de/event/zusammen-isst-man-weniger-allein/2026-12-14/
LOCATION:Treff Bleiweiß\, Hintere Bleiweißstraße 15\, Nürnberg\, 90461
CATEGORIES:Stammtische, Café und Seniorentreffs
GEO:49.4414252;11.0929161
X-APPLE-STRUCTURED-LOCATION;VALUE=URI;X-ADDRESS=Treff Bleiweiß Hintere Bleiweißstraße 15 Nürnberg 90461;X-APPLE-RADIUS=500;X-TITLE=Hintere Bleiweißstraße 15:geo:11.0929161,49.4414252
END:VEVENT
BEGIN:VEVENT
DTSTART;TZID=Europe/Berlin:20270111T120000
DTEND;TZID=Europe/Berlin:20270111T133000
DTSTAMP:20260420T070850
CREATED:20251129T100021Z
LAST-MODIFIED:20251129T101325Z
UID:10000969-1799668800-1799674200@service.magazin66.de
SUMMARY:Zusammen is(s)t man weniger allein
DESCRIPTION:Das Café Bleiweiß serviert ein warmes Essen und ein alkoholfreies Getränk für zusammen 10 Euro – ermäßigt mit NürnbergPass 7\,50 Euro. \nIn Kooperation mit dem Seniorennetzwerk Südstadt Ost. \nAnmeldung bis eine Woche vor dem jeweiligen Termin. Info & Reservierung: \nTelefon 09 11 / 37678585\, Anna_Storm@noa.nuernberg.de oder \nTelefon 09 11 / 2 31-8232\, seniorentreffs@stadt.nuernberg.de
URL:https://service.magazin66.de/event/zusammen-isst-man-weniger-allein/2027-01-11/
LOCATION:Treff Bleiweiß\, Hintere Bleiweißstraße 15\, Nürnberg\, 90461
CATEGORIES:Stammtische, Café und Seniorentreffs
GEO:49.4414252;11.0929161
X-APPLE-STRUCTURED-LOCATION;VALUE=URI;X-ADDRESS=Treff Bleiweiß Hintere Bleiweißstraße 15 Nürnberg 90461;X-APPLE-RADIUS=500;X-TITLE=Hintere Bleiweißstraße 15:geo:11.0929161,49.4414252
END:VEVENT
END:VCALENDAR