BEGIN:VCALENDAR
VERSION:2.0
PRODID:-//Service Magazin sechs+sechzig - ECPv6.15.18//NONSGML v1.0//EN
CALSCALE:GREGORIAN
METHOD:PUBLISH
X-ORIGINAL-URL:https://service.magazin66.de
X-WR-CALDESC:Veranstaltungen für Service Magazin sechs+sechzig
REFRESH-INTERVAL;VALUE=DURATION:PT1H
X-Robots-Tag:noindex
X-PUBLISHED-TTL:PT1H
BEGIN:VTIMEZONE
TZID:Europe/Berlin
BEGIN:DAYLIGHT
TZOFFSETFROM:+0100
TZOFFSETTO:+0200
TZNAME:CEST
DTSTART:20250330T010000
END:DAYLIGHT
BEGIN:STANDARD
TZOFFSETFROM:+0200
TZOFFSETTO:+0100
TZNAME:CET
DTSTART:20251026T010000
END:STANDARD
BEGIN:DAYLIGHT
TZOFFSETFROM:+0100
TZOFFSETTO:+0200
TZNAME:CEST
DTSTART:20260329T010000
END:DAYLIGHT
BEGIN:STANDARD
TZOFFSETFROM:+0200
TZOFFSETTO:+0100
TZNAME:CET
DTSTART:20261025T010000
END:STANDARD
BEGIN:DAYLIGHT
TZOFFSETFROM:+0100
TZOFFSETTO:+0200
TZNAME:CEST
DTSTART:20270328T010000
END:DAYLIGHT
BEGIN:STANDARD
TZOFFSETFROM:+0200
TZOFFSETTO:+0100
TZNAME:CET
DTSTART:20271031T010000
END:STANDARD
END:VTIMEZONE
BEGIN:VEVENT
DTSTART;TZID=Europe/Berlin:20260422T150000
DTEND;TZID=Europe/Berlin:20260422T170000
DTSTAMP:20260420T103224
CREATED:20251124T150231Z
LAST-MODIFIED:20260219T115209Z
UID:10001272-1776870000-1776877200@service.magazin66.de
SUMMARY:Handyberatung
DESCRIPTION:Haben Sie Probleme bei der Nutzung Ihres Handys oder haben Sie Schwierigkeiten bei der Nutzung des Internets? Vereinbaren Sie einen Termin\, wir beantworten Ihre Fragen. \nInfo/Anmeldung: 0911/45060167\, mgh-assistenz@awo-nbg.de
URL:https://service.magazin66.de/event/handyberatung/2026-04-22/
LOCATION:MGH Awothek\, Karl-Bröger-Straße 9\, Nürnberg\, 90459
CATEGORIES:Digitale Welt
ORGANIZER;CN="AWO Kreisverband N%C3%BCrnberg e.V.":MAILTO:mgh-assistenz@awo-nbg.de
GEO:49.4436413;11.0785623
X-APPLE-STRUCTURED-LOCATION;VALUE=URI;X-ADDRESS=MGH Awothek Karl-Bröger-Straße 9 Nürnberg 90459;X-APPLE-RADIUS=500;X-TITLE=Karl-Bröger-Straße 9:geo:11.0785623,49.4436413
END:VEVENT
BEGIN:VEVENT
DTSTART;TZID=Europe/Berlin:20260429T150000
DTEND;TZID=Europe/Berlin:20260429T170000
DTSTAMP:20260420T103224
CREATED:20251124T150231Z
LAST-MODIFIED:20260219T115209Z
UID:10001273-1777474800-1777482000@service.magazin66.de
SUMMARY:Handyberatung
DESCRIPTION:Haben Sie Probleme bei der Nutzung Ihres Handys oder haben Sie Schwierigkeiten bei der Nutzung des Internets? Vereinbaren Sie einen Termin\, wir beantworten Ihre Fragen. \nInfo/Anmeldung: 0911/45060167\, mgh-assistenz@awo-nbg.de
URL:https://service.magazin66.de/event/handyberatung/2026-04-29/
LOCATION:MGH Awothek\, Karl-Bröger-Straße 9\, Nürnberg\, 90459
CATEGORIES:Digitale Welt
ORGANIZER;CN="AWO Kreisverband N%C3%BCrnberg e.V.":MAILTO:mgh-assistenz@awo-nbg.de
GEO:49.4436413;11.0785623
X-APPLE-STRUCTURED-LOCATION;VALUE=URI;X-ADDRESS=MGH Awothek Karl-Bröger-Straße 9 Nürnberg 90459;X-APPLE-RADIUS=500;X-TITLE=Karl-Bröger-Straße 9:geo:11.0785623,49.4436413
END:VEVENT
BEGIN:VEVENT
DTSTART;TZID=Europe/Berlin:20260506T150000
DTEND;TZID=Europe/Berlin:20260506T170000
DTSTAMP:20260420T103224
CREATED:20251124T150231Z
LAST-MODIFIED:20260219T115209Z
UID:10001274-1778079600-1778086800@service.magazin66.de
SUMMARY:Handyberatung
DESCRIPTION:Haben Sie Probleme bei der Nutzung Ihres Handys oder haben Sie Schwierigkeiten bei der Nutzung des Internets? Vereinbaren Sie einen Termin\, wir beantworten Ihre Fragen. \nInfo/Anmeldung: 0911/45060167\, mgh-assistenz@awo-nbg.de
URL:https://service.magazin66.de/event/handyberatung/2026-05-06/
LOCATION:MGH Awothek\, Karl-Bröger-Straße 9\, Nürnberg\, 90459
CATEGORIES:Digitale Welt
ORGANIZER;CN="AWO Kreisverband N%C3%BCrnberg e.V.":MAILTO:mgh-assistenz@awo-nbg.de
GEO:49.4436413;11.0785623
X-APPLE-STRUCTURED-LOCATION;VALUE=URI;X-ADDRESS=MGH Awothek Karl-Bröger-Straße 9 Nürnberg 90459;X-APPLE-RADIUS=500;X-TITLE=Karl-Bröger-Straße 9:geo:11.0785623,49.4436413
END:VEVENT
BEGIN:VEVENT
DTSTART;TZID=Europe/Berlin:20260513T150000
DTEND;TZID=Europe/Berlin:20260513T170000
DTSTAMP:20260420T103224
CREATED:20251124T150231Z
LAST-MODIFIED:20260219T115209Z
UID:10001275-1778684400-1778691600@service.magazin66.de
SUMMARY:Handyberatung
DESCRIPTION:Haben Sie Probleme bei der Nutzung Ihres Handys oder haben Sie Schwierigkeiten bei der Nutzung des Internets? Vereinbaren Sie einen Termin\, wir beantworten Ihre Fragen. \nInfo/Anmeldung: 0911/45060167\, mgh-assistenz@awo-nbg.de
URL:https://service.magazin66.de/event/handyberatung/2026-05-13/
LOCATION:MGH Awothek\, Karl-Bröger-Straße 9\, Nürnberg\, 90459
CATEGORIES:Digitale Welt
ORGANIZER;CN="AWO Kreisverband N%C3%BCrnberg e.V.":MAILTO:mgh-assistenz@awo-nbg.de
GEO:49.4436413;11.0785623
X-APPLE-STRUCTURED-LOCATION;VALUE=URI;X-ADDRESS=MGH Awothek Karl-Bröger-Straße 9 Nürnberg 90459;X-APPLE-RADIUS=500;X-TITLE=Karl-Bröger-Straße 9:geo:11.0785623,49.4436413
END:VEVENT
BEGIN:VEVENT
DTSTART;TZID=Europe/Berlin:20260520T150000
DTEND;TZID=Europe/Berlin:20260520T170000
DTSTAMP:20260420T103224
CREATED:20251124T150231Z
LAST-MODIFIED:20260219T115209Z
UID:10001276-1779289200-1779296400@service.magazin66.de
SUMMARY:Handyberatung
DESCRIPTION:Haben Sie Probleme bei der Nutzung Ihres Handys oder haben Sie Schwierigkeiten bei der Nutzung des Internets? Vereinbaren Sie einen Termin\, wir beantworten Ihre Fragen. \nInfo/Anmeldung: 0911/45060167\, mgh-assistenz@awo-nbg.de
URL:https://service.magazin66.de/event/handyberatung/2026-05-20/
LOCATION:MGH Awothek\, Karl-Bröger-Straße 9\, Nürnberg\, 90459
CATEGORIES:Digitale Welt
ORGANIZER;CN="AWO Kreisverband N%C3%BCrnberg e.V.":MAILTO:mgh-assistenz@awo-nbg.de
GEO:49.4436413;11.0785623
X-APPLE-STRUCTURED-LOCATION;VALUE=URI;X-ADDRESS=MGH Awothek Karl-Bröger-Straße 9 Nürnberg 90459;X-APPLE-RADIUS=500;X-TITLE=Karl-Bröger-Straße 9:geo:11.0785623,49.4436413
END:VEVENT
BEGIN:VEVENT
DTSTART;TZID=Europe/Berlin:20260527T150000
DTEND;TZID=Europe/Berlin:20260527T170000
DTSTAMP:20260420T103224
CREATED:20251124T150231Z
LAST-MODIFIED:20260219T115209Z
UID:10001277-1779894000-1779901200@service.magazin66.de
SUMMARY:Handyberatung
DESCRIPTION:Haben Sie Probleme bei der Nutzung Ihres Handys oder haben Sie Schwierigkeiten bei der Nutzung des Internets? Vereinbaren Sie einen Termin\, wir beantworten Ihre Fragen. \nInfo/Anmeldung: 0911/45060167\, mgh-assistenz@awo-nbg.de
URL:https://service.magazin66.de/event/handyberatung/2026-05-27/
LOCATION:MGH Awothek\, Karl-Bröger-Straße 9\, Nürnberg\, 90459
CATEGORIES:Digitale Welt
ORGANIZER;CN="AWO Kreisverband N%C3%BCrnberg e.V.":MAILTO:mgh-assistenz@awo-nbg.de
GEO:49.4436413;11.0785623
X-APPLE-STRUCTURED-LOCATION;VALUE=URI;X-ADDRESS=MGH Awothek Karl-Bröger-Straße 9 Nürnberg 90459;X-APPLE-RADIUS=500;X-TITLE=Karl-Bröger-Straße 9:geo:11.0785623,49.4436413
END:VEVENT
BEGIN:VEVENT
DTSTART;TZID=Europe/Berlin:20260603T150000
DTEND;TZID=Europe/Berlin:20260603T170000
DTSTAMP:20260420T103224
CREATED:20251124T150231Z
LAST-MODIFIED:20260219T115209Z
UID:10001278-1780498800-1780506000@service.magazin66.de
SUMMARY:Handyberatung
DESCRIPTION:Haben Sie Probleme bei der Nutzung Ihres Handys oder haben Sie Schwierigkeiten bei der Nutzung des Internets? Vereinbaren Sie einen Termin\, wir beantworten Ihre Fragen. \nInfo/Anmeldung: 0911/45060167\, mgh-assistenz@awo-nbg.de
URL:https://service.magazin66.de/event/handyberatung/2026-06-03/
LOCATION:MGH Awothek\, Karl-Bröger-Straße 9\, Nürnberg\, 90459
CATEGORIES:Digitale Welt
ORGANIZER;CN="AWO Kreisverband N%C3%BCrnberg e.V.":MAILTO:mgh-assistenz@awo-nbg.de
GEO:49.4436413;11.0785623
X-APPLE-STRUCTURED-LOCATION;VALUE=URI;X-ADDRESS=MGH Awothek Karl-Bröger-Straße 9 Nürnberg 90459;X-APPLE-RADIUS=500;X-TITLE=Karl-Bröger-Straße 9:geo:11.0785623,49.4436413
END:VEVENT
BEGIN:VEVENT
DTSTART;TZID=Europe/Berlin:20260610T150000
DTEND;TZID=Europe/Berlin:20260610T170000
DTSTAMP:20260420T103224
CREATED:20251124T150231Z
LAST-MODIFIED:20260219T115209Z
UID:10001279-1781103600-1781110800@service.magazin66.de
SUMMARY:Handyberatung
DESCRIPTION:Haben Sie Probleme bei der Nutzung Ihres Handys oder haben Sie Schwierigkeiten bei der Nutzung des Internets? Vereinbaren Sie einen Termin\, wir beantworten Ihre Fragen. \nInfo/Anmeldung: 0911/45060167\, mgh-assistenz@awo-nbg.de
URL:https://service.magazin66.de/event/handyberatung/2026-06-10/
LOCATION:MGH Awothek\, Karl-Bröger-Straße 9\, Nürnberg\, 90459
CATEGORIES:Digitale Welt
ORGANIZER;CN="AWO Kreisverband N%C3%BCrnberg e.V.":MAILTO:mgh-assistenz@awo-nbg.de
GEO:49.4436413;11.0785623
X-APPLE-STRUCTURED-LOCATION;VALUE=URI;X-ADDRESS=MGH Awothek Karl-Bröger-Straße 9 Nürnberg 90459;X-APPLE-RADIUS=500;X-TITLE=Karl-Bröger-Straße 9:geo:11.0785623,49.4436413
END:VEVENT
BEGIN:VEVENT
DTSTART;TZID=Europe/Berlin:20260617T150000
DTEND;TZID=Europe/Berlin:20260617T170000
DTSTAMP:20260420T103224
CREATED:20251124T150231Z
LAST-MODIFIED:20260219T115209Z
UID:10001280-1781708400-1781715600@service.magazin66.de
SUMMARY:Handyberatung
DESCRIPTION:Haben Sie Probleme bei der Nutzung Ihres Handys oder haben Sie Schwierigkeiten bei der Nutzung des Internets? Vereinbaren Sie einen Termin\, wir beantworten Ihre Fragen. \nInfo/Anmeldung: 0911/45060167\, mgh-assistenz@awo-nbg.de
URL:https://service.magazin66.de/event/handyberatung/2026-06-17/
LOCATION:MGH Awothek\, Karl-Bröger-Straße 9\, Nürnberg\, 90459
CATEGORIES:Digitale Welt
ORGANIZER;CN="AWO Kreisverband N%C3%BCrnberg e.V.":MAILTO:mgh-assistenz@awo-nbg.de
GEO:49.4436413;11.0785623
X-APPLE-STRUCTURED-LOCATION;VALUE=URI;X-ADDRESS=MGH Awothek Karl-Bröger-Straße 9 Nürnberg 90459;X-APPLE-RADIUS=500;X-TITLE=Karl-Bröger-Straße 9:geo:11.0785623,49.4436413
END:VEVENT
BEGIN:VEVENT
DTSTART;TZID=Europe/Berlin:20260624T150000
DTEND;TZID=Europe/Berlin:20260624T170000
DTSTAMP:20260420T103224
CREATED:20251124T150231Z
LAST-MODIFIED:20260219T115209Z
UID:10001281-1782313200-1782320400@service.magazin66.de
SUMMARY:Handyberatung
DESCRIPTION:Haben Sie Probleme bei der Nutzung Ihres Handys oder haben Sie Schwierigkeiten bei der Nutzung des Internets? Vereinbaren Sie einen Termin\, wir beantworten Ihre Fragen. \nInfo/Anmeldung: 0911/45060167\, mgh-assistenz@awo-nbg.de
URL:https://service.magazin66.de/event/handyberatung/2026-06-24/
LOCATION:MGH Awothek\, Karl-Bröger-Straße 9\, Nürnberg\, 90459
CATEGORIES:Digitale Welt
ORGANIZER;CN="AWO Kreisverband N%C3%BCrnberg e.V.":MAILTO:mgh-assistenz@awo-nbg.de
GEO:49.4436413;11.0785623
X-APPLE-STRUCTURED-LOCATION;VALUE=URI;X-ADDRESS=MGH Awothek Karl-Bröger-Straße 9 Nürnberg 90459;X-APPLE-RADIUS=500;X-TITLE=Karl-Bröger-Straße 9:geo:11.0785623,49.4436413
END:VEVENT
BEGIN:VEVENT
DTSTART;TZID=Europe/Berlin:20260701T150000
DTEND;TZID=Europe/Berlin:20260701T170000
DTSTAMP:20260420T103224
CREATED:20251124T150231Z
LAST-MODIFIED:20260219T115209Z
UID:10001282-1782918000-1782925200@service.magazin66.de
SUMMARY:Handyberatung
DESCRIPTION:Haben Sie Probleme bei der Nutzung Ihres Handys oder haben Sie Schwierigkeiten bei der Nutzung des Internets? Vereinbaren Sie einen Termin\, wir beantworten Ihre Fragen. \nInfo/Anmeldung: 0911/45060167\, mgh-assistenz@awo-nbg.de
URL:https://service.magazin66.de/event/handyberatung/2026-07-01/
LOCATION:MGH Awothek\, Karl-Bröger-Straße 9\, Nürnberg\, 90459
CATEGORIES:Digitale Welt
ORGANIZER;CN="AWO Kreisverband N%C3%BCrnberg e.V.":MAILTO:mgh-assistenz@awo-nbg.de
GEO:49.4436413;11.0785623
X-APPLE-STRUCTURED-LOCATION;VALUE=URI;X-ADDRESS=MGH Awothek Karl-Bröger-Straße 9 Nürnberg 90459;X-APPLE-RADIUS=500;X-TITLE=Karl-Bröger-Straße 9:geo:11.0785623,49.4436413
END:VEVENT
BEGIN:VEVENT
DTSTART;TZID=Europe/Berlin:20260708T150000
DTEND;TZID=Europe/Berlin:20260708T170000
DTSTAMP:20260420T103224
CREATED:20251124T150231Z
LAST-MODIFIED:20260219T115209Z
UID:10001283-1783522800-1783530000@service.magazin66.de
SUMMARY:Handyberatung
DESCRIPTION:Haben Sie Probleme bei der Nutzung Ihres Handys oder haben Sie Schwierigkeiten bei der Nutzung des Internets? Vereinbaren Sie einen Termin\, wir beantworten Ihre Fragen. \nInfo/Anmeldung: 0911/45060167\, mgh-assistenz@awo-nbg.de
URL:https://service.magazin66.de/event/handyberatung/2026-07-08/
LOCATION:MGH Awothek\, Karl-Bröger-Straße 9\, Nürnberg\, 90459
CATEGORIES:Digitale Welt
ORGANIZER;CN="AWO Kreisverband N%C3%BCrnberg e.V.":MAILTO:mgh-assistenz@awo-nbg.de
GEO:49.4436413;11.0785623
X-APPLE-STRUCTURED-LOCATION;VALUE=URI;X-ADDRESS=MGH Awothek Karl-Bröger-Straße 9 Nürnberg 90459;X-APPLE-RADIUS=500;X-TITLE=Karl-Bröger-Straße 9:geo:11.0785623,49.4436413
END:VEVENT
BEGIN:VEVENT
DTSTART;TZID=Europe/Berlin:20260715T150000
DTEND;TZID=Europe/Berlin:20260715T170000
DTSTAMP:20260420T103224
CREATED:20251124T150231Z
LAST-MODIFIED:20260219T115209Z
UID:10001284-1784127600-1784134800@service.magazin66.de
SUMMARY:Handyberatung
DESCRIPTION:Haben Sie Probleme bei der Nutzung Ihres Handys oder haben Sie Schwierigkeiten bei der Nutzung des Internets? Vereinbaren Sie einen Termin\, wir beantworten Ihre Fragen. \nInfo/Anmeldung: 0911/45060167\, mgh-assistenz@awo-nbg.de
URL:https://service.magazin66.de/event/handyberatung/2026-07-15/
LOCATION:MGH Awothek\, Karl-Bröger-Straße 9\, Nürnberg\, 90459
CATEGORIES:Digitale Welt
ORGANIZER;CN="AWO Kreisverband N%C3%BCrnberg e.V.":MAILTO:mgh-assistenz@awo-nbg.de
GEO:49.4436413;11.0785623
X-APPLE-STRUCTURED-LOCATION;VALUE=URI;X-ADDRESS=MGH Awothek Karl-Bröger-Straße 9 Nürnberg 90459;X-APPLE-RADIUS=500;X-TITLE=Karl-Bröger-Straße 9:geo:11.0785623,49.4436413
END:VEVENT
BEGIN:VEVENT
DTSTART;TZID=Europe/Berlin:20260722T150000
DTEND;TZID=Europe/Berlin:20260722T170000
DTSTAMP:20260420T103224
CREATED:20251124T150231Z
LAST-MODIFIED:20260219T115209Z
UID:10001285-1784732400-1784739600@service.magazin66.de
SUMMARY:Handyberatung
DESCRIPTION:Haben Sie Probleme bei der Nutzung Ihres Handys oder haben Sie Schwierigkeiten bei der Nutzung des Internets? Vereinbaren Sie einen Termin\, wir beantworten Ihre Fragen. \nInfo/Anmeldung: 0911/45060167\, mgh-assistenz@awo-nbg.de
URL:https://service.magazin66.de/event/handyberatung/2026-07-22/
LOCATION:MGH Awothek\, Karl-Bröger-Straße 9\, Nürnberg\, 90459
CATEGORIES:Digitale Welt
ORGANIZER;CN="AWO Kreisverband N%C3%BCrnberg e.V.":MAILTO:mgh-assistenz@awo-nbg.de
GEO:49.4436413;11.0785623
X-APPLE-STRUCTURED-LOCATION;VALUE=URI;X-ADDRESS=MGH Awothek Karl-Bröger-Straße 9 Nürnberg 90459;X-APPLE-RADIUS=500;X-TITLE=Karl-Bröger-Straße 9:geo:11.0785623,49.4436413
END:VEVENT
BEGIN:VEVENT
DTSTART;TZID=Europe/Berlin:20260729T150000
DTEND;TZID=Europe/Berlin:20260729T170000
DTSTAMP:20260420T103224
CREATED:20251124T150231Z
LAST-MODIFIED:20260219T115209Z
UID:10001286-1785337200-1785344400@service.magazin66.de
SUMMARY:Handyberatung
DESCRIPTION:Haben Sie Probleme bei der Nutzung Ihres Handys oder haben Sie Schwierigkeiten bei der Nutzung des Internets? Vereinbaren Sie einen Termin\, wir beantworten Ihre Fragen. \nInfo/Anmeldung: 0911/45060167\, mgh-assistenz@awo-nbg.de
URL:https://service.magazin66.de/event/handyberatung/2026-07-29/
LOCATION:MGH Awothek\, Karl-Bröger-Straße 9\, Nürnberg\, 90459
CATEGORIES:Digitale Welt
ORGANIZER;CN="AWO Kreisverband N%C3%BCrnberg e.V.":MAILTO:mgh-assistenz@awo-nbg.de
GEO:49.4436413;11.0785623
X-APPLE-STRUCTURED-LOCATION;VALUE=URI;X-ADDRESS=MGH Awothek Karl-Bröger-Straße 9 Nürnberg 90459;X-APPLE-RADIUS=500;X-TITLE=Karl-Bröger-Straße 9:geo:11.0785623,49.4436413
END:VEVENT
BEGIN:VEVENT
DTSTART;TZID=Europe/Berlin:20260805T150000
DTEND;TZID=Europe/Berlin:20260805T170000
DTSTAMP:20260420T103224
CREATED:20251124T150231Z
LAST-MODIFIED:20260219T115209Z
UID:10001287-1785942000-1785949200@service.magazin66.de
SUMMARY:Handyberatung
DESCRIPTION:Haben Sie Probleme bei der Nutzung Ihres Handys oder haben Sie Schwierigkeiten bei der Nutzung des Internets? Vereinbaren Sie einen Termin\, wir beantworten Ihre Fragen. \nInfo/Anmeldung: 0911/45060167\, mgh-assistenz@awo-nbg.de
URL:https://service.magazin66.de/event/handyberatung/2026-08-05/
LOCATION:MGH Awothek\, Karl-Bröger-Straße 9\, Nürnberg\, 90459
CATEGORIES:Digitale Welt
ORGANIZER;CN="AWO Kreisverband N%C3%BCrnberg e.V.":MAILTO:mgh-assistenz@awo-nbg.de
GEO:49.4436413;11.0785623
X-APPLE-STRUCTURED-LOCATION;VALUE=URI;X-ADDRESS=MGH Awothek Karl-Bröger-Straße 9 Nürnberg 90459;X-APPLE-RADIUS=500;X-TITLE=Karl-Bröger-Straße 9:geo:11.0785623,49.4436413
END:VEVENT
BEGIN:VEVENT
DTSTART;TZID=Europe/Berlin:20260812T150000
DTEND;TZID=Europe/Berlin:20260812T170000
DTSTAMP:20260420T103224
CREATED:20251124T150231Z
LAST-MODIFIED:20260219T115209Z
UID:10001288-1786546800-1786554000@service.magazin66.de
SUMMARY:Handyberatung
DESCRIPTION:Haben Sie Probleme bei der Nutzung Ihres Handys oder haben Sie Schwierigkeiten bei der Nutzung des Internets? Vereinbaren Sie einen Termin\, wir beantworten Ihre Fragen. \nInfo/Anmeldung: 0911/45060167\, mgh-assistenz@awo-nbg.de
URL:https://service.magazin66.de/event/handyberatung/2026-08-12/
LOCATION:MGH Awothek\, Karl-Bröger-Straße 9\, Nürnberg\, 90459
CATEGORIES:Digitale Welt
ORGANIZER;CN="AWO Kreisverband N%C3%BCrnberg e.V.":MAILTO:mgh-assistenz@awo-nbg.de
GEO:49.4436413;11.0785623
X-APPLE-STRUCTURED-LOCATION;VALUE=URI;X-ADDRESS=MGH Awothek Karl-Bröger-Straße 9 Nürnberg 90459;X-APPLE-RADIUS=500;X-TITLE=Karl-Bröger-Straße 9:geo:11.0785623,49.4436413
END:VEVENT
BEGIN:VEVENT
DTSTART;TZID=Europe/Berlin:20260819T150000
DTEND;TZID=Europe/Berlin:20260819T170000
DTSTAMP:20260420T103224
CREATED:20251124T150231Z
LAST-MODIFIED:20260219T115209Z
UID:10001289-1787151600-1787158800@service.magazin66.de
SUMMARY:Handyberatung
DESCRIPTION:Haben Sie Probleme bei der Nutzung Ihres Handys oder haben Sie Schwierigkeiten bei der Nutzung des Internets? Vereinbaren Sie einen Termin\, wir beantworten Ihre Fragen. \nInfo/Anmeldung: 0911/45060167\, mgh-assistenz@awo-nbg.de
URL:https://service.magazin66.de/event/handyberatung/2026-08-19/
LOCATION:MGH Awothek\, Karl-Bröger-Straße 9\, Nürnberg\, 90459
CATEGORIES:Digitale Welt
ORGANIZER;CN="AWO Kreisverband N%C3%BCrnberg e.V.":MAILTO:mgh-assistenz@awo-nbg.de
GEO:49.4436413;11.0785623
X-APPLE-STRUCTURED-LOCATION;VALUE=URI;X-ADDRESS=MGH Awothek Karl-Bröger-Straße 9 Nürnberg 90459;X-APPLE-RADIUS=500;X-TITLE=Karl-Bröger-Straße 9:geo:11.0785623,49.4436413
END:VEVENT
BEGIN:VEVENT
DTSTART;TZID=Europe/Berlin:20260826T150000
DTEND;TZID=Europe/Berlin:20260826T170000
DTSTAMP:20260420T103224
CREATED:20251124T150231Z
LAST-MODIFIED:20260219T115209Z
UID:10001290-1787756400-1787763600@service.magazin66.de
SUMMARY:Handyberatung
DESCRIPTION:Haben Sie Probleme bei der Nutzung Ihres Handys oder haben Sie Schwierigkeiten bei der Nutzung des Internets? Vereinbaren Sie einen Termin\, wir beantworten Ihre Fragen. \nInfo/Anmeldung: 0911/45060167\, mgh-assistenz@awo-nbg.de
URL:https://service.magazin66.de/event/handyberatung/2026-08-26/
LOCATION:MGH Awothek\, Karl-Bröger-Straße 9\, Nürnberg\, 90459
CATEGORIES:Digitale Welt
ORGANIZER;CN="AWO Kreisverband N%C3%BCrnberg e.V.":MAILTO:mgh-assistenz@awo-nbg.de
GEO:49.4436413;11.0785623
X-APPLE-STRUCTURED-LOCATION;VALUE=URI;X-ADDRESS=MGH Awothek Karl-Bröger-Straße 9 Nürnberg 90459;X-APPLE-RADIUS=500;X-TITLE=Karl-Bröger-Straße 9:geo:11.0785623,49.4436413
END:VEVENT
BEGIN:VEVENT
DTSTART;TZID=Europe/Berlin:20260902T150000
DTEND;TZID=Europe/Berlin:20260902T170000
DTSTAMP:20260420T103224
CREATED:20251124T150231Z
LAST-MODIFIED:20260219T115209Z
UID:10001291-1788361200-1788368400@service.magazin66.de
SUMMARY:Handyberatung
DESCRIPTION:Haben Sie Probleme bei der Nutzung Ihres Handys oder haben Sie Schwierigkeiten bei der Nutzung des Internets? Vereinbaren Sie einen Termin\, wir beantworten Ihre Fragen. \nInfo/Anmeldung: 0911/45060167\, mgh-assistenz@awo-nbg.de
URL:https://service.magazin66.de/event/handyberatung/2026-09-02/
LOCATION:MGH Awothek\, Karl-Bröger-Straße 9\, Nürnberg\, 90459
CATEGORIES:Digitale Welt
ORGANIZER;CN="AWO Kreisverband N%C3%BCrnberg e.V.":MAILTO:mgh-assistenz@awo-nbg.de
GEO:49.4436413;11.0785623
X-APPLE-STRUCTURED-LOCATION;VALUE=URI;X-ADDRESS=MGH Awothek Karl-Bröger-Straße 9 Nürnberg 90459;X-APPLE-RADIUS=500;X-TITLE=Karl-Bröger-Straße 9:geo:11.0785623,49.4436413
END:VEVENT
BEGIN:VEVENT
DTSTART;TZID=Europe/Berlin:20260909T150000
DTEND;TZID=Europe/Berlin:20260909T170000
DTSTAMP:20260420T103224
CREATED:20251124T150231Z
LAST-MODIFIED:20260219T115209Z
UID:10001292-1788966000-1788973200@service.magazin66.de
SUMMARY:Handyberatung
DESCRIPTION:Haben Sie Probleme bei der Nutzung Ihres Handys oder haben Sie Schwierigkeiten bei der Nutzung des Internets? Vereinbaren Sie einen Termin\, wir beantworten Ihre Fragen. \nInfo/Anmeldung: 0911/45060167\, mgh-assistenz@awo-nbg.de
URL:https://service.magazin66.de/event/handyberatung/2026-09-09/
LOCATION:MGH Awothek\, Karl-Bröger-Straße 9\, Nürnberg\, 90459
CATEGORIES:Digitale Welt
ORGANIZER;CN="AWO Kreisverband N%C3%BCrnberg e.V.":MAILTO:mgh-assistenz@awo-nbg.de
GEO:49.4436413;11.0785623
X-APPLE-STRUCTURED-LOCATION;VALUE=URI;X-ADDRESS=MGH Awothek Karl-Bröger-Straße 9 Nürnberg 90459;X-APPLE-RADIUS=500;X-TITLE=Karl-Bröger-Straße 9:geo:11.0785623,49.4436413
END:VEVENT
BEGIN:VEVENT
DTSTART;TZID=Europe/Berlin:20260916T150000
DTEND;TZID=Europe/Berlin:20260916T170000
DTSTAMP:20260420T103224
CREATED:20251124T150231Z
LAST-MODIFIED:20260219T115209Z
UID:10001293-1789570800-1789578000@service.magazin66.de
SUMMARY:Handyberatung
DESCRIPTION:Haben Sie Probleme bei der Nutzung Ihres Handys oder haben Sie Schwierigkeiten bei der Nutzung des Internets? Vereinbaren Sie einen Termin\, wir beantworten Ihre Fragen. \nInfo/Anmeldung: 0911/45060167\, mgh-assistenz@awo-nbg.de
URL:https://service.magazin66.de/event/handyberatung/2026-09-16/
LOCATION:MGH Awothek\, Karl-Bröger-Straße 9\, Nürnberg\, 90459
CATEGORIES:Digitale Welt
ORGANIZER;CN="AWO Kreisverband N%C3%BCrnberg e.V.":MAILTO:mgh-assistenz@awo-nbg.de
GEO:49.4436413;11.0785623
X-APPLE-STRUCTURED-LOCATION;VALUE=URI;X-ADDRESS=MGH Awothek Karl-Bröger-Straße 9 Nürnberg 90459;X-APPLE-RADIUS=500;X-TITLE=Karl-Bröger-Straße 9:geo:11.0785623,49.4436413
END:VEVENT
BEGIN:VEVENT
DTSTART;TZID=Europe/Berlin:20260923T150000
DTEND;TZID=Europe/Berlin:20260923T170000
DTSTAMP:20260420T103224
CREATED:20251124T150231Z
LAST-MODIFIED:20260219T115209Z
UID:10001294-1790175600-1790182800@service.magazin66.de
SUMMARY:Handyberatung
DESCRIPTION:Haben Sie Probleme bei der Nutzung Ihres Handys oder haben Sie Schwierigkeiten bei der Nutzung des Internets? Vereinbaren Sie einen Termin\, wir beantworten Ihre Fragen. \nInfo/Anmeldung: 0911/45060167\, mgh-assistenz@awo-nbg.de
URL:https://service.magazin66.de/event/handyberatung/2026-09-23/
LOCATION:MGH Awothek\, Karl-Bröger-Straße 9\, Nürnberg\, 90459
CATEGORIES:Digitale Welt
ORGANIZER;CN="AWO Kreisverband N%C3%BCrnberg e.V.":MAILTO:mgh-assistenz@awo-nbg.de
GEO:49.4436413;11.0785623
X-APPLE-STRUCTURED-LOCATION;VALUE=URI;X-ADDRESS=MGH Awothek Karl-Bröger-Straße 9 Nürnberg 90459;X-APPLE-RADIUS=500;X-TITLE=Karl-Bröger-Straße 9:geo:11.0785623,49.4436413
END:VEVENT
BEGIN:VEVENT
DTSTART;TZID=Europe/Berlin:20260930T150000
DTEND;TZID=Europe/Berlin:20260930T170000
DTSTAMP:20260420T103224
CREATED:20251124T150231Z
LAST-MODIFIED:20260219T115209Z
UID:10001295-1790780400-1790787600@service.magazin66.de
SUMMARY:Handyberatung
DESCRIPTION:Haben Sie Probleme bei der Nutzung Ihres Handys oder haben Sie Schwierigkeiten bei der Nutzung des Internets? Vereinbaren Sie einen Termin\, wir beantworten Ihre Fragen. \nInfo/Anmeldung: 0911/45060167\, mgh-assistenz@awo-nbg.de
URL:https://service.magazin66.de/event/handyberatung/2026-09-30/
LOCATION:MGH Awothek\, Karl-Bröger-Straße 9\, Nürnberg\, 90459
CATEGORIES:Digitale Welt
ORGANIZER;CN="AWO Kreisverband N%C3%BCrnberg e.V.":MAILTO:mgh-assistenz@awo-nbg.de
GEO:49.4436413;11.0785623
X-APPLE-STRUCTURED-LOCATION;VALUE=URI;X-ADDRESS=MGH Awothek Karl-Bröger-Straße 9 Nürnberg 90459;X-APPLE-RADIUS=500;X-TITLE=Karl-Bröger-Straße 9:geo:11.0785623,49.4436413
END:VEVENT
BEGIN:VEVENT
DTSTART;TZID=Europe/Berlin:20261007T150000
DTEND;TZID=Europe/Berlin:20261007T170000
DTSTAMP:20260420T103224
CREATED:20251124T150231Z
LAST-MODIFIED:20260219T115209Z
UID:10001296-1791385200-1791392400@service.magazin66.de
SUMMARY:Handyberatung
DESCRIPTION:Haben Sie Probleme bei der Nutzung Ihres Handys oder haben Sie Schwierigkeiten bei der Nutzung des Internets? Vereinbaren Sie einen Termin\, wir beantworten Ihre Fragen. \nInfo/Anmeldung: 0911/45060167\, mgh-assistenz@awo-nbg.de
URL:https://service.magazin66.de/event/handyberatung/2026-10-07/
LOCATION:MGH Awothek\, Karl-Bröger-Straße 9\, Nürnberg\, 90459
CATEGORIES:Digitale Welt
ORGANIZER;CN="AWO Kreisverband N%C3%BCrnberg e.V.":MAILTO:mgh-assistenz@awo-nbg.de
GEO:49.4436413;11.0785623
X-APPLE-STRUCTURED-LOCATION;VALUE=URI;X-ADDRESS=MGH Awothek Karl-Bröger-Straße 9 Nürnberg 90459;X-APPLE-RADIUS=500;X-TITLE=Karl-Bröger-Straße 9:geo:11.0785623,49.4436413
END:VEVENT
BEGIN:VEVENT
DTSTART;TZID=Europe/Berlin:20261014T150000
DTEND;TZID=Europe/Berlin:20261014T170000
DTSTAMP:20260420T103224
CREATED:20251124T150231Z
LAST-MODIFIED:20260219T115209Z
UID:10001297-1791990000-1791997200@service.magazin66.de
SUMMARY:Handyberatung
DESCRIPTION:Haben Sie Probleme bei der Nutzung Ihres Handys oder haben Sie Schwierigkeiten bei der Nutzung des Internets? Vereinbaren Sie einen Termin\, wir beantworten Ihre Fragen. \nInfo/Anmeldung: 0911/45060167\, mgh-assistenz@awo-nbg.de
URL:https://service.magazin66.de/event/handyberatung/2026-10-14/
LOCATION:MGH Awothek\, Karl-Bröger-Straße 9\, Nürnberg\, 90459
CATEGORIES:Digitale Welt
ORGANIZER;CN="AWO Kreisverband N%C3%BCrnberg e.V.":MAILTO:mgh-assistenz@awo-nbg.de
GEO:49.4436413;11.0785623
X-APPLE-STRUCTURED-LOCATION;VALUE=URI;X-ADDRESS=MGH Awothek Karl-Bröger-Straße 9 Nürnberg 90459;X-APPLE-RADIUS=500;X-TITLE=Karl-Bröger-Straße 9:geo:11.0785623,49.4436413
END:VEVENT
BEGIN:VEVENT
DTSTART;TZID=Europe/Berlin:20261021T150000
DTEND;TZID=Europe/Berlin:20261021T170000
DTSTAMP:20260420T103224
CREATED:20251124T150231Z
LAST-MODIFIED:20260219T115209Z
UID:10001298-1792594800-1792602000@service.magazin66.de
SUMMARY:Handyberatung
DESCRIPTION:Haben Sie Probleme bei der Nutzung Ihres Handys oder haben Sie Schwierigkeiten bei der Nutzung des Internets? Vereinbaren Sie einen Termin\, wir beantworten Ihre Fragen. \nInfo/Anmeldung: 0911/45060167\, mgh-assistenz@awo-nbg.de
URL:https://service.magazin66.de/event/handyberatung/2026-10-21/
LOCATION:MGH Awothek\, Karl-Bröger-Straße 9\, Nürnberg\, 90459
CATEGORIES:Digitale Welt
ORGANIZER;CN="AWO Kreisverband N%C3%BCrnberg e.V.":MAILTO:mgh-assistenz@awo-nbg.de
GEO:49.4436413;11.0785623
X-APPLE-STRUCTURED-LOCATION;VALUE=URI;X-ADDRESS=MGH Awothek Karl-Bröger-Straße 9 Nürnberg 90459;X-APPLE-RADIUS=500;X-TITLE=Karl-Bröger-Straße 9:geo:11.0785623,49.4436413
END:VEVENT
BEGIN:VEVENT
DTSTART;TZID=Europe/Berlin:20261028T150000
DTEND;TZID=Europe/Berlin:20261028T170000
DTSTAMP:20260420T103224
CREATED:20251124T150231Z
LAST-MODIFIED:20260219T115209Z
UID:10001299-1793199600-1793206800@service.magazin66.de
SUMMARY:Handyberatung
DESCRIPTION:Haben Sie Probleme bei der Nutzung Ihres Handys oder haben Sie Schwierigkeiten bei der Nutzung des Internets? Vereinbaren Sie einen Termin\, wir beantworten Ihre Fragen. \nInfo/Anmeldung: 0911/45060167\, mgh-assistenz@awo-nbg.de
URL:https://service.magazin66.de/event/handyberatung/2026-10-28/
LOCATION:MGH Awothek\, Karl-Bröger-Straße 9\, Nürnberg\, 90459
CATEGORIES:Digitale Welt
ORGANIZER;CN="AWO Kreisverband N%C3%BCrnberg e.V.":MAILTO:mgh-assistenz@awo-nbg.de
GEO:49.4436413;11.0785623
X-APPLE-STRUCTURED-LOCATION;VALUE=URI;X-ADDRESS=MGH Awothek Karl-Bröger-Straße 9 Nürnberg 90459;X-APPLE-RADIUS=500;X-TITLE=Karl-Bröger-Straße 9:geo:11.0785623,49.4436413
END:VEVENT
BEGIN:VEVENT
DTSTART;TZID=Europe/Berlin:20261104T150000
DTEND;TZID=Europe/Berlin:20261104T170000
DTSTAMP:20260420T103224
CREATED:20251124T150231Z
LAST-MODIFIED:20260219T115209Z
UID:10001300-1793804400-1793811600@service.magazin66.de
SUMMARY:Handyberatung
DESCRIPTION:Haben Sie Probleme bei der Nutzung Ihres Handys oder haben Sie Schwierigkeiten bei der Nutzung des Internets? Vereinbaren Sie einen Termin\, wir beantworten Ihre Fragen. \nInfo/Anmeldung: 0911/45060167\, mgh-assistenz@awo-nbg.de
URL:https://service.magazin66.de/event/handyberatung/2026-11-04/
LOCATION:MGH Awothek\, Karl-Bröger-Straße 9\, Nürnberg\, 90459
CATEGORIES:Digitale Welt
ORGANIZER;CN="AWO Kreisverband N%C3%BCrnberg e.V.":MAILTO:mgh-assistenz@awo-nbg.de
GEO:49.4436413;11.0785623
X-APPLE-STRUCTURED-LOCATION;VALUE=URI;X-ADDRESS=MGH Awothek Karl-Bröger-Straße 9 Nürnberg 90459;X-APPLE-RADIUS=500;X-TITLE=Karl-Bröger-Straße 9:geo:11.0785623,49.4436413
END:VEVENT
BEGIN:VEVENT
DTSTART;TZID=Europe/Berlin:20261111T150000
DTEND;TZID=Europe/Berlin:20261111T170000
DTSTAMP:20260420T103224
CREATED:20251124T150231Z
LAST-MODIFIED:20260219T115209Z
UID:10001301-1794409200-1794416400@service.magazin66.de
SUMMARY:Handyberatung
DESCRIPTION:Haben Sie Probleme bei der Nutzung Ihres Handys oder haben Sie Schwierigkeiten bei der Nutzung des Internets? Vereinbaren Sie einen Termin\, wir beantworten Ihre Fragen. \nInfo/Anmeldung: 0911/45060167\, mgh-assistenz@awo-nbg.de
URL:https://service.magazin66.de/event/handyberatung/2026-11-11/
LOCATION:MGH Awothek\, Karl-Bröger-Straße 9\, Nürnberg\, 90459
CATEGORIES:Digitale Welt
ORGANIZER;CN="AWO Kreisverband N%C3%BCrnberg e.V.":MAILTO:mgh-assistenz@awo-nbg.de
GEO:49.4436413;11.0785623
X-APPLE-STRUCTURED-LOCATION;VALUE=URI;X-ADDRESS=MGH Awothek Karl-Bröger-Straße 9 Nürnberg 90459;X-APPLE-RADIUS=500;X-TITLE=Karl-Bröger-Straße 9:geo:11.0785623,49.4436413
END:VEVENT
END:VCALENDAR