BEGIN:VCALENDAR
VERSION:2.0
PRODID:-//Service Magazin sechs+sechzig - ECPv6.15.18//NONSGML v1.0//EN
CALSCALE:GREGORIAN
METHOD:PUBLISH
X-ORIGINAL-URL:https://service.magazin66.de
X-WR-CALDESC:Veranstaltungen für Service Magazin sechs+sechzig
REFRESH-INTERVAL;VALUE=DURATION:PT1H
X-Robots-Tag:noindex
X-PUBLISHED-TTL:PT1H
BEGIN:VTIMEZONE
TZID:Europe/Berlin
BEGIN:DAYLIGHT
TZOFFSETFROM:+0100
TZOFFSETTO:+0200
TZNAME:CEST
DTSTART:20250330T010000
END:DAYLIGHT
BEGIN:STANDARD
TZOFFSETFROM:+0200
TZOFFSETTO:+0100
TZNAME:CET
DTSTART:20251026T010000
END:STANDARD
BEGIN:DAYLIGHT
TZOFFSETFROM:+0100
TZOFFSETTO:+0200
TZNAME:CEST
DTSTART:20260329T010000
END:DAYLIGHT
BEGIN:STANDARD
TZOFFSETFROM:+0200
TZOFFSETTO:+0100
TZNAME:CET
DTSTART:20261025T010000
END:STANDARD
BEGIN:DAYLIGHT
TZOFFSETFROM:+0100
TZOFFSETTO:+0200
TZNAME:CEST
DTSTART:20270328T010000
END:DAYLIGHT
BEGIN:STANDARD
TZOFFSETFROM:+0200
TZOFFSETTO:+0100
TZNAME:CET
DTSTART:20271031T010000
END:STANDARD
END:VTIMEZONE
BEGIN:VEVENT
DTSTART;TZID=Europe/Berlin:20260421T140000
DTEND;TZID=Europe/Berlin:20260421T160000
DTSTAMP:20260420T084611
CREATED:20251128T085758Z
LAST-MODIFIED:20251128T105443Z
UID:10000515-1776780000-1776787200@service.magazin66.de
SUMMARY:Erlanger Singioren - zusammen singen
DESCRIPTION:Wir treffen uns in der Martin-Luther-Kirche (Erlangen) und singen „altes“ und „neues“ Liedgut mit und ohne Begleitung. Weitere Inhalte sind: Stimmtraining\, Atemschule und Bewegung. Wir freuen uns\, wenn Sie einfach vorbeikommen und mitsingen. Eintritt 2 Euro\, keine Anmeldung erforderlich. \nFindet in den bayerischen Schulferien und an Feiertagen nicht statt.
URL:https://service.magazin66.de/event/erlanger-singioren-zusammen-singen/2026-04-21/
LOCATION:Martin-Luther-Kirche Erlangen\, Bamberger Str. 18\, 91056 Erlangen
CATEGORIES:Musik und Unterhaltung
ORGANIZER;CN="Abteilung f%C3%BCr Alters- und Generationenfragen Erlangen":MAILTO:alter-generationen@stadt.erlangen.de
GEO:49.5960541;10.9631176
X-APPLE-STRUCTURED-LOCATION;VALUE=URI;X-ADDRESS=Martin-Luther-Kirche Erlangen Bamberger Str. 18 91056 Erlangen;X-APPLE-RADIUS=500;X-TITLE=Bamberger Str. 18:geo:10.9631176,49.5960541
END:VEVENT
BEGIN:VEVENT
DTSTART;TZID=Europe/Berlin:20260428T140000
DTEND;TZID=Europe/Berlin:20260428T160000
DTSTAMP:20260420T084611
CREATED:20251128T085758Z
LAST-MODIFIED:20251128T105443Z
UID:10000516-1777384800-1777392000@service.magazin66.de
SUMMARY:Erlanger Singioren - zusammen singen
DESCRIPTION:Wir treffen uns in der Martin-Luther-Kirche (Erlangen) und singen „altes“ und „neues“ Liedgut mit und ohne Begleitung. Weitere Inhalte sind: Stimmtraining\, Atemschule und Bewegung. Wir freuen uns\, wenn Sie einfach vorbeikommen und mitsingen. Eintritt 2 Euro\, keine Anmeldung erforderlich. \nFindet in den bayerischen Schulferien und an Feiertagen nicht statt.
URL:https://service.magazin66.de/event/erlanger-singioren-zusammen-singen/2026-04-28/
LOCATION:Martin-Luther-Kirche Erlangen\, Bamberger Str. 18\, 91056 Erlangen
CATEGORIES:Musik und Unterhaltung
ORGANIZER;CN="Abteilung f%C3%BCr Alters- und Generationenfragen Erlangen":MAILTO:alter-generationen@stadt.erlangen.de
GEO:49.5960541;10.9631176
X-APPLE-STRUCTURED-LOCATION;VALUE=URI;X-ADDRESS=Martin-Luther-Kirche Erlangen Bamberger Str. 18 91056 Erlangen;X-APPLE-RADIUS=500;X-TITLE=Bamberger Str. 18:geo:10.9631176,49.5960541
END:VEVENT
BEGIN:VEVENT
DTSTART;TZID=Europe/Berlin:20260505T140000
DTEND;TZID=Europe/Berlin:20260505T160000
DTSTAMP:20260420T084611
CREATED:20251128T085758Z
LAST-MODIFIED:20251128T105443Z
UID:10000517-1777989600-1777996800@service.magazin66.de
SUMMARY:Erlanger Singioren - zusammen singen
DESCRIPTION:Wir treffen uns in der Martin-Luther-Kirche (Erlangen) und singen „altes“ und „neues“ Liedgut mit und ohne Begleitung. Weitere Inhalte sind: Stimmtraining\, Atemschule und Bewegung. Wir freuen uns\, wenn Sie einfach vorbeikommen und mitsingen. Eintritt 2 Euro\, keine Anmeldung erforderlich. \nFindet in den bayerischen Schulferien und an Feiertagen nicht statt.
URL:https://service.magazin66.de/event/erlanger-singioren-zusammen-singen/2026-05-05/
LOCATION:Martin-Luther-Kirche Erlangen\, Bamberger Str. 18\, 91056 Erlangen
CATEGORIES:Musik und Unterhaltung
ORGANIZER;CN="Abteilung f%C3%BCr Alters- und Generationenfragen Erlangen":MAILTO:alter-generationen@stadt.erlangen.de
GEO:49.5960541;10.9631176
X-APPLE-STRUCTURED-LOCATION;VALUE=URI;X-ADDRESS=Martin-Luther-Kirche Erlangen Bamberger Str. 18 91056 Erlangen;X-APPLE-RADIUS=500;X-TITLE=Bamberger Str. 18:geo:10.9631176,49.5960541
END:VEVENT
BEGIN:VEVENT
DTSTART;TZID=Europe/Berlin:20260512T140000
DTEND;TZID=Europe/Berlin:20260512T160000
DTSTAMP:20260420T084611
CREATED:20251128T085758Z
LAST-MODIFIED:20251128T105443Z
UID:10000518-1778594400-1778601600@service.magazin66.de
SUMMARY:Erlanger Singioren - zusammen singen
DESCRIPTION:Wir treffen uns in der Martin-Luther-Kirche (Erlangen) und singen „altes“ und „neues“ Liedgut mit und ohne Begleitung. Weitere Inhalte sind: Stimmtraining\, Atemschule und Bewegung. Wir freuen uns\, wenn Sie einfach vorbeikommen und mitsingen. Eintritt 2 Euro\, keine Anmeldung erforderlich. \nFindet in den bayerischen Schulferien und an Feiertagen nicht statt.
URL:https://service.magazin66.de/event/erlanger-singioren-zusammen-singen/2026-05-12/
LOCATION:Martin-Luther-Kirche Erlangen\, Bamberger Str. 18\, 91056 Erlangen
CATEGORIES:Musik und Unterhaltung
ORGANIZER;CN="Abteilung f%C3%BCr Alters- und Generationenfragen Erlangen":MAILTO:alter-generationen@stadt.erlangen.de
GEO:49.5960541;10.9631176
X-APPLE-STRUCTURED-LOCATION;VALUE=URI;X-ADDRESS=Martin-Luther-Kirche Erlangen Bamberger Str. 18 91056 Erlangen;X-APPLE-RADIUS=500;X-TITLE=Bamberger Str. 18:geo:10.9631176,49.5960541
END:VEVENT
BEGIN:VEVENT
DTSTART;TZID=Europe/Berlin:20260519T140000
DTEND;TZID=Europe/Berlin:20260519T160000
DTSTAMP:20260420T084611
CREATED:20251128T085758Z
LAST-MODIFIED:20251128T105443Z
UID:10000519-1779199200-1779206400@service.magazin66.de
SUMMARY:Erlanger Singioren - zusammen singen
DESCRIPTION:Wir treffen uns in der Martin-Luther-Kirche (Erlangen) und singen „altes“ und „neues“ Liedgut mit und ohne Begleitung. Weitere Inhalte sind: Stimmtraining\, Atemschule und Bewegung. Wir freuen uns\, wenn Sie einfach vorbeikommen und mitsingen. Eintritt 2 Euro\, keine Anmeldung erforderlich. \nFindet in den bayerischen Schulferien und an Feiertagen nicht statt.
URL:https://service.magazin66.de/event/erlanger-singioren-zusammen-singen/2026-05-19/
LOCATION:Martin-Luther-Kirche Erlangen\, Bamberger Str. 18\, 91056 Erlangen
CATEGORIES:Musik und Unterhaltung
ORGANIZER;CN="Abteilung f%C3%BCr Alters- und Generationenfragen Erlangen":MAILTO:alter-generationen@stadt.erlangen.de
GEO:49.5960541;10.9631176
X-APPLE-STRUCTURED-LOCATION;VALUE=URI;X-ADDRESS=Martin-Luther-Kirche Erlangen Bamberger Str. 18 91056 Erlangen;X-APPLE-RADIUS=500;X-TITLE=Bamberger Str. 18:geo:10.9631176,49.5960541
END:VEVENT
BEGIN:VEVENT
DTSTART;TZID=Europe/Berlin:20260602T140000
DTEND;TZID=Europe/Berlin:20260602T160000
DTSTAMP:20260420T084611
CREATED:20251128T085758Z
LAST-MODIFIED:20251128T105443Z
UID:10000520-1780408800-1780416000@service.magazin66.de
SUMMARY:Erlanger Singioren - zusammen singen
DESCRIPTION:Wir treffen uns in der Martin-Luther-Kirche (Erlangen) und singen „altes“ und „neues“ Liedgut mit und ohne Begleitung. Weitere Inhalte sind: Stimmtraining\, Atemschule und Bewegung. Wir freuen uns\, wenn Sie einfach vorbeikommen und mitsingen. Eintritt 2 Euro\, keine Anmeldung erforderlich. \nFindet in den bayerischen Schulferien und an Feiertagen nicht statt.
URL:https://service.magazin66.de/event/erlanger-singioren-zusammen-singen/2026-06-02/
LOCATION:Martin-Luther-Kirche Erlangen\, Bamberger Str. 18\, 91056 Erlangen
CATEGORIES:Musik und Unterhaltung
ORGANIZER;CN="Abteilung f%C3%BCr Alters- und Generationenfragen Erlangen":MAILTO:alter-generationen@stadt.erlangen.de
GEO:49.5960541;10.9631176
X-APPLE-STRUCTURED-LOCATION;VALUE=URI;X-ADDRESS=Martin-Luther-Kirche Erlangen Bamberger Str. 18 91056 Erlangen;X-APPLE-RADIUS=500;X-TITLE=Bamberger Str. 18:geo:10.9631176,49.5960541
END:VEVENT
BEGIN:VEVENT
DTSTART;TZID=Europe/Berlin:20260609T140000
DTEND;TZID=Europe/Berlin:20260609T160000
DTSTAMP:20260420T084611
CREATED:20251128T085758Z
LAST-MODIFIED:20251128T105443Z
UID:10000521-1781013600-1781020800@service.magazin66.de
SUMMARY:Erlanger Singioren - zusammen singen
DESCRIPTION:Wir treffen uns in der Martin-Luther-Kirche (Erlangen) und singen „altes“ und „neues“ Liedgut mit und ohne Begleitung. Weitere Inhalte sind: Stimmtraining\, Atemschule und Bewegung. Wir freuen uns\, wenn Sie einfach vorbeikommen und mitsingen. Eintritt 2 Euro\, keine Anmeldung erforderlich. \nFindet in den bayerischen Schulferien und an Feiertagen nicht statt.
URL:https://service.magazin66.de/event/erlanger-singioren-zusammen-singen/2026-06-09/
LOCATION:Martin-Luther-Kirche Erlangen\, Bamberger Str. 18\, 91056 Erlangen
CATEGORIES:Musik und Unterhaltung
ORGANIZER;CN="Abteilung f%C3%BCr Alters- und Generationenfragen Erlangen":MAILTO:alter-generationen@stadt.erlangen.de
GEO:49.5960541;10.9631176
X-APPLE-STRUCTURED-LOCATION;VALUE=URI;X-ADDRESS=Martin-Luther-Kirche Erlangen Bamberger Str. 18 91056 Erlangen;X-APPLE-RADIUS=500;X-TITLE=Bamberger Str. 18:geo:10.9631176,49.5960541
END:VEVENT
BEGIN:VEVENT
DTSTART;TZID=Europe/Berlin:20260616T140000
DTEND;TZID=Europe/Berlin:20260616T160000
DTSTAMP:20260420T084611
CREATED:20251128T085758Z
LAST-MODIFIED:20251128T105443Z
UID:10000522-1781618400-1781625600@service.magazin66.de
SUMMARY:Erlanger Singioren - zusammen singen
DESCRIPTION:Wir treffen uns in der Martin-Luther-Kirche (Erlangen) und singen „altes“ und „neues“ Liedgut mit und ohne Begleitung. Weitere Inhalte sind: Stimmtraining\, Atemschule und Bewegung. Wir freuen uns\, wenn Sie einfach vorbeikommen und mitsingen. Eintritt 2 Euro\, keine Anmeldung erforderlich. \nFindet in den bayerischen Schulferien und an Feiertagen nicht statt.
URL:https://service.magazin66.de/event/erlanger-singioren-zusammen-singen/2026-06-16/
LOCATION:Martin-Luther-Kirche Erlangen\, Bamberger Str. 18\, 91056 Erlangen
CATEGORIES:Musik und Unterhaltung
ORGANIZER;CN="Abteilung f%C3%BCr Alters- und Generationenfragen Erlangen":MAILTO:alter-generationen@stadt.erlangen.de
GEO:49.5960541;10.9631176
X-APPLE-STRUCTURED-LOCATION;VALUE=URI;X-ADDRESS=Martin-Luther-Kirche Erlangen Bamberger Str. 18 91056 Erlangen;X-APPLE-RADIUS=500;X-TITLE=Bamberger Str. 18:geo:10.9631176,49.5960541
END:VEVENT
END:VCALENDAR