BEGIN:VCALENDAR
VERSION:2.0
PRODID:-//Service Magazin sechs+sechzig - ECPv6.15.18//NONSGML v1.0//EN
CALSCALE:GREGORIAN
METHOD:PUBLISH
X-ORIGINAL-URL:https://service.magazin66.de
X-WR-CALDESC:Veranstaltungen für Service Magazin sechs+sechzig
REFRESH-INTERVAL;VALUE=DURATION:PT1H
X-Robots-Tag:noindex
X-PUBLISHED-TTL:PT1H
BEGIN:VTIMEZONE
TZID:Europe/Berlin
BEGIN:DAYLIGHT
TZOFFSETFROM:+0100
TZOFFSETTO:+0200
TZNAME:CEST
DTSTART:20250330T010000
END:DAYLIGHT
BEGIN:STANDARD
TZOFFSETFROM:+0200
TZOFFSETTO:+0100
TZNAME:CET
DTSTART:20251026T010000
END:STANDARD
BEGIN:DAYLIGHT
TZOFFSETFROM:+0100
TZOFFSETTO:+0200
TZNAME:CEST
DTSTART:20260329T010000
END:DAYLIGHT
BEGIN:STANDARD
TZOFFSETFROM:+0200
TZOFFSETTO:+0100
TZNAME:CET
DTSTART:20261025T010000
END:STANDARD
BEGIN:DAYLIGHT
TZOFFSETFROM:+0100
TZOFFSETTO:+0200
TZNAME:CEST
DTSTART:20270328T010000
END:DAYLIGHT
BEGIN:STANDARD
TZOFFSETFROM:+0200
TZOFFSETTO:+0100
TZNAME:CET
DTSTART:20271031T010000
END:STANDARD
END:VTIMEZONE
BEGIN:VEVENT
DTSTART;TZID=Europe/Berlin:20260426T100000
DTEND;TZID=Europe/Berlin:20260426T110000
DTSTAMP:20260420T070304
CREATED:20251128T163210Z
LAST-MODIFIED:20251128T163210Z
UID:10000770-1777197600-1777201200@service.magazin66.de
SUMMARY:Latschn und Ratschn
DESCRIPTION:Langsames Gehtempo\, 60 Minuten lang\, auf befestigten Wegen. Treffpunkt: Freitags auf dem Parkplatz „Neubaugasse am Markt“\, Pulverturmgasse 5\, Altdorf. \nEine Anmeldung ist nicht erforderlich – kommen Sie einfach vorbei!
URL:https://service.magazin66.de/event/latschn-und-ratschn/2026-04-26/
LOCATION:Parkplatz Neubaugasse am Markt\, Pulverturmgasse 5\, Altdorf\, 90518
CATEGORIES:Spaziergänge und Wanderungen
GEO:49.384052;11.355745
X-APPLE-STRUCTURED-LOCATION;VALUE=URI;X-ADDRESS=Parkplatz Neubaugasse am Markt Pulverturmgasse 5 Altdorf 90518;X-APPLE-RADIUS=500;X-TITLE=Pulverturmgasse 5:geo:11.355745,49.384052
END:VEVENT
BEGIN:VEVENT
DTSTART;TZID=Europe/Berlin:20260503T100000
DTEND;TZID=Europe/Berlin:20260503T110000
DTSTAMP:20260420T070304
CREATED:20251128T163210Z
LAST-MODIFIED:20251128T163210Z
UID:10000771-1777802400-1777806000@service.magazin66.de
SUMMARY:Latschn und Ratschn
DESCRIPTION:Langsames Gehtempo\, 60 Minuten lang\, auf befestigten Wegen. Treffpunkt: Freitags auf dem Parkplatz „Neubaugasse am Markt“\, Pulverturmgasse 5\, Altdorf. \nEine Anmeldung ist nicht erforderlich – kommen Sie einfach vorbei!
URL:https://service.magazin66.de/event/latschn-und-ratschn/2026-05-03/
LOCATION:Parkplatz Neubaugasse am Markt\, Pulverturmgasse 5\, Altdorf\, 90518
CATEGORIES:Spaziergänge und Wanderungen
GEO:49.384052;11.355745
X-APPLE-STRUCTURED-LOCATION;VALUE=URI;X-ADDRESS=Parkplatz Neubaugasse am Markt Pulverturmgasse 5 Altdorf 90518;X-APPLE-RADIUS=500;X-TITLE=Pulverturmgasse 5:geo:11.355745,49.384052
END:VEVENT
BEGIN:VEVENT
DTSTART;TZID=Europe/Berlin:20260510T100000
DTEND;TZID=Europe/Berlin:20260510T110000
DTSTAMP:20260420T070304
CREATED:20251128T163210Z
LAST-MODIFIED:20251128T163210Z
UID:10000772-1778407200-1778410800@service.magazin66.de
SUMMARY:Latschn und Ratschn
DESCRIPTION:Langsames Gehtempo\, 60 Minuten lang\, auf befestigten Wegen. Treffpunkt: Freitags auf dem Parkplatz „Neubaugasse am Markt“\, Pulverturmgasse 5\, Altdorf. \nEine Anmeldung ist nicht erforderlich – kommen Sie einfach vorbei!
URL:https://service.magazin66.de/event/latschn-und-ratschn/2026-05-10/
LOCATION:Parkplatz Neubaugasse am Markt\, Pulverturmgasse 5\, Altdorf\, 90518
CATEGORIES:Spaziergänge und Wanderungen
GEO:49.384052;11.355745
X-APPLE-STRUCTURED-LOCATION;VALUE=URI;X-ADDRESS=Parkplatz Neubaugasse am Markt Pulverturmgasse 5 Altdorf 90518;X-APPLE-RADIUS=500;X-TITLE=Pulverturmgasse 5:geo:11.355745,49.384052
END:VEVENT
BEGIN:VEVENT
DTSTART;TZID=Europe/Berlin:20260517T100000
DTEND;TZID=Europe/Berlin:20260517T110000
DTSTAMP:20260420T070304
CREATED:20251128T163210Z
LAST-MODIFIED:20251128T163210Z
UID:10000773-1779012000-1779015600@service.magazin66.de
SUMMARY:Latschn und Ratschn
DESCRIPTION:Langsames Gehtempo\, 60 Minuten lang\, auf befestigten Wegen. Treffpunkt: Freitags auf dem Parkplatz „Neubaugasse am Markt“\, Pulverturmgasse 5\, Altdorf. \nEine Anmeldung ist nicht erforderlich – kommen Sie einfach vorbei!
URL:https://service.magazin66.de/event/latschn-und-ratschn/2026-05-17/
LOCATION:Parkplatz Neubaugasse am Markt\, Pulverturmgasse 5\, Altdorf\, 90518
CATEGORIES:Spaziergänge und Wanderungen
GEO:49.384052;11.355745
X-APPLE-STRUCTURED-LOCATION;VALUE=URI;X-ADDRESS=Parkplatz Neubaugasse am Markt Pulverturmgasse 5 Altdorf 90518;X-APPLE-RADIUS=500;X-TITLE=Pulverturmgasse 5:geo:11.355745,49.384052
END:VEVENT
BEGIN:VEVENT
DTSTART;TZID=Europe/Berlin:20260524T100000
DTEND;TZID=Europe/Berlin:20260524T110000
DTSTAMP:20260420T070304
CREATED:20251128T163210Z
LAST-MODIFIED:20251128T163210Z
UID:10000774-1779616800-1779620400@service.magazin66.de
SUMMARY:Latschn und Ratschn
DESCRIPTION:Langsames Gehtempo\, 60 Minuten lang\, auf befestigten Wegen. Treffpunkt: Freitags auf dem Parkplatz „Neubaugasse am Markt“\, Pulverturmgasse 5\, Altdorf. \nEine Anmeldung ist nicht erforderlich – kommen Sie einfach vorbei!
URL:https://service.magazin66.de/event/latschn-und-ratschn/2026-05-24/
LOCATION:Parkplatz Neubaugasse am Markt\, Pulverturmgasse 5\, Altdorf\, 90518
CATEGORIES:Spaziergänge und Wanderungen
GEO:49.384052;11.355745
X-APPLE-STRUCTURED-LOCATION;VALUE=URI;X-ADDRESS=Parkplatz Neubaugasse am Markt Pulverturmgasse 5 Altdorf 90518;X-APPLE-RADIUS=500;X-TITLE=Pulverturmgasse 5:geo:11.355745,49.384052
END:VEVENT
BEGIN:VEVENT
DTSTART;TZID=Europe/Berlin:20260531T100000
DTEND;TZID=Europe/Berlin:20260531T110000
DTSTAMP:20260420T070304
CREATED:20251128T163210Z
LAST-MODIFIED:20251128T163210Z
UID:10000775-1780221600-1780225200@service.magazin66.de
SUMMARY:Latschn und Ratschn
DESCRIPTION:Langsames Gehtempo\, 60 Minuten lang\, auf befestigten Wegen. Treffpunkt: Freitags auf dem Parkplatz „Neubaugasse am Markt“\, Pulverturmgasse 5\, Altdorf. \nEine Anmeldung ist nicht erforderlich – kommen Sie einfach vorbei!
URL:https://service.magazin66.de/event/latschn-und-ratschn/2026-05-31/
LOCATION:Parkplatz Neubaugasse am Markt\, Pulverturmgasse 5\, Altdorf\, 90518
CATEGORIES:Spaziergänge und Wanderungen
GEO:49.384052;11.355745
X-APPLE-STRUCTURED-LOCATION;VALUE=URI;X-ADDRESS=Parkplatz Neubaugasse am Markt Pulverturmgasse 5 Altdorf 90518;X-APPLE-RADIUS=500;X-TITLE=Pulverturmgasse 5:geo:11.355745,49.384052
END:VEVENT
BEGIN:VEVENT
DTSTART;TZID=Europe/Berlin:20260607T100000
DTEND;TZID=Europe/Berlin:20260607T110000
DTSTAMP:20260420T070304
CREATED:20251128T163210Z
LAST-MODIFIED:20251128T163210Z
UID:10000776-1780826400-1780830000@service.magazin66.de
SUMMARY:Latschn und Ratschn
DESCRIPTION:Langsames Gehtempo\, 60 Minuten lang\, auf befestigten Wegen. Treffpunkt: Freitags auf dem Parkplatz „Neubaugasse am Markt“\, Pulverturmgasse 5\, Altdorf. \nEine Anmeldung ist nicht erforderlich – kommen Sie einfach vorbei!
URL:https://service.magazin66.de/event/latschn-und-ratschn/2026-06-07/
LOCATION:Parkplatz Neubaugasse am Markt\, Pulverturmgasse 5\, Altdorf\, 90518
CATEGORIES:Spaziergänge und Wanderungen
GEO:49.384052;11.355745
X-APPLE-STRUCTURED-LOCATION;VALUE=URI;X-ADDRESS=Parkplatz Neubaugasse am Markt Pulverturmgasse 5 Altdorf 90518;X-APPLE-RADIUS=500;X-TITLE=Pulverturmgasse 5:geo:11.355745,49.384052
END:VEVENT
BEGIN:VEVENT
DTSTART;TZID=Europe/Berlin:20260614T100000
DTEND;TZID=Europe/Berlin:20260614T110000
DTSTAMP:20260420T070304
CREATED:20251128T163210Z
LAST-MODIFIED:20251128T163210Z
UID:10000777-1781431200-1781434800@service.magazin66.de
SUMMARY:Latschn und Ratschn
DESCRIPTION:Langsames Gehtempo\, 60 Minuten lang\, auf befestigten Wegen. Treffpunkt: Freitags auf dem Parkplatz „Neubaugasse am Markt“\, Pulverturmgasse 5\, Altdorf. \nEine Anmeldung ist nicht erforderlich – kommen Sie einfach vorbei!
URL:https://service.magazin66.de/event/latschn-und-ratschn/2026-06-14/
LOCATION:Parkplatz Neubaugasse am Markt\, Pulverturmgasse 5\, Altdorf\, 90518
CATEGORIES:Spaziergänge und Wanderungen
GEO:49.384052;11.355745
X-APPLE-STRUCTURED-LOCATION;VALUE=URI;X-ADDRESS=Parkplatz Neubaugasse am Markt Pulverturmgasse 5 Altdorf 90518;X-APPLE-RADIUS=500;X-TITLE=Pulverturmgasse 5:geo:11.355745,49.384052
END:VEVENT
BEGIN:VEVENT
DTSTART;TZID=Europe/Berlin:20260621T100000
DTEND;TZID=Europe/Berlin:20260621T110000
DTSTAMP:20260420T070304
CREATED:20251128T163210Z
LAST-MODIFIED:20251128T163210Z
UID:10000778-1782036000-1782039600@service.magazin66.de
SUMMARY:Latschn und Ratschn
DESCRIPTION:Langsames Gehtempo\, 60 Minuten lang\, auf befestigten Wegen. Treffpunkt: Freitags auf dem Parkplatz „Neubaugasse am Markt“\, Pulverturmgasse 5\, Altdorf. \nEine Anmeldung ist nicht erforderlich – kommen Sie einfach vorbei!
URL:https://service.magazin66.de/event/latschn-und-ratschn/2026-06-21/
LOCATION:Parkplatz Neubaugasse am Markt\, Pulverturmgasse 5\, Altdorf\, 90518
CATEGORIES:Spaziergänge und Wanderungen
GEO:49.384052;11.355745
X-APPLE-STRUCTURED-LOCATION;VALUE=URI;X-ADDRESS=Parkplatz Neubaugasse am Markt Pulverturmgasse 5 Altdorf 90518;X-APPLE-RADIUS=500;X-TITLE=Pulverturmgasse 5:geo:11.355745,49.384052
END:VEVENT
BEGIN:VEVENT
DTSTART;TZID=Europe/Berlin:20260628T100000
DTEND;TZID=Europe/Berlin:20260628T110000
DTSTAMP:20260420T070304
CREATED:20251128T163210Z
LAST-MODIFIED:20251128T163210Z
UID:10000779-1782640800-1782644400@service.magazin66.de
SUMMARY:Latschn und Ratschn
DESCRIPTION:Langsames Gehtempo\, 60 Minuten lang\, auf befestigten Wegen. Treffpunkt: Freitags auf dem Parkplatz „Neubaugasse am Markt“\, Pulverturmgasse 5\, Altdorf. \nEine Anmeldung ist nicht erforderlich – kommen Sie einfach vorbei!
URL:https://service.magazin66.de/event/latschn-und-ratschn/2026-06-28/
LOCATION:Parkplatz Neubaugasse am Markt\, Pulverturmgasse 5\, Altdorf\, 90518
CATEGORIES:Spaziergänge und Wanderungen
GEO:49.384052;11.355745
X-APPLE-STRUCTURED-LOCATION;VALUE=URI;X-ADDRESS=Parkplatz Neubaugasse am Markt Pulverturmgasse 5 Altdorf 90518;X-APPLE-RADIUS=500;X-TITLE=Pulverturmgasse 5:geo:11.355745,49.384052
END:VEVENT
BEGIN:VEVENT
DTSTART;TZID=Europe/Berlin:20260705T100000
DTEND;TZID=Europe/Berlin:20260705T110000
DTSTAMP:20260420T070304
CREATED:20251128T163210Z
LAST-MODIFIED:20251128T163210Z
UID:10000780-1783245600-1783249200@service.magazin66.de
SUMMARY:Latschn und Ratschn
DESCRIPTION:Langsames Gehtempo\, 60 Minuten lang\, auf befestigten Wegen. Treffpunkt: Freitags auf dem Parkplatz „Neubaugasse am Markt“\, Pulverturmgasse 5\, Altdorf. \nEine Anmeldung ist nicht erforderlich – kommen Sie einfach vorbei!
URL:https://service.magazin66.de/event/latschn-und-ratschn/2026-07-05/
LOCATION:Parkplatz Neubaugasse am Markt\, Pulverturmgasse 5\, Altdorf\, 90518
CATEGORIES:Spaziergänge und Wanderungen
GEO:49.384052;11.355745
X-APPLE-STRUCTURED-LOCATION;VALUE=URI;X-ADDRESS=Parkplatz Neubaugasse am Markt Pulverturmgasse 5 Altdorf 90518;X-APPLE-RADIUS=500;X-TITLE=Pulverturmgasse 5:geo:11.355745,49.384052
END:VEVENT
BEGIN:VEVENT
DTSTART;TZID=Europe/Berlin:20260712T100000
DTEND;TZID=Europe/Berlin:20260712T110000
DTSTAMP:20260420T070304
CREATED:20251128T163210Z
LAST-MODIFIED:20251128T163210Z
UID:10000781-1783850400-1783854000@service.magazin66.de
SUMMARY:Latschn und Ratschn
DESCRIPTION:Langsames Gehtempo\, 60 Minuten lang\, auf befestigten Wegen. Treffpunkt: Freitags auf dem Parkplatz „Neubaugasse am Markt“\, Pulverturmgasse 5\, Altdorf. \nEine Anmeldung ist nicht erforderlich – kommen Sie einfach vorbei!
URL:https://service.magazin66.de/event/latschn-und-ratschn/2026-07-12/
LOCATION:Parkplatz Neubaugasse am Markt\, Pulverturmgasse 5\, Altdorf\, 90518
CATEGORIES:Spaziergänge und Wanderungen
GEO:49.384052;11.355745
X-APPLE-STRUCTURED-LOCATION;VALUE=URI;X-ADDRESS=Parkplatz Neubaugasse am Markt Pulverturmgasse 5 Altdorf 90518;X-APPLE-RADIUS=500;X-TITLE=Pulverturmgasse 5:geo:11.355745,49.384052
END:VEVENT
BEGIN:VEVENT
DTSTART;TZID=Europe/Berlin:20260719T100000
DTEND;TZID=Europe/Berlin:20260719T110000
DTSTAMP:20260420T070304
CREATED:20251128T163210Z
LAST-MODIFIED:20251128T163210Z
UID:10000782-1784455200-1784458800@service.magazin66.de
SUMMARY:Latschn und Ratschn
DESCRIPTION:Langsames Gehtempo\, 60 Minuten lang\, auf befestigten Wegen. Treffpunkt: Freitags auf dem Parkplatz „Neubaugasse am Markt“\, Pulverturmgasse 5\, Altdorf. \nEine Anmeldung ist nicht erforderlich – kommen Sie einfach vorbei!
URL:https://service.magazin66.de/event/latschn-und-ratschn/2026-07-19/
LOCATION:Parkplatz Neubaugasse am Markt\, Pulverturmgasse 5\, Altdorf\, 90518
CATEGORIES:Spaziergänge und Wanderungen
GEO:49.384052;11.355745
X-APPLE-STRUCTURED-LOCATION;VALUE=URI;X-ADDRESS=Parkplatz Neubaugasse am Markt Pulverturmgasse 5 Altdorf 90518;X-APPLE-RADIUS=500;X-TITLE=Pulverturmgasse 5:geo:11.355745,49.384052
END:VEVENT
BEGIN:VEVENT
DTSTART;TZID=Europe/Berlin:20260726T100000
DTEND;TZID=Europe/Berlin:20260726T110000
DTSTAMP:20260420T070304
CREATED:20251128T163210Z
LAST-MODIFIED:20251128T163210Z
UID:10000783-1785060000-1785063600@service.magazin66.de
SUMMARY:Latschn und Ratschn
DESCRIPTION:Langsames Gehtempo\, 60 Minuten lang\, auf befestigten Wegen. Treffpunkt: Freitags auf dem Parkplatz „Neubaugasse am Markt“\, Pulverturmgasse 5\, Altdorf. \nEine Anmeldung ist nicht erforderlich – kommen Sie einfach vorbei!
URL:https://service.magazin66.de/event/latschn-und-ratschn/2026-07-26/
LOCATION:Parkplatz Neubaugasse am Markt\, Pulverturmgasse 5\, Altdorf\, 90518
CATEGORIES:Spaziergänge und Wanderungen
GEO:49.384052;11.355745
X-APPLE-STRUCTURED-LOCATION;VALUE=URI;X-ADDRESS=Parkplatz Neubaugasse am Markt Pulverturmgasse 5 Altdorf 90518;X-APPLE-RADIUS=500;X-TITLE=Pulverturmgasse 5:geo:11.355745,49.384052
END:VEVENT
BEGIN:VEVENT
DTSTART;TZID=Europe/Berlin:20260802T100000
DTEND;TZID=Europe/Berlin:20260802T110000
DTSTAMP:20260420T070304
CREATED:20251128T163210Z
LAST-MODIFIED:20251128T163210Z
UID:10000784-1785664800-1785668400@service.magazin66.de
SUMMARY:Latschn und Ratschn
DESCRIPTION:Langsames Gehtempo\, 60 Minuten lang\, auf befestigten Wegen. Treffpunkt: Freitags auf dem Parkplatz „Neubaugasse am Markt“\, Pulverturmgasse 5\, Altdorf. \nEine Anmeldung ist nicht erforderlich – kommen Sie einfach vorbei!
URL:https://service.magazin66.de/event/latschn-und-ratschn/2026-08-02/
LOCATION:Parkplatz Neubaugasse am Markt\, Pulverturmgasse 5\, Altdorf\, 90518
CATEGORIES:Spaziergänge und Wanderungen
GEO:49.384052;11.355745
X-APPLE-STRUCTURED-LOCATION;VALUE=URI;X-ADDRESS=Parkplatz Neubaugasse am Markt Pulverturmgasse 5 Altdorf 90518;X-APPLE-RADIUS=500;X-TITLE=Pulverturmgasse 5:geo:11.355745,49.384052
END:VEVENT
BEGIN:VEVENT
DTSTART;TZID=Europe/Berlin:20260809T100000
DTEND;TZID=Europe/Berlin:20260809T110000
DTSTAMP:20260420T070304
CREATED:20251128T163210Z
LAST-MODIFIED:20251128T163210Z
UID:10000785-1786269600-1786273200@service.magazin66.de
SUMMARY:Latschn und Ratschn
DESCRIPTION:Langsames Gehtempo\, 60 Minuten lang\, auf befestigten Wegen. Treffpunkt: Freitags auf dem Parkplatz „Neubaugasse am Markt“\, Pulverturmgasse 5\, Altdorf. \nEine Anmeldung ist nicht erforderlich – kommen Sie einfach vorbei!
URL:https://service.magazin66.de/event/latschn-und-ratschn/2026-08-09/
LOCATION:Parkplatz Neubaugasse am Markt\, Pulverturmgasse 5\, Altdorf\, 90518
CATEGORIES:Spaziergänge und Wanderungen
GEO:49.384052;11.355745
X-APPLE-STRUCTURED-LOCATION;VALUE=URI;X-ADDRESS=Parkplatz Neubaugasse am Markt Pulverturmgasse 5 Altdorf 90518;X-APPLE-RADIUS=500;X-TITLE=Pulverturmgasse 5:geo:11.355745,49.384052
END:VEVENT
BEGIN:VEVENT
DTSTART;TZID=Europe/Berlin:20260816T100000
DTEND;TZID=Europe/Berlin:20260816T110000
DTSTAMP:20260420T070304
CREATED:20251128T163210Z
LAST-MODIFIED:20251128T163210Z
UID:10000786-1786874400-1786878000@service.magazin66.de
SUMMARY:Latschn und Ratschn
DESCRIPTION:Langsames Gehtempo\, 60 Minuten lang\, auf befestigten Wegen. Treffpunkt: Freitags auf dem Parkplatz „Neubaugasse am Markt“\, Pulverturmgasse 5\, Altdorf. \nEine Anmeldung ist nicht erforderlich – kommen Sie einfach vorbei!
URL:https://service.magazin66.de/event/latschn-und-ratschn/2026-08-16/
LOCATION:Parkplatz Neubaugasse am Markt\, Pulverturmgasse 5\, Altdorf\, 90518
CATEGORIES:Spaziergänge und Wanderungen
GEO:49.384052;11.355745
X-APPLE-STRUCTURED-LOCATION;VALUE=URI;X-ADDRESS=Parkplatz Neubaugasse am Markt Pulverturmgasse 5 Altdorf 90518;X-APPLE-RADIUS=500;X-TITLE=Pulverturmgasse 5:geo:11.355745,49.384052
END:VEVENT
BEGIN:VEVENT
DTSTART;TZID=Europe/Berlin:20260823T100000
DTEND;TZID=Europe/Berlin:20260823T110000
DTSTAMP:20260420T070304
CREATED:20251128T163210Z
LAST-MODIFIED:20251128T163210Z
UID:10000787-1787479200-1787482800@service.magazin66.de
SUMMARY:Latschn und Ratschn
DESCRIPTION:Langsames Gehtempo\, 60 Minuten lang\, auf befestigten Wegen. Treffpunkt: Freitags auf dem Parkplatz „Neubaugasse am Markt“\, Pulverturmgasse 5\, Altdorf. \nEine Anmeldung ist nicht erforderlich – kommen Sie einfach vorbei!
URL:https://service.magazin66.de/event/latschn-und-ratschn/2026-08-23/
LOCATION:Parkplatz Neubaugasse am Markt\, Pulverturmgasse 5\, Altdorf\, 90518
CATEGORIES:Spaziergänge und Wanderungen
GEO:49.384052;11.355745
X-APPLE-STRUCTURED-LOCATION;VALUE=URI;X-ADDRESS=Parkplatz Neubaugasse am Markt Pulverturmgasse 5 Altdorf 90518;X-APPLE-RADIUS=500;X-TITLE=Pulverturmgasse 5:geo:11.355745,49.384052
END:VEVENT
BEGIN:VEVENT
DTSTART;TZID=Europe/Berlin:20260830T100000
DTEND;TZID=Europe/Berlin:20260830T110000
DTSTAMP:20260420T070304
CREATED:20251128T163210Z
LAST-MODIFIED:20251128T163210Z
UID:10000788-1788084000-1788087600@service.magazin66.de
SUMMARY:Latschn und Ratschn
DESCRIPTION:Langsames Gehtempo\, 60 Minuten lang\, auf befestigten Wegen. Treffpunkt: Freitags auf dem Parkplatz „Neubaugasse am Markt“\, Pulverturmgasse 5\, Altdorf. \nEine Anmeldung ist nicht erforderlich – kommen Sie einfach vorbei!
URL:https://service.magazin66.de/event/latschn-und-ratschn/2026-08-30/
LOCATION:Parkplatz Neubaugasse am Markt\, Pulverturmgasse 5\, Altdorf\, 90518
CATEGORIES:Spaziergänge und Wanderungen
GEO:49.384052;11.355745
X-APPLE-STRUCTURED-LOCATION;VALUE=URI;X-ADDRESS=Parkplatz Neubaugasse am Markt Pulverturmgasse 5 Altdorf 90518;X-APPLE-RADIUS=500;X-TITLE=Pulverturmgasse 5:geo:11.355745,49.384052
END:VEVENT
BEGIN:VEVENT
DTSTART;TZID=Europe/Berlin:20260906T100000
DTEND;TZID=Europe/Berlin:20260906T110000
DTSTAMP:20260420T070304
CREATED:20251128T163210Z
LAST-MODIFIED:20251128T163210Z
UID:10000789-1788688800-1788692400@service.magazin66.de
SUMMARY:Latschn und Ratschn
DESCRIPTION:Langsames Gehtempo\, 60 Minuten lang\, auf befestigten Wegen. Treffpunkt: Freitags auf dem Parkplatz „Neubaugasse am Markt“\, Pulverturmgasse 5\, Altdorf. \nEine Anmeldung ist nicht erforderlich – kommen Sie einfach vorbei!
URL:https://service.magazin66.de/event/latschn-und-ratschn/2026-09-06/
LOCATION:Parkplatz Neubaugasse am Markt\, Pulverturmgasse 5\, Altdorf\, 90518
CATEGORIES:Spaziergänge und Wanderungen
GEO:49.384052;11.355745
X-APPLE-STRUCTURED-LOCATION;VALUE=URI;X-ADDRESS=Parkplatz Neubaugasse am Markt Pulverturmgasse 5 Altdorf 90518;X-APPLE-RADIUS=500;X-TITLE=Pulverturmgasse 5:geo:11.355745,49.384052
END:VEVENT
BEGIN:VEVENT
DTSTART;TZID=Europe/Berlin:20260913T100000
DTEND;TZID=Europe/Berlin:20260913T110000
DTSTAMP:20260420T070304
CREATED:20251128T163210Z
LAST-MODIFIED:20251128T163210Z
UID:10000790-1789293600-1789297200@service.magazin66.de
SUMMARY:Latschn und Ratschn
DESCRIPTION:Langsames Gehtempo\, 60 Minuten lang\, auf befestigten Wegen. Treffpunkt: Freitags auf dem Parkplatz „Neubaugasse am Markt“\, Pulverturmgasse 5\, Altdorf. \nEine Anmeldung ist nicht erforderlich – kommen Sie einfach vorbei!
URL:https://service.magazin66.de/event/latschn-und-ratschn/2026-09-13/
LOCATION:Parkplatz Neubaugasse am Markt\, Pulverturmgasse 5\, Altdorf\, 90518
CATEGORIES:Spaziergänge und Wanderungen
GEO:49.384052;11.355745
X-APPLE-STRUCTURED-LOCATION;VALUE=URI;X-ADDRESS=Parkplatz Neubaugasse am Markt Pulverturmgasse 5 Altdorf 90518;X-APPLE-RADIUS=500;X-TITLE=Pulverturmgasse 5:geo:11.355745,49.384052
END:VEVENT
BEGIN:VEVENT
DTSTART;TZID=Europe/Berlin:20260920T100000
DTEND;TZID=Europe/Berlin:20260920T110000
DTSTAMP:20260420T070304
CREATED:20251128T163210Z
LAST-MODIFIED:20251128T163210Z
UID:10000791-1789898400-1789902000@service.magazin66.de
SUMMARY:Latschn und Ratschn
DESCRIPTION:Langsames Gehtempo\, 60 Minuten lang\, auf befestigten Wegen. Treffpunkt: Freitags auf dem Parkplatz „Neubaugasse am Markt“\, Pulverturmgasse 5\, Altdorf. \nEine Anmeldung ist nicht erforderlich – kommen Sie einfach vorbei!
URL:https://service.magazin66.de/event/latschn-und-ratschn/2026-09-20/
LOCATION:Parkplatz Neubaugasse am Markt\, Pulverturmgasse 5\, Altdorf\, 90518
CATEGORIES:Spaziergänge und Wanderungen
GEO:49.384052;11.355745
X-APPLE-STRUCTURED-LOCATION;VALUE=URI;X-ADDRESS=Parkplatz Neubaugasse am Markt Pulverturmgasse 5 Altdorf 90518;X-APPLE-RADIUS=500;X-TITLE=Pulverturmgasse 5:geo:11.355745,49.384052
END:VEVENT
BEGIN:VEVENT
DTSTART;TZID=Europe/Berlin:20260927T100000
DTEND;TZID=Europe/Berlin:20260927T110000
DTSTAMP:20260420T070304
CREATED:20251128T163210Z
LAST-MODIFIED:20251128T163210Z
UID:10000792-1790503200-1790506800@service.magazin66.de
SUMMARY:Latschn und Ratschn
DESCRIPTION:Langsames Gehtempo\, 60 Minuten lang\, auf befestigten Wegen. Treffpunkt: Freitags auf dem Parkplatz „Neubaugasse am Markt“\, Pulverturmgasse 5\, Altdorf. \nEine Anmeldung ist nicht erforderlich – kommen Sie einfach vorbei!
URL:https://service.magazin66.de/event/latschn-und-ratschn/2026-09-27/
LOCATION:Parkplatz Neubaugasse am Markt\, Pulverturmgasse 5\, Altdorf\, 90518
CATEGORIES:Spaziergänge und Wanderungen
GEO:49.384052;11.355745
X-APPLE-STRUCTURED-LOCATION;VALUE=URI;X-ADDRESS=Parkplatz Neubaugasse am Markt Pulverturmgasse 5 Altdorf 90518;X-APPLE-RADIUS=500;X-TITLE=Pulverturmgasse 5:geo:11.355745,49.384052
END:VEVENT
BEGIN:VEVENT
DTSTART;TZID=Europe/Berlin:20261004T100000
DTEND;TZID=Europe/Berlin:20261004T110000
DTSTAMP:20260420T070304
CREATED:20251128T163210Z
LAST-MODIFIED:20251128T163210Z
UID:10000793-1791108000-1791111600@service.magazin66.de
SUMMARY:Latschn und Ratschn
DESCRIPTION:Langsames Gehtempo\, 60 Minuten lang\, auf befestigten Wegen. Treffpunkt: Freitags auf dem Parkplatz „Neubaugasse am Markt“\, Pulverturmgasse 5\, Altdorf. \nEine Anmeldung ist nicht erforderlich – kommen Sie einfach vorbei!
URL:https://service.magazin66.de/event/latschn-und-ratschn/2026-10-04/
LOCATION:Parkplatz Neubaugasse am Markt\, Pulverturmgasse 5\, Altdorf\, 90518
CATEGORIES:Spaziergänge und Wanderungen
GEO:49.384052;11.355745
X-APPLE-STRUCTURED-LOCATION;VALUE=URI;X-ADDRESS=Parkplatz Neubaugasse am Markt Pulverturmgasse 5 Altdorf 90518;X-APPLE-RADIUS=500;X-TITLE=Pulverturmgasse 5:geo:11.355745,49.384052
END:VEVENT
BEGIN:VEVENT
DTSTART;TZID=Europe/Berlin:20261011T100000
DTEND;TZID=Europe/Berlin:20261011T110000
DTSTAMP:20260420T070304
CREATED:20251128T163210Z
LAST-MODIFIED:20251128T163210Z
UID:10000794-1791712800-1791716400@service.magazin66.de
SUMMARY:Latschn und Ratschn
DESCRIPTION:Langsames Gehtempo\, 60 Minuten lang\, auf befestigten Wegen. Treffpunkt: Freitags auf dem Parkplatz „Neubaugasse am Markt“\, Pulverturmgasse 5\, Altdorf. \nEine Anmeldung ist nicht erforderlich – kommen Sie einfach vorbei!
URL:https://service.magazin66.de/event/latschn-und-ratschn/2026-10-11/
LOCATION:Parkplatz Neubaugasse am Markt\, Pulverturmgasse 5\, Altdorf\, 90518
CATEGORIES:Spaziergänge und Wanderungen
GEO:49.384052;11.355745
X-APPLE-STRUCTURED-LOCATION;VALUE=URI;X-ADDRESS=Parkplatz Neubaugasse am Markt Pulverturmgasse 5 Altdorf 90518;X-APPLE-RADIUS=500;X-TITLE=Pulverturmgasse 5:geo:11.355745,49.384052
END:VEVENT
BEGIN:VEVENT
DTSTART;TZID=Europe/Berlin:20261018T100000
DTEND;TZID=Europe/Berlin:20261018T110000
DTSTAMP:20260420T070304
CREATED:20251128T163210Z
LAST-MODIFIED:20251128T163210Z
UID:10000795-1792317600-1792321200@service.magazin66.de
SUMMARY:Latschn und Ratschn
DESCRIPTION:Langsames Gehtempo\, 60 Minuten lang\, auf befestigten Wegen. Treffpunkt: Freitags auf dem Parkplatz „Neubaugasse am Markt“\, Pulverturmgasse 5\, Altdorf. \nEine Anmeldung ist nicht erforderlich – kommen Sie einfach vorbei!
URL:https://service.magazin66.de/event/latschn-und-ratschn/2026-10-18/
LOCATION:Parkplatz Neubaugasse am Markt\, Pulverturmgasse 5\, Altdorf\, 90518
CATEGORIES:Spaziergänge und Wanderungen
GEO:49.384052;11.355745
X-APPLE-STRUCTURED-LOCATION;VALUE=URI;X-ADDRESS=Parkplatz Neubaugasse am Markt Pulverturmgasse 5 Altdorf 90518;X-APPLE-RADIUS=500;X-TITLE=Pulverturmgasse 5:geo:11.355745,49.384052
END:VEVENT
BEGIN:VEVENT
DTSTART;TZID=Europe/Berlin:20261025T100000
DTEND;TZID=Europe/Berlin:20261025T110000
DTSTAMP:20260420T070304
CREATED:20251128T163210Z
LAST-MODIFIED:20251128T163210Z
UID:10000796-1792922400-1792926000@service.magazin66.de
SUMMARY:Latschn und Ratschn
DESCRIPTION:Langsames Gehtempo\, 60 Minuten lang\, auf befestigten Wegen. Treffpunkt: Freitags auf dem Parkplatz „Neubaugasse am Markt“\, Pulverturmgasse 5\, Altdorf. \nEine Anmeldung ist nicht erforderlich – kommen Sie einfach vorbei!
URL:https://service.magazin66.de/event/latschn-und-ratschn/2026-10-25/
LOCATION:Parkplatz Neubaugasse am Markt\, Pulverturmgasse 5\, Altdorf\, 90518
CATEGORIES:Spaziergänge und Wanderungen
GEO:49.384052;11.355745
X-APPLE-STRUCTURED-LOCATION;VALUE=URI;X-ADDRESS=Parkplatz Neubaugasse am Markt Pulverturmgasse 5 Altdorf 90518;X-APPLE-RADIUS=500;X-TITLE=Pulverturmgasse 5:geo:11.355745,49.384052
END:VEVENT
BEGIN:VEVENT
DTSTART;TZID=Europe/Berlin:20261101T100000
DTEND;TZID=Europe/Berlin:20261101T110000
DTSTAMP:20260420T070304
CREATED:20251128T163210Z
LAST-MODIFIED:20251128T163210Z
UID:10000797-1793527200-1793530800@service.magazin66.de
SUMMARY:Latschn und Ratschn
DESCRIPTION:Langsames Gehtempo\, 60 Minuten lang\, auf befestigten Wegen. Treffpunkt: Freitags auf dem Parkplatz „Neubaugasse am Markt“\, Pulverturmgasse 5\, Altdorf. \nEine Anmeldung ist nicht erforderlich – kommen Sie einfach vorbei!
URL:https://service.magazin66.de/event/latschn-und-ratschn/2026-11-01/
LOCATION:Parkplatz Neubaugasse am Markt\, Pulverturmgasse 5\, Altdorf\, 90518
CATEGORIES:Spaziergänge und Wanderungen
GEO:49.384052;11.355745
X-APPLE-STRUCTURED-LOCATION;VALUE=URI;X-ADDRESS=Parkplatz Neubaugasse am Markt Pulverturmgasse 5 Altdorf 90518;X-APPLE-RADIUS=500;X-TITLE=Pulverturmgasse 5:geo:11.355745,49.384052
END:VEVENT
BEGIN:VEVENT
DTSTART;TZID=Europe/Berlin:20261108T100000
DTEND;TZID=Europe/Berlin:20261108T110000
DTSTAMP:20260420T070304
CREATED:20251128T163210Z
LAST-MODIFIED:20251128T163210Z
UID:10000798-1794132000-1794135600@service.magazin66.de
SUMMARY:Latschn und Ratschn
DESCRIPTION:Langsames Gehtempo\, 60 Minuten lang\, auf befestigten Wegen. Treffpunkt: Freitags auf dem Parkplatz „Neubaugasse am Markt“\, Pulverturmgasse 5\, Altdorf. \nEine Anmeldung ist nicht erforderlich – kommen Sie einfach vorbei!
URL:https://service.magazin66.de/event/latschn-und-ratschn/2026-11-08/
LOCATION:Parkplatz Neubaugasse am Markt\, Pulverturmgasse 5\, Altdorf\, 90518
CATEGORIES:Spaziergänge und Wanderungen
GEO:49.384052;11.355745
X-APPLE-STRUCTURED-LOCATION;VALUE=URI;X-ADDRESS=Parkplatz Neubaugasse am Markt Pulverturmgasse 5 Altdorf 90518;X-APPLE-RADIUS=500;X-TITLE=Pulverturmgasse 5:geo:11.355745,49.384052
END:VEVENT
BEGIN:VEVENT
DTSTART;TZID=Europe/Berlin:20261115T100000
DTEND;TZID=Europe/Berlin:20261115T110000
DTSTAMP:20260420T070304
CREATED:20251128T163210Z
LAST-MODIFIED:20251128T163210Z
UID:10000799-1794736800-1794740400@service.magazin66.de
SUMMARY:Latschn und Ratschn
DESCRIPTION:Langsames Gehtempo\, 60 Minuten lang\, auf befestigten Wegen. Treffpunkt: Freitags auf dem Parkplatz „Neubaugasse am Markt“\, Pulverturmgasse 5\, Altdorf. \nEine Anmeldung ist nicht erforderlich – kommen Sie einfach vorbei!
URL:https://service.magazin66.de/event/latschn-und-ratschn/2026-11-15/
LOCATION:Parkplatz Neubaugasse am Markt\, Pulverturmgasse 5\, Altdorf\, 90518
CATEGORIES:Spaziergänge und Wanderungen
GEO:49.384052;11.355745
X-APPLE-STRUCTURED-LOCATION;VALUE=URI;X-ADDRESS=Parkplatz Neubaugasse am Markt Pulverturmgasse 5 Altdorf 90518;X-APPLE-RADIUS=500;X-TITLE=Pulverturmgasse 5:geo:11.355745,49.384052
END:VEVENT
END:VCALENDAR