BEGIN:VCALENDAR
VERSION:2.0
PRODID:-//Service Magazin sechs+sechzig - ECPv6.15.18//NONSGML v1.0//EN
CALSCALE:GREGORIAN
METHOD:PUBLISH
X-ORIGINAL-URL:https://service.magazin66.de
X-WR-CALDESC:Veranstaltungen für Service Magazin sechs+sechzig
REFRESH-INTERVAL;VALUE=DURATION:PT1H
X-Robots-Tag:noindex
X-PUBLISHED-TTL:PT1H
BEGIN:VTIMEZONE
TZID:Europe/Berlin
BEGIN:DAYLIGHT
TZOFFSETFROM:+0100
TZOFFSETTO:+0200
TZNAME:CEST
DTSTART:20250330T010000
END:DAYLIGHT
BEGIN:STANDARD
TZOFFSETFROM:+0200
TZOFFSETTO:+0100
TZNAME:CET
DTSTART:20251026T010000
END:STANDARD
BEGIN:DAYLIGHT
TZOFFSETFROM:+0100
TZOFFSETTO:+0200
TZNAME:CEST
DTSTART:20260329T010000
END:DAYLIGHT
BEGIN:STANDARD
TZOFFSETFROM:+0200
TZOFFSETTO:+0100
TZNAME:CET
DTSTART:20261025T010000
END:STANDARD
BEGIN:DAYLIGHT
TZOFFSETFROM:+0100
TZOFFSETTO:+0200
TZNAME:CEST
DTSTART:20270328T010000
END:DAYLIGHT
BEGIN:STANDARD
TZOFFSETFROM:+0200
TZOFFSETTO:+0100
TZNAME:CET
DTSTART:20271031T010000
END:STANDARD
END:VTIMEZONE
BEGIN:VEVENT
DTSTART;TZID=Europe/Berlin:20260424T100000
DTEND;TZID=Europe/Berlin:20260424T120000
DTSTAMP:20260420T070252
CREATED:20251128T164728Z
LAST-MODIFIED:20251128T164728Z
UID:10000840-1777024800-1777032000@service.magazin66.de
SUMMARY:Walk & Talk
DESCRIPTION:Spaziergang (ca. 1\,5 – 2 Stunden) und Austausch. Treffpunkt: Jeden Mittwoch um 10 Uhr am Bahnhof Altdorf. Ohne Anmeldung.
URL:https://service.magazin66.de/event/walk-talk/2026-04-24/
LOCATION:Bahnhof Altdorf\, Bahnhofstr. 20\, Altdorf\, 90518
CATEGORIES:Spaziergänge und Wanderungen
GEO:49.3892515;11.3530281
X-APPLE-STRUCTURED-LOCATION;VALUE=URI;X-ADDRESS=Bahnhof Altdorf Bahnhofstr. 20 Altdorf 90518;X-APPLE-RADIUS=500;X-TITLE=Bahnhofstr. 20:geo:11.3530281,49.3892515
END:VEVENT
BEGIN:VEVENT
DTSTART;TZID=Europe/Berlin:20260501T100000
DTEND;TZID=Europe/Berlin:20260501T120000
DTSTAMP:20260420T070252
CREATED:20251128T164728Z
LAST-MODIFIED:20251128T164728Z
UID:10000841-1777629600-1777636800@service.magazin66.de
SUMMARY:Walk & Talk
DESCRIPTION:Spaziergang (ca. 1\,5 – 2 Stunden) und Austausch. Treffpunkt: Jeden Mittwoch um 10 Uhr am Bahnhof Altdorf. Ohne Anmeldung.
URL:https://service.magazin66.de/event/walk-talk/2026-05-01/
LOCATION:Bahnhof Altdorf\, Bahnhofstr. 20\, Altdorf\, 90518
CATEGORIES:Spaziergänge und Wanderungen
GEO:49.3892515;11.3530281
X-APPLE-STRUCTURED-LOCATION;VALUE=URI;X-ADDRESS=Bahnhof Altdorf Bahnhofstr. 20 Altdorf 90518;X-APPLE-RADIUS=500;X-TITLE=Bahnhofstr. 20:geo:11.3530281,49.3892515
END:VEVENT
BEGIN:VEVENT
DTSTART;TZID=Europe/Berlin:20260508T100000
DTEND;TZID=Europe/Berlin:20260508T120000
DTSTAMP:20260420T070252
CREATED:20251128T164728Z
LAST-MODIFIED:20251128T164728Z
UID:10000842-1778234400-1778241600@service.magazin66.de
SUMMARY:Walk & Talk
DESCRIPTION:Spaziergang (ca. 1\,5 – 2 Stunden) und Austausch. Treffpunkt: Jeden Mittwoch um 10 Uhr am Bahnhof Altdorf. Ohne Anmeldung.
URL:https://service.magazin66.de/event/walk-talk/2026-05-08/
LOCATION:Bahnhof Altdorf\, Bahnhofstr. 20\, Altdorf\, 90518
CATEGORIES:Spaziergänge und Wanderungen
GEO:49.3892515;11.3530281
X-APPLE-STRUCTURED-LOCATION;VALUE=URI;X-ADDRESS=Bahnhof Altdorf Bahnhofstr. 20 Altdorf 90518;X-APPLE-RADIUS=500;X-TITLE=Bahnhofstr. 20:geo:11.3530281,49.3892515
END:VEVENT
BEGIN:VEVENT
DTSTART;TZID=Europe/Berlin:20260515T100000
DTEND;TZID=Europe/Berlin:20260515T120000
DTSTAMP:20260420T070252
CREATED:20251128T164728Z
LAST-MODIFIED:20251128T164728Z
UID:10000843-1778839200-1778846400@service.magazin66.de
SUMMARY:Walk & Talk
DESCRIPTION:Spaziergang (ca. 1\,5 – 2 Stunden) und Austausch. Treffpunkt: Jeden Mittwoch um 10 Uhr am Bahnhof Altdorf. Ohne Anmeldung.
URL:https://service.magazin66.de/event/walk-talk/2026-05-15/
LOCATION:Bahnhof Altdorf\, Bahnhofstr. 20\, Altdorf\, 90518
CATEGORIES:Spaziergänge und Wanderungen
GEO:49.3892515;11.3530281
X-APPLE-STRUCTURED-LOCATION;VALUE=URI;X-ADDRESS=Bahnhof Altdorf Bahnhofstr. 20 Altdorf 90518;X-APPLE-RADIUS=500;X-TITLE=Bahnhofstr. 20:geo:11.3530281,49.3892515
END:VEVENT
BEGIN:VEVENT
DTSTART;TZID=Europe/Berlin:20260522T100000
DTEND;TZID=Europe/Berlin:20260522T120000
DTSTAMP:20260420T070252
CREATED:20251128T164728Z
LAST-MODIFIED:20251128T164728Z
UID:10000844-1779444000-1779451200@service.magazin66.de
SUMMARY:Walk & Talk
DESCRIPTION:Spaziergang (ca. 1\,5 – 2 Stunden) und Austausch. Treffpunkt: Jeden Mittwoch um 10 Uhr am Bahnhof Altdorf. Ohne Anmeldung.
URL:https://service.magazin66.de/event/walk-talk/2026-05-22/
LOCATION:Bahnhof Altdorf\, Bahnhofstr. 20\, Altdorf\, 90518
CATEGORIES:Spaziergänge und Wanderungen
GEO:49.3892515;11.3530281
X-APPLE-STRUCTURED-LOCATION;VALUE=URI;X-ADDRESS=Bahnhof Altdorf Bahnhofstr. 20 Altdorf 90518;X-APPLE-RADIUS=500;X-TITLE=Bahnhofstr. 20:geo:11.3530281,49.3892515
END:VEVENT
BEGIN:VEVENT
DTSTART;TZID=Europe/Berlin:20260529T100000
DTEND;TZID=Europe/Berlin:20260529T120000
DTSTAMP:20260420T070252
CREATED:20251128T164728Z
LAST-MODIFIED:20251128T164728Z
UID:10000845-1780048800-1780056000@service.magazin66.de
SUMMARY:Walk & Talk
DESCRIPTION:Spaziergang (ca. 1\,5 – 2 Stunden) und Austausch. Treffpunkt: Jeden Mittwoch um 10 Uhr am Bahnhof Altdorf. Ohne Anmeldung.
URL:https://service.magazin66.de/event/walk-talk/2026-05-29/
LOCATION:Bahnhof Altdorf\, Bahnhofstr. 20\, Altdorf\, 90518
CATEGORIES:Spaziergänge und Wanderungen
GEO:49.3892515;11.3530281
X-APPLE-STRUCTURED-LOCATION;VALUE=URI;X-ADDRESS=Bahnhof Altdorf Bahnhofstr. 20 Altdorf 90518;X-APPLE-RADIUS=500;X-TITLE=Bahnhofstr. 20:geo:11.3530281,49.3892515
END:VEVENT
BEGIN:VEVENT
DTSTART;TZID=Europe/Berlin:20260605T100000
DTEND;TZID=Europe/Berlin:20260605T120000
DTSTAMP:20260420T070252
CREATED:20251128T164728Z
LAST-MODIFIED:20251128T164728Z
UID:10000846-1780653600-1780660800@service.magazin66.de
SUMMARY:Walk & Talk
DESCRIPTION:Spaziergang (ca. 1\,5 – 2 Stunden) und Austausch. Treffpunkt: Jeden Mittwoch um 10 Uhr am Bahnhof Altdorf. Ohne Anmeldung.
URL:https://service.magazin66.de/event/walk-talk/2026-06-05/
LOCATION:Bahnhof Altdorf\, Bahnhofstr. 20\, Altdorf\, 90518
CATEGORIES:Spaziergänge und Wanderungen
GEO:49.3892515;11.3530281
X-APPLE-STRUCTURED-LOCATION;VALUE=URI;X-ADDRESS=Bahnhof Altdorf Bahnhofstr. 20 Altdorf 90518;X-APPLE-RADIUS=500;X-TITLE=Bahnhofstr. 20:geo:11.3530281,49.3892515
END:VEVENT
BEGIN:VEVENT
DTSTART;TZID=Europe/Berlin:20260612T100000
DTEND;TZID=Europe/Berlin:20260612T120000
DTSTAMP:20260420T070252
CREATED:20251128T164728Z
LAST-MODIFIED:20251128T164728Z
UID:10000847-1781258400-1781265600@service.magazin66.de
SUMMARY:Walk & Talk
DESCRIPTION:Spaziergang (ca. 1\,5 – 2 Stunden) und Austausch. Treffpunkt: Jeden Mittwoch um 10 Uhr am Bahnhof Altdorf. Ohne Anmeldung.
URL:https://service.magazin66.de/event/walk-talk/2026-06-12/
LOCATION:Bahnhof Altdorf\, Bahnhofstr. 20\, Altdorf\, 90518
CATEGORIES:Spaziergänge und Wanderungen
GEO:49.3892515;11.3530281
X-APPLE-STRUCTURED-LOCATION;VALUE=URI;X-ADDRESS=Bahnhof Altdorf Bahnhofstr. 20 Altdorf 90518;X-APPLE-RADIUS=500;X-TITLE=Bahnhofstr. 20:geo:11.3530281,49.3892515
END:VEVENT
BEGIN:VEVENT
DTSTART;TZID=Europe/Berlin:20260619T100000
DTEND;TZID=Europe/Berlin:20260619T120000
DTSTAMP:20260420T070252
CREATED:20251128T164728Z
LAST-MODIFIED:20251128T164728Z
UID:10000848-1781863200-1781870400@service.magazin66.de
SUMMARY:Walk & Talk
DESCRIPTION:Spaziergang (ca. 1\,5 – 2 Stunden) und Austausch. Treffpunkt: Jeden Mittwoch um 10 Uhr am Bahnhof Altdorf. Ohne Anmeldung.
URL:https://service.magazin66.de/event/walk-talk/2026-06-19/
LOCATION:Bahnhof Altdorf\, Bahnhofstr. 20\, Altdorf\, 90518
CATEGORIES:Spaziergänge und Wanderungen
GEO:49.3892515;11.3530281
X-APPLE-STRUCTURED-LOCATION;VALUE=URI;X-ADDRESS=Bahnhof Altdorf Bahnhofstr. 20 Altdorf 90518;X-APPLE-RADIUS=500;X-TITLE=Bahnhofstr. 20:geo:11.3530281,49.3892515
END:VEVENT
BEGIN:VEVENT
DTSTART;TZID=Europe/Berlin:20260626T100000
DTEND;TZID=Europe/Berlin:20260626T120000
DTSTAMP:20260420T070252
CREATED:20251128T164728Z
LAST-MODIFIED:20251128T164728Z
UID:10000849-1782468000-1782475200@service.magazin66.de
SUMMARY:Walk & Talk
DESCRIPTION:Spaziergang (ca. 1\,5 – 2 Stunden) und Austausch. Treffpunkt: Jeden Mittwoch um 10 Uhr am Bahnhof Altdorf. Ohne Anmeldung.
URL:https://service.magazin66.de/event/walk-talk/2026-06-26/
LOCATION:Bahnhof Altdorf\, Bahnhofstr. 20\, Altdorf\, 90518
CATEGORIES:Spaziergänge und Wanderungen
GEO:49.3892515;11.3530281
X-APPLE-STRUCTURED-LOCATION;VALUE=URI;X-ADDRESS=Bahnhof Altdorf Bahnhofstr. 20 Altdorf 90518;X-APPLE-RADIUS=500;X-TITLE=Bahnhofstr. 20:geo:11.3530281,49.3892515
END:VEVENT
BEGIN:VEVENT
DTSTART;TZID=Europe/Berlin:20260703T100000
DTEND;TZID=Europe/Berlin:20260703T120000
DTSTAMP:20260420T070252
CREATED:20251128T164728Z
LAST-MODIFIED:20251128T164728Z
UID:10000850-1783072800-1783080000@service.magazin66.de
SUMMARY:Walk & Talk
DESCRIPTION:Spaziergang (ca. 1\,5 – 2 Stunden) und Austausch. Treffpunkt: Jeden Mittwoch um 10 Uhr am Bahnhof Altdorf. Ohne Anmeldung.
URL:https://service.magazin66.de/event/walk-talk/2026-07-03/
LOCATION:Bahnhof Altdorf\, Bahnhofstr. 20\, Altdorf\, 90518
CATEGORIES:Spaziergänge und Wanderungen
GEO:49.3892515;11.3530281
X-APPLE-STRUCTURED-LOCATION;VALUE=URI;X-ADDRESS=Bahnhof Altdorf Bahnhofstr. 20 Altdorf 90518;X-APPLE-RADIUS=500;X-TITLE=Bahnhofstr. 20:geo:11.3530281,49.3892515
END:VEVENT
BEGIN:VEVENT
DTSTART;TZID=Europe/Berlin:20260710T100000
DTEND;TZID=Europe/Berlin:20260710T120000
DTSTAMP:20260420T070252
CREATED:20251128T164728Z
LAST-MODIFIED:20251128T164728Z
UID:10000851-1783677600-1783684800@service.magazin66.de
SUMMARY:Walk & Talk
DESCRIPTION:Spaziergang (ca. 1\,5 – 2 Stunden) und Austausch. Treffpunkt: Jeden Mittwoch um 10 Uhr am Bahnhof Altdorf. Ohne Anmeldung.
URL:https://service.magazin66.de/event/walk-talk/2026-07-10/
LOCATION:Bahnhof Altdorf\, Bahnhofstr. 20\, Altdorf\, 90518
CATEGORIES:Spaziergänge und Wanderungen
GEO:49.3892515;11.3530281
X-APPLE-STRUCTURED-LOCATION;VALUE=URI;X-ADDRESS=Bahnhof Altdorf Bahnhofstr. 20 Altdorf 90518;X-APPLE-RADIUS=500;X-TITLE=Bahnhofstr. 20:geo:11.3530281,49.3892515
END:VEVENT
BEGIN:VEVENT
DTSTART;TZID=Europe/Berlin:20260717T100000
DTEND;TZID=Europe/Berlin:20260717T120000
DTSTAMP:20260420T070252
CREATED:20251128T164728Z
LAST-MODIFIED:20251128T164728Z
UID:10000852-1784282400-1784289600@service.magazin66.de
SUMMARY:Walk & Talk
DESCRIPTION:Spaziergang (ca. 1\,5 – 2 Stunden) und Austausch. Treffpunkt: Jeden Mittwoch um 10 Uhr am Bahnhof Altdorf. Ohne Anmeldung.
URL:https://service.magazin66.de/event/walk-talk/2026-07-17/
LOCATION:Bahnhof Altdorf\, Bahnhofstr. 20\, Altdorf\, 90518
CATEGORIES:Spaziergänge und Wanderungen
GEO:49.3892515;11.3530281
X-APPLE-STRUCTURED-LOCATION;VALUE=URI;X-ADDRESS=Bahnhof Altdorf Bahnhofstr. 20 Altdorf 90518;X-APPLE-RADIUS=500;X-TITLE=Bahnhofstr. 20:geo:11.3530281,49.3892515
END:VEVENT
BEGIN:VEVENT
DTSTART;TZID=Europe/Berlin:20260724T100000
DTEND;TZID=Europe/Berlin:20260724T120000
DTSTAMP:20260420T070252
CREATED:20251128T164728Z
LAST-MODIFIED:20251128T164728Z
UID:10000853-1784887200-1784894400@service.magazin66.de
SUMMARY:Walk & Talk
DESCRIPTION:Spaziergang (ca. 1\,5 – 2 Stunden) und Austausch. Treffpunkt: Jeden Mittwoch um 10 Uhr am Bahnhof Altdorf. Ohne Anmeldung.
URL:https://service.magazin66.de/event/walk-talk/2026-07-24/
LOCATION:Bahnhof Altdorf\, Bahnhofstr. 20\, Altdorf\, 90518
CATEGORIES:Spaziergänge und Wanderungen
GEO:49.3892515;11.3530281
X-APPLE-STRUCTURED-LOCATION;VALUE=URI;X-ADDRESS=Bahnhof Altdorf Bahnhofstr. 20 Altdorf 90518;X-APPLE-RADIUS=500;X-TITLE=Bahnhofstr. 20:geo:11.3530281,49.3892515
END:VEVENT
BEGIN:VEVENT
DTSTART;TZID=Europe/Berlin:20260731T100000
DTEND;TZID=Europe/Berlin:20260731T120000
DTSTAMP:20260420T070252
CREATED:20251128T164728Z
LAST-MODIFIED:20251128T164728Z
UID:10000854-1785492000-1785499200@service.magazin66.de
SUMMARY:Walk & Talk
DESCRIPTION:Spaziergang (ca. 1\,5 – 2 Stunden) und Austausch. Treffpunkt: Jeden Mittwoch um 10 Uhr am Bahnhof Altdorf. Ohne Anmeldung.
URL:https://service.magazin66.de/event/walk-talk/2026-07-31/
LOCATION:Bahnhof Altdorf\, Bahnhofstr. 20\, Altdorf\, 90518
CATEGORIES:Spaziergänge und Wanderungen
GEO:49.3892515;11.3530281
X-APPLE-STRUCTURED-LOCATION;VALUE=URI;X-ADDRESS=Bahnhof Altdorf Bahnhofstr. 20 Altdorf 90518;X-APPLE-RADIUS=500;X-TITLE=Bahnhofstr. 20:geo:11.3530281,49.3892515
END:VEVENT
BEGIN:VEVENT
DTSTART;TZID=Europe/Berlin:20260807T100000
DTEND;TZID=Europe/Berlin:20260807T120000
DTSTAMP:20260420T070252
CREATED:20251128T164728Z
LAST-MODIFIED:20251128T164728Z
UID:10000855-1786096800-1786104000@service.magazin66.de
SUMMARY:Walk & Talk
DESCRIPTION:Spaziergang (ca. 1\,5 – 2 Stunden) und Austausch. Treffpunkt: Jeden Mittwoch um 10 Uhr am Bahnhof Altdorf. Ohne Anmeldung.
URL:https://service.magazin66.de/event/walk-talk/2026-08-07/
LOCATION:Bahnhof Altdorf\, Bahnhofstr. 20\, Altdorf\, 90518
CATEGORIES:Spaziergänge und Wanderungen
GEO:49.3892515;11.3530281
X-APPLE-STRUCTURED-LOCATION;VALUE=URI;X-ADDRESS=Bahnhof Altdorf Bahnhofstr. 20 Altdorf 90518;X-APPLE-RADIUS=500;X-TITLE=Bahnhofstr. 20:geo:11.3530281,49.3892515
END:VEVENT
BEGIN:VEVENT
DTSTART;TZID=Europe/Berlin:20260814T100000
DTEND;TZID=Europe/Berlin:20260814T120000
DTSTAMP:20260420T070252
CREATED:20251128T164728Z
LAST-MODIFIED:20251128T164728Z
UID:10000856-1786701600-1786708800@service.magazin66.de
SUMMARY:Walk & Talk
DESCRIPTION:Spaziergang (ca. 1\,5 – 2 Stunden) und Austausch. Treffpunkt: Jeden Mittwoch um 10 Uhr am Bahnhof Altdorf. Ohne Anmeldung.
URL:https://service.magazin66.de/event/walk-talk/2026-08-14/
LOCATION:Bahnhof Altdorf\, Bahnhofstr. 20\, Altdorf\, 90518
CATEGORIES:Spaziergänge und Wanderungen
GEO:49.3892515;11.3530281
X-APPLE-STRUCTURED-LOCATION;VALUE=URI;X-ADDRESS=Bahnhof Altdorf Bahnhofstr. 20 Altdorf 90518;X-APPLE-RADIUS=500;X-TITLE=Bahnhofstr. 20:geo:11.3530281,49.3892515
END:VEVENT
BEGIN:VEVENT
DTSTART;TZID=Europe/Berlin:20260821T100000
DTEND;TZID=Europe/Berlin:20260821T120000
DTSTAMP:20260420T070252
CREATED:20251128T164728Z
LAST-MODIFIED:20251128T164728Z
UID:10000857-1787306400-1787313600@service.magazin66.de
SUMMARY:Walk & Talk
DESCRIPTION:Spaziergang (ca. 1\,5 – 2 Stunden) und Austausch. Treffpunkt: Jeden Mittwoch um 10 Uhr am Bahnhof Altdorf. Ohne Anmeldung.
URL:https://service.magazin66.de/event/walk-talk/2026-08-21/
LOCATION:Bahnhof Altdorf\, Bahnhofstr. 20\, Altdorf\, 90518
CATEGORIES:Spaziergänge und Wanderungen
GEO:49.3892515;11.3530281
X-APPLE-STRUCTURED-LOCATION;VALUE=URI;X-ADDRESS=Bahnhof Altdorf Bahnhofstr. 20 Altdorf 90518;X-APPLE-RADIUS=500;X-TITLE=Bahnhofstr. 20:geo:11.3530281,49.3892515
END:VEVENT
BEGIN:VEVENT
DTSTART;TZID=Europe/Berlin:20260828T100000
DTEND;TZID=Europe/Berlin:20260828T120000
DTSTAMP:20260420T070252
CREATED:20251128T164728Z
LAST-MODIFIED:20251128T164728Z
UID:10000858-1787911200-1787918400@service.magazin66.de
SUMMARY:Walk & Talk
DESCRIPTION:Spaziergang (ca. 1\,5 – 2 Stunden) und Austausch. Treffpunkt: Jeden Mittwoch um 10 Uhr am Bahnhof Altdorf. Ohne Anmeldung.
URL:https://service.magazin66.de/event/walk-talk/2026-08-28/
LOCATION:Bahnhof Altdorf\, Bahnhofstr. 20\, Altdorf\, 90518
CATEGORIES:Spaziergänge und Wanderungen
GEO:49.3892515;11.3530281
X-APPLE-STRUCTURED-LOCATION;VALUE=URI;X-ADDRESS=Bahnhof Altdorf Bahnhofstr. 20 Altdorf 90518;X-APPLE-RADIUS=500;X-TITLE=Bahnhofstr. 20:geo:11.3530281,49.3892515
END:VEVENT
BEGIN:VEVENT
DTSTART;TZID=Europe/Berlin:20260904T100000
DTEND;TZID=Europe/Berlin:20260904T120000
DTSTAMP:20260420T070252
CREATED:20251128T164728Z
LAST-MODIFIED:20251128T164728Z
UID:10000859-1788516000-1788523200@service.magazin66.de
SUMMARY:Walk & Talk
DESCRIPTION:Spaziergang (ca. 1\,5 – 2 Stunden) und Austausch. Treffpunkt: Jeden Mittwoch um 10 Uhr am Bahnhof Altdorf. Ohne Anmeldung.
URL:https://service.magazin66.de/event/walk-talk/2026-09-04/
LOCATION:Bahnhof Altdorf\, Bahnhofstr. 20\, Altdorf\, 90518
CATEGORIES:Spaziergänge und Wanderungen
GEO:49.3892515;11.3530281
X-APPLE-STRUCTURED-LOCATION;VALUE=URI;X-ADDRESS=Bahnhof Altdorf Bahnhofstr. 20 Altdorf 90518;X-APPLE-RADIUS=500;X-TITLE=Bahnhofstr. 20:geo:11.3530281,49.3892515
END:VEVENT
BEGIN:VEVENT
DTSTART;TZID=Europe/Berlin:20260911T100000
DTEND;TZID=Europe/Berlin:20260911T120000
DTSTAMP:20260420T070252
CREATED:20251128T164728Z
LAST-MODIFIED:20251128T164728Z
UID:10000860-1789120800-1789128000@service.magazin66.de
SUMMARY:Walk & Talk
DESCRIPTION:Spaziergang (ca. 1\,5 – 2 Stunden) und Austausch. Treffpunkt: Jeden Mittwoch um 10 Uhr am Bahnhof Altdorf. Ohne Anmeldung.
URL:https://service.magazin66.de/event/walk-talk/2026-09-11/
LOCATION:Bahnhof Altdorf\, Bahnhofstr. 20\, Altdorf\, 90518
CATEGORIES:Spaziergänge und Wanderungen
GEO:49.3892515;11.3530281
X-APPLE-STRUCTURED-LOCATION;VALUE=URI;X-ADDRESS=Bahnhof Altdorf Bahnhofstr. 20 Altdorf 90518;X-APPLE-RADIUS=500;X-TITLE=Bahnhofstr. 20:geo:11.3530281,49.3892515
END:VEVENT
BEGIN:VEVENT
DTSTART;TZID=Europe/Berlin:20260918T100000
DTEND;TZID=Europe/Berlin:20260918T120000
DTSTAMP:20260420T070252
CREATED:20251128T164728Z
LAST-MODIFIED:20251128T164728Z
UID:10000861-1789725600-1789732800@service.magazin66.de
SUMMARY:Walk & Talk
DESCRIPTION:Spaziergang (ca. 1\,5 – 2 Stunden) und Austausch. Treffpunkt: Jeden Mittwoch um 10 Uhr am Bahnhof Altdorf. Ohne Anmeldung.
URL:https://service.magazin66.de/event/walk-talk/2026-09-18/
LOCATION:Bahnhof Altdorf\, Bahnhofstr. 20\, Altdorf\, 90518
CATEGORIES:Spaziergänge und Wanderungen
GEO:49.3892515;11.3530281
X-APPLE-STRUCTURED-LOCATION;VALUE=URI;X-ADDRESS=Bahnhof Altdorf Bahnhofstr. 20 Altdorf 90518;X-APPLE-RADIUS=500;X-TITLE=Bahnhofstr. 20:geo:11.3530281,49.3892515
END:VEVENT
BEGIN:VEVENT
DTSTART;TZID=Europe/Berlin:20260925T100000
DTEND;TZID=Europe/Berlin:20260925T120000
DTSTAMP:20260420T070252
CREATED:20251128T164728Z
LAST-MODIFIED:20251128T164728Z
UID:10000862-1790330400-1790337600@service.magazin66.de
SUMMARY:Walk & Talk
DESCRIPTION:Spaziergang (ca. 1\,5 – 2 Stunden) und Austausch. Treffpunkt: Jeden Mittwoch um 10 Uhr am Bahnhof Altdorf. Ohne Anmeldung.
URL:https://service.magazin66.de/event/walk-talk/2026-09-25/
LOCATION:Bahnhof Altdorf\, Bahnhofstr. 20\, Altdorf\, 90518
CATEGORIES:Spaziergänge und Wanderungen
GEO:49.3892515;11.3530281
X-APPLE-STRUCTURED-LOCATION;VALUE=URI;X-ADDRESS=Bahnhof Altdorf Bahnhofstr. 20 Altdorf 90518;X-APPLE-RADIUS=500;X-TITLE=Bahnhofstr. 20:geo:11.3530281,49.3892515
END:VEVENT
BEGIN:VEVENT
DTSTART;TZID=Europe/Berlin:20261002T100000
DTEND;TZID=Europe/Berlin:20261002T120000
DTSTAMP:20260420T070252
CREATED:20251128T164728Z
LAST-MODIFIED:20251128T164728Z
UID:10000863-1790935200-1790942400@service.magazin66.de
SUMMARY:Walk & Talk
DESCRIPTION:Spaziergang (ca. 1\,5 – 2 Stunden) und Austausch. Treffpunkt: Jeden Mittwoch um 10 Uhr am Bahnhof Altdorf. Ohne Anmeldung.
URL:https://service.magazin66.de/event/walk-talk/2026-10-02/
LOCATION:Bahnhof Altdorf\, Bahnhofstr. 20\, Altdorf\, 90518
CATEGORIES:Spaziergänge und Wanderungen
GEO:49.3892515;11.3530281
X-APPLE-STRUCTURED-LOCATION;VALUE=URI;X-ADDRESS=Bahnhof Altdorf Bahnhofstr. 20 Altdorf 90518;X-APPLE-RADIUS=500;X-TITLE=Bahnhofstr. 20:geo:11.3530281,49.3892515
END:VEVENT
BEGIN:VEVENT
DTSTART;TZID=Europe/Berlin:20261009T100000
DTEND;TZID=Europe/Berlin:20261009T120000
DTSTAMP:20260420T070252
CREATED:20251128T164728Z
LAST-MODIFIED:20251128T164728Z
UID:10000864-1791540000-1791547200@service.magazin66.de
SUMMARY:Walk & Talk
DESCRIPTION:Spaziergang (ca. 1\,5 – 2 Stunden) und Austausch. Treffpunkt: Jeden Mittwoch um 10 Uhr am Bahnhof Altdorf. Ohne Anmeldung.
URL:https://service.magazin66.de/event/walk-talk/2026-10-09/
LOCATION:Bahnhof Altdorf\, Bahnhofstr. 20\, Altdorf\, 90518
CATEGORIES:Spaziergänge und Wanderungen
GEO:49.3892515;11.3530281
X-APPLE-STRUCTURED-LOCATION;VALUE=URI;X-ADDRESS=Bahnhof Altdorf Bahnhofstr. 20 Altdorf 90518;X-APPLE-RADIUS=500;X-TITLE=Bahnhofstr. 20:geo:11.3530281,49.3892515
END:VEVENT
BEGIN:VEVENT
DTSTART;TZID=Europe/Berlin:20261016T100000
DTEND;TZID=Europe/Berlin:20261016T120000
DTSTAMP:20260420T070252
CREATED:20251128T164728Z
LAST-MODIFIED:20251128T164728Z
UID:10000865-1792144800-1792152000@service.magazin66.de
SUMMARY:Walk & Talk
DESCRIPTION:Spaziergang (ca. 1\,5 – 2 Stunden) und Austausch. Treffpunkt: Jeden Mittwoch um 10 Uhr am Bahnhof Altdorf. Ohne Anmeldung.
URL:https://service.magazin66.de/event/walk-talk/2026-10-16/
LOCATION:Bahnhof Altdorf\, Bahnhofstr. 20\, Altdorf\, 90518
CATEGORIES:Spaziergänge und Wanderungen
GEO:49.3892515;11.3530281
X-APPLE-STRUCTURED-LOCATION;VALUE=URI;X-ADDRESS=Bahnhof Altdorf Bahnhofstr. 20 Altdorf 90518;X-APPLE-RADIUS=500;X-TITLE=Bahnhofstr. 20:geo:11.3530281,49.3892515
END:VEVENT
BEGIN:VEVENT
DTSTART;TZID=Europe/Berlin:20261023T100000
DTEND;TZID=Europe/Berlin:20261023T120000
DTSTAMP:20260420T070252
CREATED:20251128T164728Z
LAST-MODIFIED:20251128T164728Z
UID:10000866-1792749600-1792756800@service.magazin66.de
SUMMARY:Walk & Talk
DESCRIPTION:Spaziergang (ca. 1\,5 – 2 Stunden) und Austausch. Treffpunkt: Jeden Mittwoch um 10 Uhr am Bahnhof Altdorf. Ohne Anmeldung.
URL:https://service.magazin66.de/event/walk-talk/2026-10-23/
LOCATION:Bahnhof Altdorf\, Bahnhofstr. 20\, Altdorf\, 90518
CATEGORIES:Spaziergänge und Wanderungen
GEO:49.3892515;11.3530281
X-APPLE-STRUCTURED-LOCATION;VALUE=URI;X-ADDRESS=Bahnhof Altdorf Bahnhofstr. 20 Altdorf 90518;X-APPLE-RADIUS=500;X-TITLE=Bahnhofstr. 20:geo:11.3530281,49.3892515
END:VEVENT
BEGIN:VEVENT
DTSTART;TZID=Europe/Berlin:20261030T100000
DTEND;TZID=Europe/Berlin:20261030T120000
DTSTAMP:20260420T070252
CREATED:20251128T164728Z
LAST-MODIFIED:20251128T164728Z
UID:10000867-1793354400-1793361600@service.magazin66.de
SUMMARY:Walk & Talk
DESCRIPTION:Spaziergang (ca. 1\,5 – 2 Stunden) und Austausch. Treffpunkt: Jeden Mittwoch um 10 Uhr am Bahnhof Altdorf. Ohne Anmeldung.
URL:https://service.magazin66.de/event/walk-talk/2026-10-30/
LOCATION:Bahnhof Altdorf\, Bahnhofstr. 20\, Altdorf\, 90518
CATEGORIES:Spaziergänge und Wanderungen
GEO:49.3892515;11.3530281
X-APPLE-STRUCTURED-LOCATION;VALUE=URI;X-ADDRESS=Bahnhof Altdorf Bahnhofstr. 20 Altdorf 90518;X-APPLE-RADIUS=500;X-TITLE=Bahnhofstr. 20:geo:11.3530281,49.3892515
END:VEVENT
BEGIN:VEVENT
DTSTART;TZID=Europe/Berlin:20261106T100000
DTEND;TZID=Europe/Berlin:20261106T120000
DTSTAMP:20260420T070252
CREATED:20251128T164728Z
LAST-MODIFIED:20251128T164728Z
UID:10000868-1793959200-1793966400@service.magazin66.de
SUMMARY:Walk & Talk
DESCRIPTION:Spaziergang (ca. 1\,5 – 2 Stunden) und Austausch. Treffpunkt: Jeden Mittwoch um 10 Uhr am Bahnhof Altdorf. Ohne Anmeldung.
URL:https://service.magazin66.de/event/walk-talk/2026-11-06/
LOCATION:Bahnhof Altdorf\, Bahnhofstr. 20\, Altdorf\, 90518
CATEGORIES:Spaziergänge und Wanderungen
GEO:49.3892515;11.3530281
X-APPLE-STRUCTURED-LOCATION;VALUE=URI;X-ADDRESS=Bahnhof Altdorf Bahnhofstr. 20 Altdorf 90518;X-APPLE-RADIUS=500;X-TITLE=Bahnhofstr. 20:geo:11.3530281,49.3892515
END:VEVENT
BEGIN:VEVENT
DTSTART;TZID=Europe/Berlin:20261113T100000
DTEND;TZID=Europe/Berlin:20261113T120000
DTSTAMP:20260420T070252
CREATED:20251128T164728Z
LAST-MODIFIED:20251128T164728Z
UID:10000869-1794564000-1794571200@service.magazin66.de
SUMMARY:Walk & Talk
DESCRIPTION:Spaziergang (ca. 1\,5 – 2 Stunden) und Austausch. Treffpunkt: Jeden Mittwoch um 10 Uhr am Bahnhof Altdorf. Ohne Anmeldung.
URL:https://service.magazin66.de/event/walk-talk/2026-11-13/
LOCATION:Bahnhof Altdorf\, Bahnhofstr. 20\, Altdorf\, 90518
CATEGORIES:Spaziergänge und Wanderungen
GEO:49.3892515;11.3530281
X-APPLE-STRUCTURED-LOCATION;VALUE=URI;X-ADDRESS=Bahnhof Altdorf Bahnhofstr. 20 Altdorf 90518;X-APPLE-RADIUS=500;X-TITLE=Bahnhofstr. 20:geo:11.3530281,49.3892515
END:VEVENT
END:VCALENDAR