BEGIN:VCALENDAR
VERSION:2.0
PRODID:-//Service Magazin sechs+sechzig - ECPv6.15.18//NONSGML v1.0//EN
CALSCALE:GREGORIAN
METHOD:PUBLISH
X-ORIGINAL-URL:https://service.magazin66.de
X-WR-CALDESC:Veranstaltungen für Service Magazin sechs+sechzig
REFRESH-INTERVAL;VALUE=DURATION:PT1H
X-Robots-Tag:noindex
X-PUBLISHED-TTL:PT1H
BEGIN:VTIMEZONE
TZID:Europe/Berlin
BEGIN:DAYLIGHT
TZOFFSETFROM:+0100
TZOFFSETTO:+0200
TZNAME:CEST
DTSTART:20250330T010000
END:DAYLIGHT
BEGIN:STANDARD
TZOFFSETFROM:+0200
TZOFFSETTO:+0100
TZNAME:CET
DTSTART:20251026T010000
END:STANDARD
BEGIN:DAYLIGHT
TZOFFSETFROM:+0100
TZOFFSETTO:+0200
TZNAME:CEST
DTSTART:20260329T010000
END:DAYLIGHT
BEGIN:STANDARD
TZOFFSETFROM:+0200
TZOFFSETTO:+0100
TZNAME:CET
DTSTART:20261025T010000
END:STANDARD
BEGIN:DAYLIGHT
TZOFFSETFROM:+0100
TZOFFSETTO:+0200
TZNAME:CEST
DTSTART:20270328T010000
END:DAYLIGHT
BEGIN:STANDARD
TZOFFSETFROM:+0200
TZOFFSETTO:+0100
TZNAME:CET
DTSTART:20271031T010000
END:STANDARD
END:VTIMEZONE
BEGIN:VEVENT
DTSTART;TZID=Europe/Berlin:20260424T170000
DTEND;TZID=Europe/Berlin:20260424T180000
DTSTAMP:20260420T084647
CREATED:20260220T113318Z
LAST-MODIFIED:20260220T113318Z
UID:10001481-1777050000-1777053600@service.magazin66.de
SUMMARY:Zumba für Frauen
DESCRIPTION:Jede Frau kann teilnehmen. Kostenlos\, Spenden erwünscht.
URL:https://service.magazin66.de/event/zumba-fuer-frauen/2026-04-24/
LOCATION:MGH Awothek\, Karl-Bröger-Straße 9\, Nürnberg\, 90459
CATEGORIES:Gesundheit und Sport
ORGANIZER;CN="AWO Kreisverband N%C3%BCrnberg e.V.":MAILTO:mgh-assistenz@awo-nbg.de
GEO:49.4436413;11.0785623
X-APPLE-STRUCTURED-LOCATION;VALUE=URI;X-ADDRESS=MGH Awothek Karl-Bröger-Straße 9 Nürnberg 90459;X-APPLE-RADIUS=500;X-TITLE=Karl-Bröger-Straße 9:geo:11.0785623,49.4436413
END:VEVENT
BEGIN:VEVENT
DTSTART;TZID=Europe/Berlin:20260426T170000
DTEND;TZID=Europe/Berlin:20260426T180000
DTSTAMP:20260420T084647
CREATED:20260220T113318Z
LAST-MODIFIED:20260220T113318Z
UID:10001482-1777222800-1777226400@service.magazin66.de
SUMMARY:Zumba für Frauen
DESCRIPTION:Jede Frau kann teilnehmen. Kostenlos\, Spenden erwünscht.
URL:https://service.magazin66.de/event/zumba-fuer-frauen/2026-04-26/
LOCATION:MGH Awothek\, Karl-Bröger-Straße 9\, Nürnberg\, 90459
CATEGORIES:Gesundheit und Sport
ORGANIZER;CN="AWO Kreisverband N%C3%BCrnberg e.V.":MAILTO:mgh-assistenz@awo-nbg.de
GEO:49.4436413;11.0785623
X-APPLE-STRUCTURED-LOCATION;VALUE=URI;X-ADDRESS=MGH Awothek Karl-Bröger-Straße 9 Nürnberg 90459;X-APPLE-RADIUS=500;X-TITLE=Karl-Bröger-Straße 9:geo:11.0785623,49.4436413
END:VEVENT
BEGIN:VEVENT
DTSTART;TZID=Europe/Berlin:20260501T170000
DTEND;TZID=Europe/Berlin:20260501T180000
DTSTAMP:20260420T084647
CREATED:20260220T113318Z
LAST-MODIFIED:20260220T113318Z
UID:10001483-1777654800-1777658400@service.magazin66.de
SUMMARY:Zumba für Frauen
DESCRIPTION:Jede Frau kann teilnehmen. Kostenlos\, Spenden erwünscht.
URL:https://service.magazin66.de/event/zumba-fuer-frauen/2026-05-01/
LOCATION:MGH Awothek\, Karl-Bröger-Straße 9\, Nürnberg\, 90459
CATEGORIES:Gesundheit und Sport
ORGANIZER;CN="AWO Kreisverband N%C3%BCrnberg e.V.":MAILTO:mgh-assistenz@awo-nbg.de
GEO:49.4436413;11.0785623
X-APPLE-STRUCTURED-LOCATION;VALUE=URI;X-ADDRESS=MGH Awothek Karl-Bröger-Straße 9 Nürnberg 90459;X-APPLE-RADIUS=500;X-TITLE=Karl-Bröger-Straße 9:geo:11.0785623,49.4436413
END:VEVENT
BEGIN:VEVENT
DTSTART;TZID=Europe/Berlin:20260503T170000
DTEND;TZID=Europe/Berlin:20260503T180000
DTSTAMP:20260420T084647
CREATED:20260220T113318Z
LAST-MODIFIED:20260220T113318Z
UID:10001484-1777827600-1777831200@service.magazin66.de
SUMMARY:Zumba für Frauen
DESCRIPTION:Jede Frau kann teilnehmen. Kostenlos\, Spenden erwünscht.
URL:https://service.magazin66.de/event/zumba-fuer-frauen/2026-05-03/
LOCATION:MGH Awothek\, Karl-Bröger-Straße 9\, Nürnberg\, 90459
CATEGORIES:Gesundheit und Sport
ORGANIZER;CN="AWO Kreisverband N%C3%BCrnberg e.V.":MAILTO:mgh-assistenz@awo-nbg.de
GEO:49.4436413;11.0785623
X-APPLE-STRUCTURED-LOCATION;VALUE=URI;X-ADDRESS=MGH Awothek Karl-Bröger-Straße 9 Nürnberg 90459;X-APPLE-RADIUS=500;X-TITLE=Karl-Bröger-Straße 9:geo:11.0785623,49.4436413
END:VEVENT
BEGIN:VEVENT
DTSTART;TZID=Europe/Berlin:20260508T170000
DTEND;TZID=Europe/Berlin:20260508T180000
DTSTAMP:20260420T084647
CREATED:20260220T113318Z
LAST-MODIFIED:20260220T113318Z
UID:10001485-1778259600-1778263200@service.magazin66.de
SUMMARY:Zumba für Frauen
DESCRIPTION:Jede Frau kann teilnehmen. Kostenlos\, Spenden erwünscht.
URL:https://service.magazin66.de/event/zumba-fuer-frauen/2026-05-08/
LOCATION:MGH Awothek\, Karl-Bröger-Straße 9\, Nürnberg\, 90459
CATEGORIES:Gesundheit und Sport
ORGANIZER;CN="AWO Kreisverband N%C3%BCrnberg e.V.":MAILTO:mgh-assistenz@awo-nbg.de
GEO:49.4436413;11.0785623
X-APPLE-STRUCTURED-LOCATION;VALUE=URI;X-ADDRESS=MGH Awothek Karl-Bröger-Straße 9 Nürnberg 90459;X-APPLE-RADIUS=500;X-TITLE=Karl-Bröger-Straße 9:geo:11.0785623,49.4436413
END:VEVENT
BEGIN:VEVENT
DTSTART;TZID=Europe/Berlin:20260510T170000
DTEND;TZID=Europe/Berlin:20260510T180000
DTSTAMP:20260420T084647
CREATED:20260220T113318Z
LAST-MODIFIED:20260220T113318Z
UID:10001486-1778432400-1778436000@service.magazin66.de
SUMMARY:Zumba für Frauen
DESCRIPTION:Jede Frau kann teilnehmen. Kostenlos\, Spenden erwünscht.
URL:https://service.magazin66.de/event/zumba-fuer-frauen/2026-05-10/
LOCATION:MGH Awothek\, Karl-Bröger-Straße 9\, Nürnberg\, 90459
CATEGORIES:Gesundheit und Sport
ORGANIZER;CN="AWO Kreisverband N%C3%BCrnberg e.V.":MAILTO:mgh-assistenz@awo-nbg.de
GEO:49.4436413;11.0785623
X-APPLE-STRUCTURED-LOCATION;VALUE=URI;X-ADDRESS=MGH Awothek Karl-Bröger-Straße 9 Nürnberg 90459;X-APPLE-RADIUS=500;X-TITLE=Karl-Bröger-Straße 9:geo:11.0785623,49.4436413
END:VEVENT
BEGIN:VEVENT
DTSTART;TZID=Europe/Berlin:20260515T170000
DTEND;TZID=Europe/Berlin:20260515T180000
DTSTAMP:20260420T084647
CREATED:20260220T113318Z
LAST-MODIFIED:20260220T113318Z
UID:10001487-1778864400-1778868000@service.magazin66.de
SUMMARY:Zumba für Frauen
DESCRIPTION:Jede Frau kann teilnehmen. Kostenlos\, Spenden erwünscht.
URL:https://service.magazin66.de/event/zumba-fuer-frauen/2026-05-15/
LOCATION:MGH Awothek\, Karl-Bröger-Straße 9\, Nürnberg\, 90459
CATEGORIES:Gesundheit und Sport
ORGANIZER;CN="AWO Kreisverband N%C3%BCrnberg e.V.":MAILTO:mgh-assistenz@awo-nbg.de
GEO:49.4436413;11.0785623
X-APPLE-STRUCTURED-LOCATION;VALUE=URI;X-ADDRESS=MGH Awothek Karl-Bröger-Straße 9 Nürnberg 90459;X-APPLE-RADIUS=500;X-TITLE=Karl-Bröger-Straße 9:geo:11.0785623,49.4436413
END:VEVENT
BEGIN:VEVENT
DTSTART;TZID=Europe/Berlin:20260517T170000
DTEND;TZID=Europe/Berlin:20260517T180000
DTSTAMP:20260420T084647
CREATED:20260220T113318Z
LAST-MODIFIED:20260220T113318Z
UID:10001488-1779037200-1779040800@service.magazin66.de
SUMMARY:Zumba für Frauen
DESCRIPTION:Jede Frau kann teilnehmen. Kostenlos\, Spenden erwünscht.
URL:https://service.magazin66.de/event/zumba-fuer-frauen/2026-05-17/
LOCATION:MGH Awothek\, Karl-Bröger-Straße 9\, Nürnberg\, 90459
CATEGORIES:Gesundheit und Sport
ORGANIZER;CN="AWO Kreisverband N%C3%BCrnberg e.V.":MAILTO:mgh-assistenz@awo-nbg.de
GEO:49.4436413;11.0785623
X-APPLE-STRUCTURED-LOCATION;VALUE=URI;X-ADDRESS=MGH Awothek Karl-Bröger-Straße 9 Nürnberg 90459;X-APPLE-RADIUS=500;X-TITLE=Karl-Bröger-Straße 9:geo:11.0785623,49.4436413
END:VEVENT
BEGIN:VEVENT
DTSTART;TZID=Europe/Berlin:20260522T170000
DTEND;TZID=Europe/Berlin:20260522T180000
DTSTAMP:20260420T084647
CREATED:20260220T113318Z
LAST-MODIFIED:20260220T113318Z
UID:10001489-1779469200-1779472800@service.magazin66.de
SUMMARY:Zumba für Frauen
DESCRIPTION:Jede Frau kann teilnehmen. Kostenlos\, Spenden erwünscht.
URL:https://service.magazin66.de/event/zumba-fuer-frauen/2026-05-22/
LOCATION:MGH Awothek\, Karl-Bröger-Straße 9\, Nürnberg\, 90459
CATEGORIES:Gesundheit und Sport
ORGANIZER;CN="AWO Kreisverband N%C3%BCrnberg e.V.":MAILTO:mgh-assistenz@awo-nbg.de
GEO:49.4436413;11.0785623
X-APPLE-STRUCTURED-LOCATION;VALUE=URI;X-ADDRESS=MGH Awothek Karl-Bröger-Straße 9 Nürnberg 90459;X-APPLE-RADIUS=500;X-TITLE=Karl-Bröger-Straße 9:geo:11.0785623,49.4436413
END:VEVENT
BEGIN:VEVENT
DTSTART;TZID=Europe/Berlin:20260524T170000
DTEND;TZID=Europe/Berlin:20260524T180000
DTSTAMP:20260420T084647
CREATED:20260220T113318Z
LAST-MODIFIED:20260220T113318Z
UID:10001490-1779642000-1779645600@service.magazin66.de
SUMMARY:Zumba für Frauen
DESCRIPTION:Jede Frau kann teilnehmen. Kostenlos\, Spenden erwünscht.
URL:https://service.magazin66.de/event/zumba-fuer-frauen/2026-05-24/
LOCATION:MGH Awothek\, Karl-Bröger-Straße 9\, Nürnberg\, 90459
CATEGORIES:Gesundheit und Sport
ORGANIZER;CN="AWO Kreisverband N%C3%BCrnberg e.V.":MAILTO:mgh-assistenz@awo-nbg.de
GEO:49.4436413;11.0785623
X-APPLE-STRUCTURED-LOCATION;VALUE=URI;X-ADDRESS=MGH Awothek Karl-Bröger-Straße 9 Nürnberg 90459;X-APPLE-RADIUS=500;X-TITLE=Karl-Bröger-Straße 9:geo:11.0785623,49.4436413
END:VEVENT
BEGIN:VEVENT
DTSTART;TZID=Europe/Berlin:20260529T170000
DTEND;TZID=Europe/Berlin:20260529T180000
DTSTAMP:20260420T084647
CREATED:20260220T113318Z
LAST-MODIFIED:20260220T113318Z
UID:10001491-1780074000-1780077600@service.magazin66.de
SUMMARY:Zumba für Frauen
DESCRIPTION:Jede Frau kann teilnehmen. Kostenlos\, Spenden erwünscht.
URL:https://service.magazin66.de/event/zumba-fuer-frauen/2026-05-29/
LOCATION:MGH Awothek\, Karl-Bröger-Straße 9\, Nürnberg\, 90459
CATEGORIES:Gesundheit und Sport
ORGANIZER;CN="AWO Kreisverband N%C3%BCrnberg e.V.":MAILTO:mgh-assistenz@awo-nbg.de
GEO:49.4436413;11.0785623
X-APPLE-STRUCTURED-LOCATION;VALUE=URI;X-ADDRESS=MGH Awothek Karl-Bröger-Straße 9 Nürnberg 90459;X-APPLE-RADIUS=500;X-TITLE=Karl-Bröger-Straße 9:geo:11.0785623,49.4436413
END:VEVENT
BEGIN:VEVENT
DTSTART;TZID=Europe/Berlin:20260531T170000
DTEND;TZID=Europe/Berlin:20260531T180000
DTSTAMP:20260420T084647
CREATED:20260220T113318Z
LAST-MODIFIED:20260220T113318Z
UID:10001492-1780246800-1780250400@service.magazin66.de
SUMMARY:Zumba für Frauen
DESCRIPTION:Jede Frau kann teilnehmen. Kostenlos\, Spenden erwünscht.
URL:https://service.magazin66.de/event/zumba-fuer-frauen/2026-05-31/
LOCATION:MGH Awothek\, Karl-Bröger-Straße 9\, Nürnberg\, 90459
CATEGORIES:Gesundheit und Sport
ORGANIZER;CN="AWO Kreisverband N%C3%BCrnberg e.V.":MAILTO:mgh-assistenz@awo-nbg.de
GEO:49.4436413;11.0785623
X-APPLE-STRUCTURED-LOCATION;VALUE=URI;X-ADDRESS=MGH Awothek Karl-Bröger-Straße 9 Nürnberg 90459;X-APPLE-RADIUS=500;X-TITLE=Karl-Bröger-Straße 9:geo:11.0785623,49.4436413
END:VEVENT
BEGIN:VEVENT
DTSTART;TZID=Europe/Berlin:20260605T170000
DTEND;TZID=Europe/Berlin:20260605T180000
DTSTAMP:20260420T084647
CREATED:20260220T113318Z
LAST-MODIFIED:20260220T113318Z
UID:10001493-1780678800-1780682400@service.magazin66.de
SUMMARY:Zumba für Frauen
DESCRIPTION:Jede Frau kann teilnehmen. Kostenlos\, Spenden erwünscht.
URL:https://service.magazin66.de/event/zumba-fuer-frauen/2026-06-05/
LOCATION:MGH Awothek\, Karl-Bröger-Straße 9\, Nürnberg\, 90459
CATEGORIES:Gesundheit und Sport
ORGANIZER;CN="AWO Kreisverband N%C3%BCrnberg e.V.":MAILTO:mgh-assistenz@awo-nbg.de
GEO:49.4436413;11.0785623
X-APPLE-STRUCTURED-LOCATION;VALUE=URI;X-ADDRESS=MGH Awothek Karl-Bröger-Straße 9 Nürnberg 90459;X-APPLE-RADIUS=500;X-TITLE=Karl-Bröger-Straße 9:geo:11.0785623,49.4436413
END:VEVENT
BEGIN:VEVENT
DTSTART;TZID=Europe/Berlin:20260607T170000
DTEND;TZID=Europe/Berlin:20260607T180000
DTSTAMP:20260420T084647
CREATED:20260220T113318Z
LAST-MODIFIED:20260220T113318Z
UID:10001494-1780851600-1780855200@service.magazin66.de
SUMMARY:Zumba für Frauen
DESCRIPTION:Jede Frau kann teilnehmen. Kostenlos\, Spenden erwünscht.
URL:https://service.magazin66.de/event/zumba-fuer-frauen/2026-06-07/
LOCATION:MGH Awothek\, Karl-Bröger-Straße 9\, Nürnberg\, 90459
CATEGORIES:Gesundheit und Sport
ORGANIZER;CN="AWO Kreisverband N%C3%BCrnberg e.V.":MAILTO:mgh-assistenz@awo-nbg.de
GEO:49.4436413;11.0785623
X-APPLE-STRUCTURED-LOCATION;VALUE=URI;X-ADDRESS=MGH Awothek Karl-Bröger-Straße 9 Nürnberg 90459;X-APPLE-RADIUS=500;X-TITLE=Karl-Bröger-Straße 9:geo:11.0785623,49.4436413
END:VEVENT
BEGIN:VEVENT
DTSTART;TZID=Europe/Berlin:20260612T170000
DTEND;TZID=Europe/Berlin:20260612T180000
DTSTAMP:20260420T084647
CREATED:20260220T113318Z
LAST-MODIFIED:20260220T113318Z
UID:10001495-1781283600-1781287200@service.magazin66.de
SUMMARY:Zumba für Frauen
DESCRIPTION:Jede Frau kann teilnehmen. Kostenlos\, Spenden erwünscht.
URL:https://service.magazin66.de/event/zumba-fuer-frauen/2026-06-12/
LOCATION:MGH Awothek\, Karl-Bröger-Straße 9\, Nürnberg\, 90459
CATEGORIES:Gesundheit und Sport
ORGANIZER;CN="AWO Kreisverband N%C3%BCrnberg e.V.":MAILTO:mgh-assistenz@awo-nbg.de
GEO:49.4436413;11.0785623
X-APPLE-STRUCTURED-LOCATION;VALUE=URI;X-ADDRESS=MGH Awothek Karl-Bröger-Straße 9 Nürnberg 90459;X-APPLE-RADIUS=500;X-TITLE=Karl-Bröger-Straße 9:geo:11.0785623,49.4436413
END:VEVENT
BEGIN:VEVENT
DTSTART;TZID=Europe/Berlin:20260614T170000
DTEND;TZID=Europe/Berlin:20260614T180000
DTSTAMP:20260420T084647
CREATED:20260220T113318Z
LAST-MODIFIED:20260220T113318Z
UID:10001496-1781456400-1781460000@service.magazin66.de
SUMMARY:Zumba für Frauen
DESCRIPTION:Jede Frau kann teilnehmen. Kostenlos\, Spenden erwünscht.
URL:https://service.magazin66.de/event/zumba-fuer-frauen/2026-06-14/
LOCATION:MGH Awothek\, Karl-Bröger-Straße 9\, Nürnberg\, 90459
CATEGORIES:Gesundheit und Sport
ORGANIZER;CN="AWO Kreisverband N%C3%BCrnberg e.V.":MAILTO:mgh-assistenz@awo-nbg.de
GEO:49.4436413;11.0785623
X-APPLE-STRUCTURED-LOCATION;VALUE=URI;X-ADDRESS=MGH Awothek Karl-Bröger-Straße 9 Nürnberg 90459;X-APPLE-RADIUS=500;X-TITLE=Karl-Bröger-Straße 9:geo:11.0785623,49.4436413
END:VEVENT
BEGIN:VEVENT
DTSTART;TZID=Europe/Berlin:20260619T170000
DTEND;TZID=Europe/Berlin:20260619T180000
DTSTAMP:20260420T084647
CREATED:20260220T113318Z
LAST-MODIFIED:20260220T113318Z
UID:10001497-1781888400-1781892000@service.magazin66.de
SUMMARY:Zumba für Frauen
DESCRIPTION:Jede Frau kann teilnehmen. Kostenlos\, Spenden erwünscht.
URL:https://service.magazin66.de/event/zumba-fuer-frauen/2026-06-19/
LOCATION:MGH Awothek\, Karl-Bröger-Straße 9\, Nürnberg\, 90459
CATEGORIES:Gesundheit und Sport
ORGANIZER;CN="AWO Kreisverband N%C3%BCrnberg e.V.":MAILTO:mgh-assistenz@awo-nbg.de
GEO:49.4436413;11.0785623
X-APPLE-STRUCTURED-LOCATION;VALUE=URI;X-ADDRESS=MGH Awothek Karl-Bröger-Straße 9 Nürnberg 90459;X-APPLE-RADIUS=500;X-TITLE=Karl-Bröger-Straße 9:geo:11.0785623,49.4436413
END:VEVENT
BEGIN:VEVENT
DTSTART;TZID=Europe/Berlin:20260621T170000
DTEND;TZID=Europe/Berlin:20260621T180000
DTSTAMP:20260420T084647
CREATED:20260220T113318Z
LAST-MODIFIED:20260220T113318Z
UID:10001498-1782061200-1782064800@service.magazin66.de
SUMMARY:Zumba für Frauen
DESCRIPTION:Jede Frau kann teilnehmen. Kostenlos\, Spenden erwünscht.
URL:https://service.magazin66.de/event/zumba-fuer-frauen/2026-06-21/
LOCATION:MGH Awothek\, Karl-Bröger-Straße 9\, Nürnberg\, 90459
CATEGORIES:Gesundheit und Sport
ORGANIZER;CN="AWO Kreisverband N%C3%BCrnberg e.V.":MAILTO:mgh-assistenz@awo-nbg.de
GEO:49.4436413;11.0785623
X-APPLE-STRUCTURED-LOCATION;VALUE=URI;X-ADDRESS=MGH Awothek Karl-Bröger-Straße 9 Nürnberg 90459;X-APPLE-RADIUS=500;X-TITLE=Karl-Bröger-Straße 9:geo:11.0785623,49.4436413
END:VEVENT
BEGIN:VEVENT
DTSTART;TZID=Europe/Berlin:20260626T170000
DTEND;TZID=Europe/Berlin:20260626T180000
DTSTAMP:20260420T084647
CREATED:20260220T113318Z
LAST-MODIFIED:20260220T113318Z
UID:10001499-1782493200-1782496800@service.magazin66.de
SUMMARY:Zumba für Frauen
DESCRIPTION:Jede Frau kann teilnehmen. Kostenlos\, Spenden erwünscht.
URL:https://service.magazin66.de/event/zumba-fuer-frauen/2026-06-26/
LOCATION:MGH Awothek\, Karl-Bröger-Straße 9\, Nürnberg\, 90459
CATEGORIES:Gesundheit und Sport
ORGANIZER;CN="AWO Kreisverband N%C3%BCrnberg e.V.":MAILTO:mgh-assistenz@awo-nbg.de
GEO:49.4436413;11.0785623
X-APPLE-STRUCTURED-LOCATION;VALUE=URI;X-ADDRESS=MGH Awothek Karl-Bröger-Straße 9 Nürnberg 90459;X-APPLE-RADIUS=500;X-TITLE=Karl-Bröger-Straße 9:geo:11.0785623,49.4436413
END:VEVENT
BEGIN:VEVENT
DTSTART;TZID=Europe/Berlin:20260628T170000
DTEND;TZID=Europe/Berlin:20260628T180000
DTSTAMP:20260420T084647
CREATED:20260220T113318Z
LAST-MODIFIED:20260220T113318Z
UID:10001500-1782666000-1782669600@service.magazin66.de
SUMMARY:Zumba für Frauen
DESCRIPTION:Jede Frau kann teilnehmen. Kostenlos\, Spenden erwünscht.
URL:https://service.magazin66.de/event/zumba-fuer-frauen/2026-06-28/
LOCATION:MGH Awothek\, Karl-Bröger-Straße 9\, Nürnberg\, 90459
CATEGORIES:Gesundheit und Sport
ORGANIZER;CN="AWO Kreisverband N%C3%BCrnberg e.V.":MAILTO:mgh-assistenz@awo-nbg.de
GEO:49.4436413;11.0785623
X-APPLE-STRUCTURED-LOCATION;VALUE=URI;X-ADDRESS=MGH Awothek Karl-Bröger-Straße 9 Nürnberg 90459;X-APPLE-RADIUS=500;X-TITLE=Karl-Bröger-Straße 9:geo:11.0785623,49.4436413
END:VEVENT
BEGIN:VEVENT
DTSTART;TZID=Europe/Berlin:20260703T170000
DTEND;TZID=Europe/Berlin:20260703T180000
DTSTAMP:20260420T084647
CREATED:20260220T113318Z
LAST-MODIFIED:20260220T113318Z
UID:10001501-1783098000-1783101600@service.magazin66.de
SUMMARY:Zumba für Frauen
DESCRIPTION:Jede Frau kann teilnehmen. Kostenlos\, Spenden erwünscht.
URL:https://service.magazin66.de/event/zumba-fuer-frauen/2026-07-03/
LOCATION:MGH Awothek\, Karl-Bröger-Straße 9\, Nürnberg\, 90459
CATEGORIES:Gesundheit und Sport
ORGANIZER;CN="AWO Kreisverband N%C3%BCrnberg e.V.":MAILTO:mgh-assistenz@awo-nbg.de
GEO:49.4436413;11.0785623
X-APPLE-STRUCTURED-LOCATION;VALUE=URI;X-ADDRESS=MGH Awothek Karl-Bröger-Straße 9 Nürnberg 90459;X-APPLE-RADIUS=500;X-TITLE=Karl-Bröger-Straße 9:geo:11.0785623,49.4436413
END:VEVENT
BEGIN:VEVENT
DTSTART;TZID=Europe/Berlin:20260705T170000
DTEND;TZID=Europe/Berlin:20260705T180000
DTSTAMP:20260420T084647
CREATED:20260220T113318Z
LAST-MODIFIED:20260220T113318Z
UID:10001502-1783270800-1783274400@service.magazin66.de
SUMMARY:Zumba für Frauen
DESCRIPTION:Jede Frau kann teilnehmen. Kostenlos\, Spenden erwünscht.
URL:https://service.magazin66.de/event/zumba-fuer-frauen/2026-07-05/
LOCATION:MGH Awothek\, Karl-Bröger-Straße 9\, Nürnberg\, 90459
CATEGORIES:Gesundheit und Sport
ORGANIZER;CN="AWO Kreisverband N%C3%BCrnberg e.V.":MAILTO:mgh-assistenz@awo-nbg.de
GEO:49.4436413;11.0785623
X-APPLE-STRUCTURED-LOCATION;VALUE=URI;X-ADDRESS=MGH Awothek Karl-Bröger-Straße 9 Nürnberg 90459;X-APPLE-RADIUS=500;X-TITLE=Karl-Bröger-Straße 9:geo:11.0785623,49.4436413
END:VEVENT
BEGIN:VEVENT
DTSTART;TZID=Europe/Berlin:20260710T170000
DTEND;TZID=Europe/Berlin:20260710T180000
DTSTAMP:20260420T084647
CREATED:20260220T113318Z
LAST-MODIFIED:20260220T113318Z
UID:10001503-1783702800-1783706400@service.magazin66.de
SUMMARY:Zumba für Frauen
DESCRIPTION:Jede Frau kann teilnehmen. Kostenlos\, Spenden erwünscht.
URL:https://service.magazin66.de/event/zumba-fuer-frauen/2026-07-10/
LOCATION:MGH Awothek\, Karl-Bröger-Straße 9\, Nürnberg\, 90459
CATEGORIES:Gesundheit und Sport
ORGANIZER;CN="AWO Kreisverband N%C3%BCrnberg e.V.":MAILTO:mgh-assistenz@awo-nbg.de
GEO:49.4436413;11.0785623
X-APPLE-STRUCTURED-LOCATION;VALUE=URI;X-ADDRESS=MGH Awothek Karl-Bröger-Straße 9 Nürnberg 90459;X-APPLE-RADIUS=500;X-TITLE=Karl-Bröger-Straße 9:geo:11.0785623,49.4436413
END:VEVENT
BEGIN:VEVENT
DTSTART;TZID=Europe/Berlin:20260712T170000
DTEND;TZID=Europe/Berlin:20260712T180000
DTSTAMP:20260420T084647
CREATED:20260220T113318Z
LAST-MODIFIED:20260220T113318Z
UID:10001504-1783875600-1783879200@service.magazin66.de
SUMMARY:Zumba für Frauen
DESCRIPTION:Jede Frau kann teilnehmen. Kostenlos\, Spenden erwünscht.
URL:https://service.magazin66.de/event/zumba-fuer-frauen/2026-07-12/
LOCATION:MGH Awothek\, Karl-Bröger-Straße 9\, Nürnberg\, 90459
CATEGORIES:Gesundheit und Sport
ORGANIZER;CN="AWO Kreisverband N%C3%BCrnberg e.V.":MAILTO:mgh-assistenz@awo-nbg.de
GEO:49.4436413;11.0785623
X-APPLE-STRUCTURED-LOCATION;VALUE=URI;X-ADDRESS=MGH Awothek Karl-Bröger-Straße 9 Nürnberg 90459;X-APPLE-RADIUS=500;X-TITLE=Karl-Bröger-Straße 9:geo:11.0785623,49.4436413
END:VEVENT
BEGIN:VEVENT
DTSTART;TZID=Europe/Berlin:20260717T170000
DTEND;TZID=Europe/Berlin:20260717T180000
DTSTAMP:20260420T084647
CREATED:20260220T113318Z
LAST-MODIFIED:20260220T113318Z
UID:10001505-1784307600-1784311200@service.magazin66.de
SUMMARY:Zumba für Frauen
DESCRIPTION:Jede Frau kann teilnehmen. Kostenlos\, Spenden erwünscht.
URL:https://service.magazin66.de/event/zumba-fuer-frauen/2026-07-17/
LOCATION:MGH Awothek\, Karl-Bröger-Straße 9\, Nürnberg\, 90459
CATEGORIES:Gesundheit und Sport
ORGANIZER;CN="AWO Kreisverband N%C3%BCrnberg e.V.":MAILTO:mgh-assistenz@awo-nbg.de
GEO:49.4436413;11.0785623
X-APPLE-STRUCTURED-LOCATION;VALUE=URI;X-ADDRESS=MGH Awothek Karl-Bröger-Straße 9 Nürnberg 90459;X-APPLE-RADIUS=500;X-TITLE=Karl-Bröger-Straße 9:geo:11.0785623,49.4436413
END:VEVENT
BEGIN:VEVENT
DTSTART;TZID=Europe/Berlin:20260719T170000
DTEND;TZID=Europe/Berlin:20260719T180000
DTSTAMP:20260420T084647
CREATED:20260220T113318Z
LAST-MODIFIED:20260220T113318Z
UID:10001506-1784480400-1784484000@service.magazin66.de
SUMMARY:Zumba für Frauen
DESCRIPTION:Jede Frau kann teilnehmen. Kostenlos\, Spenden erwünscht.
URL:https://service.magazin66.de/event/zumba-fuer-frauen/2026-07-19/
LOCATION:MGH Awothek\, Karl-Bröger-Straße 9\, Nürnberg\, 90459
CATEGORIES:Gesundheit und Sport
ORGANIZER;CN="AWO Kreisverband N%C3%BCrnberg e.V.":MAILTO:mgh-assistenz@awo-nbg.de
GEO:49.4436413;11.0785623
X-APPLE-STRUCTURED-LOCATION;VALUE=URI;X-ADDRESS=MGH Awothek Karl-Bröger-Straße 9 Nürnberg 90459;X-APPLE-RADIUS=500;X-TITLE=Karl-Bröger-Straße 9:geo:11.0785623,49.4436413
END:VEVENT
BEGIN:VEVENT
DTSTART;TZID=Europe/Berlin:20260724T170000
DTEND;TZID=Europe/Berlin:20260724T180000
DTSTAMP:20260420T084647
CREATED:20260220T113318Z
LAST-MODIFIED:20260220T113318Z
UID:10001507-1784912400-1784916000@service.magazin66.de
SUMMARY:Zumba für Frauen
DESCRIPTION:Jede Frau kann teilnehmen. Kostenlos\, Spenden erwünscht.
URL:https://service.magazin66.de/event/zumba-fuer-frauen/2026-07-24/
LOCATION:MGH Awothek\, Karl-Bröger-Straße 9\, Nürnberg\, 90459
CATEGORIES:Gesundheit und Sport
ORGANIZER;CN="AWO Kreisverband N%C3%BCrnberg e.V.":MAILTO:mgh-assistenz@awo-nbg.de
GEO:49.4436413;11.0785623
X-APPLE-STRUCTURED-LOCATION;VALUE=URI;X-ADDRESS=MGH Awothek Karl-Bröger-Straße 9 Nürnberg 90459;X-APPLE-RADIUS=500;X-TITLE=Karl-Bröger-Straße 9:geo:11.0785623,49.4436413
END:VEVENT
BEGIN:VEVENT
DTSTART;TZID=Europe/Berlin:20260726T170000
DTEND;TZID=Europe/Berlin:20260726T180000
DTSTAMP:20260420T084647
CREATED:20260220T113318Z
LAST-MODIFIED:20260220T113318Z
UID:10001508-1785085200-1785088800@service.magazin66.de
SUMMARY:Zumba für Frauen
DESCRIPTION:Jede Frau kann teilnehmen. Kostenlos\, Spenden erwünscht.
URL:https://service.magazin66.de/event/zumba-fuer-frauen/2026-07-26/
LOCATION:MGH Awothek\, Karl-Bröger-Straße 9\, Nürnberg\, 90459
CATEGORIES:Gesundheit und Sport
ORGANIZER;CN="AWO Kreisverband N%C3%BCrnberg e.V.":MAILTO:mgh-assistenz@awo-nbg.de
GEO:49.4436413;11.0785623
X-APPLE-STRUCTURED-LOCATION;VALUE=URI;X-ADDRESS=MGH Awothek Karl-Bröger-Straße 9 Nürnberg 90459;X-APPLE-RADIUS=500;X-TITLE=Karl-Bröger-Straße 9:geo:11.0785623,49.4436413
END:VEVENT
BEGIN:VEVENT
DTSTART;TZID=Europe/Berlin:20260731T170000
DTEND;TZID=Europe/Berlin:20260731T180000
DTSTAMP:20260420T084647
CREATED:20260220T113318Z
LAST-MODIFIED:20260220T113318Z
UID:10001509-1785517200-1785520800@service.magazin66.de
SUMMARY:Zumba für Frauen
DESCRIPTION:Jede Frau kann teilnehmen. Kostenlos\, Spenden erwünscht.
URL:https://service.magazin66.de/event/zumba-fuer-frauen/2026-07-31/
LOCATION:MGH Awothek\, Karl-Bröger-Straße 9\, Nürnberg\, 90459
CATEGORIES:Gesundheit und Sport
ORGANIZER;CN="AWO Kreisverband N%C3%BCrnberg e.V.":MAILTO:mgh-assistenz@awo-nbg.de
GEO:49.4436413;11.0785623
X-APPLE-STRUCTURED-LOCATION;VALUE=URI;X-ADDRESS=MGH Awothek Karl-Bröger-Straße 9 Nürnberg 90459;X-APPLE-RADIUS=500;X-TITLE=Karl-Bröger-Straße 9:geo:11.0785623,49.4436413
END:VEVENT
BEGIN:VEVENT
DTSTART;TZID=Europe/Berlin:20260802T170000
DTEND;TZID=Europe/Berlin:20260802T180000
DTSTAMP:20260420T084647
CREATED:20260220T113318Z
LAST-MODIFIED:20260220T113318Z
UID:10001510-1785690000-1785693600@service.magazin66.de
SUMMARY:Zumba für Frauen
DESCRIPTION:Jede Frau kann teilnehmen. Kostenlos\, Spenden erwünscht.
URL:https://service.magazin66.de/event/zumba-fuer-frauen/2026-08-02/
LOCATION:MGH Awothek\, Karl-Bröger-Straße 9\, Nürnberg\, 90459
CATEGORIES:Gesundheit und Sport
ORGANIZER;CN="AWO Kreisverband N%C3%BCrnberg e.V.":MAILTO:mgh-assistenz@awo-nbg.de
GEO:49.4436413;11.0785623
X-APPLE-STRUCTURED-LOCATION;VALUE=URI;X-ADDRESS=MGH Awothek Karl-Bröger-Straße 9 Nürnberg 90459;X-APPLE-RADIUS=500;X-TITLE=Karl-Bröger-Straße 9:geo:11.0785623,49.4436413
END:VEVENT
END:VCALENDAR