BEGIN:VCALENDAR
VERSION:2.0
PRODID:-//Service Magazin sechs+sechzig - ECPv6.15.18//NONSGML v1.0//EN
CALSCALE:GREGORIAN
METHOD:PUBLISH
X-WR-CALNAME:Service Magazin sechs+sechzig
X-ORIGINAL-URL:https://service.magazin66.de
X-WR-CALDESC:Veranstaltungen für Service Magazin sechs+sechzig
REFRESH-INTERVAL;VALUE=DURATION:PT1H
X-Robots-Tag:noindex
X-PUBLISHED-TTL:PT1H
BEGIN:VTIMEZONE
TZID:Europe/Berlin
BEGIN:DAYLIGHT
TZOFFSETFROM:+0100
TZOFFSETTO:+0200
TZNAME:CEST
DTSTART:20250330T010000
END:DAYLIGHT
BEGIN:STANDARD
TZOFFSETFROM:+0200
TZOFFSETTO:+0100
TZNAME:CET
DTSTART:20251026T010000
END:STANDARD
BEGIN:DAYLIGHT
TZOFFSETFROM:+0100
TZOFFSETTO:+0200
TZNAME:CEST
DTSTART:20260329T010000
END:DAYLIGHT
BEGIN:STANDARD
TZOFFSETFROM:+0200
TZOFFSETTO:+0100
TZNAME:CET
DTSTART:20261025T010000
END:STANDARD
BEGIN:DAYLIGHT
TZOFFSETFROM:+0100
TZOFFSETTO:+0200
TZNAME:CEST
DTSTART:20270328T010000
END:DAYLIGHT
BEGIN:STANDARD
TZOFFSETFROM:+0200
TZOFFSETTO:+0100
TZNAME:CET
DTSTART:20271031T010000
END:STANDARD
END:VTIMEZONE
BEGIN:VEVENT
DTSTART;TZID=Europe/Berlin:20260420T090000
DTEND;TZID=Europe/Berlin:20260420T163000
DTSTAMP:20260420T050508
CREATED:20251201T083347Z
LAST-MODIFIED:20251201T083347Z
UID:10001067-1776675600-1776702600@service.magazin66.de
SUMMARY:Bäderfahrt nach Hersbruck
DESCRIPTION:Im warmen Wasser der Fackelmann-Therme halten sich die Anwesenden fit mit Schwimmen und Wassergymnastik. In der Mittagspause wird bei einer Tasse Kaffee und einem guten Stück Kuchen entspannt. Die Bäderfahrten finden von Oktober bis April statt. \nAbfahrt: 9 Uhr am Festplatz in Roth\nRückfahrt: 16 Uhr ab Fackelmann-Therme Hersbruck \nAnmeldung: Walter Ruf\, Tel. 09171 / 3124 \nKosten: 18\,- Euro inkl. Eintritt \nDie Teilnahme erfolgt in eigener Verantwortung und auf eigenes Risiko
URL:https://service.magazin66.de/event/baederfahrt-nach-hersbruck/2026-04-20/
CATEGORIES:Gesundheit und Sport
END:VEVENT
BEGIN:VEVENT
DTSTART;TZID=Europe/Berlin:20260420T101500
DTEND;TZID=Europe/Berlin:20260420T180000
DTSTAMP:20260420T050508
CREATED:20260222T161318Z
LAST-MODIFIED:20260222T161318Z
UID:10001726-1776680100-1776708000@service.magazin66.de
SUMMARY:Senioren-Montagskino im Babylon
DESCRIPTION:Jeden Montag sehen Sie ausgwählte Filme im Senioren-Montagskino in mittlerweile sechs Vorstellungen! \nSaal 2: 10:15 Uhr & 12:45 Uhr & 15:15 Uhr\nSaal 3: 11:00 Uhr & 13:30 Uhr & 16:00 Uhr\n*an Feiertagen und in Ferien nur 10:15 Uhr\, 12:45 Uhr und 15:15 Uhr \nKino: 6 €\nKino inkl. 1 Kaffee- oder Teegetränk: 8 €\nKino inkl. 1 Kaffee- oder Teegetränk und 1 Stück Kuchen: 11 €
URL:https://service.magazin66.de/event/senioren-montagskino-im-babylon/2026-04-20/
LOCATION:Babylon Kino am Stadtpark\, Nürnberger Straße 3\, Fürth\, 90762
CATEGORIES:Literatur, Theater und Kino
GEO:49.4723322;10.9938739
X-APPLE-STRUCTURED-LOCATION;VALUE=URI;X-ADDRESS=Babylon Kino am Stadtpark Nürnberger Straße 3 Fürth 90762;X-APPLE-RADIUS=500;X-TITLE=Nürnberger Straße 3:geo:10.9938739,49.4723322
END:VEVENT
BEGIN:VEVENT
DTSTART;TZID=Europe/Berlin:20260420T120000
DTEND;TZID=Europe/Berlin:20260420T130000
DTSTAMP:20260420T050508
CREATED:20260214T162951Z
LAST-MODIFIED:20260214T163018Z
UID:10001081-1776686400-1776690000@service.magazin66.de
SUMMARY:Männersport
DESCRIPTION:Für Männer ab 60 Jahren. Durch gezielte Übungen wird der Körper gestärkt. \nPräventionskurs nach §20 SGB V. Kursgebühr 80 Euro für 8 Einheiten\, Zuschuss durch gesetzliche Krankenkassen möglich. \nInfos und Anmeldung bei Anna Storm\, Seniorennetzwerk Südstadt Ost\, Telefon: 0911/37 67 85 85 \nKurs I: 23.Februar bis 27. April 2026 (Osterpause am 30. März und 06. April 2026)\nKurs II: 04. Mai bis 06. Juli 2026 (Pfingstpause am 25. Mai und 01. Juni 2026)
URL:https://service.magazin66.de/event/maennersport/2026-04-20/
LOCATION:Treff Bleiweiß\, Hintere Bleiweißstraße 15\, Nürnberg\, 90461
CATEGORIES:Gesundheit und Sport
GEO:49.4414252;11.0929161
X-APPLE-STRUCTURED-LOCATION;VALUE=URI;X-ADDRESS=Treff Bleiweiß Hintere Bleiweißstraße 15 Nürnberg 90461;X-APPLE-RADIUS=500;X-TITLE=Hintere Bleiweißstraße 15:geo:11.0929161,49.4414252
END:VEVENT
BEGIN:VEVENT
DTSTART;TZID=Europe/Berlin:20260420T140000
DTEND;TZID=Europe/Berlin:20260420T160000
DTSTAMP:20260420T050508
CREATED:20251124T152534Z
LAST-MODIFIED:20260219T121456Z
UID:10001314-1776693600-1776700800@service.magazin66.de
SUMMARY:Handy-\, Tablet- und PC-Sprechstunde
DESCRIPTION:Praktische Hilfe bei konkreten Problemen im Umgang mit Ihren Geräten. \nKostenfrei\, nur mit Terminvergabe (je 30 Minuten): 0911 / 23116010
URL:https://service.magazin66.de/event/handy-tablet-und-pc-sprechstunde/2026-04-20/
LOCATION:Kulturladen Röthenbach\, Röthenbacher Hauptstraße 74\, Nürnberg\, 90449
CATEGORIES:Digitale Welt
ORGANIZER;CN="Seniorennetzwerk Eibach/R%C3%B6thenbach":MAILTO:kulturladen-roethenbach@stadt.nuernberg.de
GEO:49.4156074;11.0316924
X-APPLE-STRUCTURED-LOCATION;VALUE=URI;X-ADDRESS=Kulturladen Röthenbach Röthenbacher Hauptstraße 74 Nürnberg 90449;X-APPLE-RADIUS=500;X-TITLE=Röthenbacher Hauptstraße 74:geo:11.0316924,49.4156074
END:VEVENT
BEGIN:VEVENT
DTSTART;TZID=Europe/Berlin:20260420T143000
DTEND;TZID=Europe/Berlin:20260420T160000
DTSTAMP:20260420T050508
CREATED:20251124T151411Z
LAST-MODIFIED:20260222T135535Z
UID:10001583-1776695400-1776700800@service.magazin66.de
SUMMARY:Plauder-Café
DESCRIPTION:Tee\, Kaffee\, Infos über Angebote im Stadtteil und Beratung
URL:https://service.magazin66.de/event/plauder-cafe/2026-04-20/
LOCATION:MGH Awothek\, Karl-Bröger-Straße 9\, Nürnberg\, 90459
CATEGORIES:Stammtische, Café und Seniorentreffs
ORGANIZER;CN="AWO Kreisverband N%C3%BCrnberg e.V.":MAILTO:mgh-assistenz@awo-nbg.de
GEO:49.4436413;11.0785623
X-APPLE-STRUCTURED-LOCATION;VALUE=URI;X-ADDRESS=MGH Awothek Karl-Bröger-Straße 9 Nürnberg 90459;X-APPLE-RADIUS=500;X-TITLE=Karl-Bröger-Straße 9:geo:11.0785623,49.4436413
END:VEVENT
BEGIN:VEVENT
DTSTART;TZID=Europe/Berlin:20260421T100000
DTEND;TZID=Europe/Berlin:20260421T130000
DTSTAMP:20260420T050508
CREATED:20260219T114211Z
LAST-MODIFIED:20260219T114211Z
UID:10001176-1776765600-1776776400@service.magazin66.de
SUMMARY:Sprechstunde Digitale Medien für Seniorinnen und Senioren
DESCRIPTION:Jeden Dienstag 10–12:55 Uhr \nKosten: 10\,- für 40 Minuten. \nAnmeldung: 0911/21759-25 o. -23
URL:https://service.magazin66.de/event/sprechstunde-digitale-medien-fuer-seniorinnen-und-senioren/2026-04-21/
LOCATION:Seniorenzentrum am Tiergärtnertor\, Burgschmietstraße 4\, Nürnberg\, 90419
CATEGORIES:Digitale Welt
GEO:49.4577908;11.0721594
X-APPLE-STRUCTURED-LOCATION;VALUE=URI;X-ADDRESS=Seniorenzentrum am Tiergärtnertor Burgschmietstraße 4 Nürnberg 90419;X-APPLE-RADIUS=500;X-TITLE=Burgschmietstraße 4:geo:11.0721594,49.4577908
END:VEVENT
BEGIN:VEVENT
DTSTART;TZID=Europe/Berlin:20260421T140000
DTEND;TZID=Europe/Berlin:20260421T160000
DTSTAMP:20260420T050508
CREATED:20251128T085758Z
LAST-MODIFIED:20251128T105443Z
UID:10000515-1776780000-1776787200@service.magazin66.de
SUMMARY:Erlanger Singioren - zusammen singen
DESCRIPTION:Wir treffen uns in der Martin-Luther-Kirche (Erlangen) und singen „altes“ und „neues“ Liedgut mit und ohne Begleitung. Weitere Inhalte sind: Stimmtraining\, Atemschule und Bewegung. Wir freuen uns\, wenn Sie einfach vorbeikommen und mitsingen. Eintritt 2 Euro\, keine Anmeldung erforderlich. \nFindet in den bayerischen Schulferien und an Feiertagen nicht statt.
URL:https://service.magazin66.de/event/erlanger-singioren-zusammen-singen/2026-04-21/
LOCATION:Martin-Luther-Kirche Erlangen\, Bamberger Str. 18\, 91056 Erlangen
CATEGORIES:Musik und Unterhaltung
ORGANIZER;CN="Abteilung f%C3%BCr Alters- und Generationenfragen Erlangen":MAILTO:alter-generationen@stadt.erlangen.de
GEO:49.5960541;10.9631176
X-APPLE-STRUCTURED-LOCATION;VALUE=URI;X-ADDRESS=Martin-Luther-Kirche Erlangen Bamberger Str. 18 91056 Erlangen;X-APPLE-RADIUS=500;X-TITLE=Bamberger Str. 18:geo:10.9631176,49.5960541
END:VEVENT
BEGIN:VEVENT
DTSTART;TZID=Europe/Berlin:20260421T163000
DTEND;TZID=Europe/Berlin:20260421T173000
DTSTAMP:20260420T050508
CREATED:20251201T092948Z
LAST-MODIFIED:20251201T092948Z
UID:10001069-1776789000-1776792600@service.magazin66.de
SUMMARY:Fühl dich sicher
DESCRIPTION:Sich sicher und selbstbewusst im Alltag bewegen – das ist das Ziel des Kurses. Über 150 Teilnehmende haben diesen Kurs bereits besucht. Mit einer ausgewogenen Mischung aus Theorie und praktischen Übungen lernen die Senioren einfache\, wirkungsvolle Techniken\, um sich in schwierigen Situationen sicherer zu fühlen. Körperliche Fitness ist keine Voraussetzung für den Kurs\, der so konzipiert ist\, dass jede und jeder daran teilnehmen kann. \nDer Kurs besteht aus zwei Einheiten. Anmeldung erforderlich im Seniorenbüro Roth.
URL:https://service.magazin66.de/event/fuehl-dich-sicher/2026-04-21/
LOCATION:Ratsstuben im Schloss Ratibor\, Hauptstr. 1\, Roth\, 91154
CATEGORIES:Beratung, Vorträge und Workshops
ORGANIZER;CN="Seniorenb%C3%BCro der Stadt Roth":MAILTO:brigitte.reinard@stadt-roth.de
GEO:49.2450701;11.0898687
X-APPLE-STRUCTURED-LOCATION;VALUE=URI;X-ADDRESS=Ratsstuben im Schloss Ratibor Hauptstr. 1 Roth 91154;X-APPLE-RADIUS=500;X-TITLE=Hauptstr. 1:geo:11.0898687,49.2450701
END:VEVENT
BEGIN:VEVENT
DTSTART;TZID=Europe/Berlin:20260422T140000
DTEND;TZID=Europe/Berlin:20260422T160000
DTSTAMP:20260420T050508
CREATED:20251201T082608Z
LAST-MODIFIED:20251201T082608Z
UID:10001008-1776866400-1776873600@service.magazin66.de
SUMMARY:An die Würfel\, fertig\, los ...
DESCRIPTION:Spiel\, Spaß\, Spannung – das verspricht der Spielenachmittag. Gesellschaftsspiele aller Art stehen auf dem Programm. Spielen verbindet Gleichgesinnte und aktiviert die grauen Zellen.
URL:https://service.magazin66.de/event/an-die-wuerfel-fertig-los/2026-04-22/
LOCATION:Stadtbücherei im Schloss Ratibor\, Hauptstr. 1\, Roth\, 91154
CATEGORIES:Stammtische, Café und Seniorentreffs
ORGANIZER;CN="Seniorenb%C3%BCro der Stadt Roth":MAILTO:brigitte.reinard@stadt-roth.de
GEO:49.2450701;11.0898687
X-APPLE-STRUCTURED-LOCATION;VALUE=URI;X-ADDRESS=Stadtbücherei im Schloss Ratibor Hauptstr. 1 Roth 91154;X-APPLE-RADIUS=500;X-TITLE=Hauptstr. 1:geo:11.0898687,49.2450701
END:VEVENT
BEGIN:VEVENT
DTSTART;TZID=Europe/Berlin:20260422T150000
DTEND;TZID=Europe/Berlin:20260422T170000
DTSTAMP:20260420T050508
CREATED:20251124T150231Z
LAST-MODIFIED:20260219T115209Z
UID:10001272-1776870000-1776877200@service.magazin66.de
SUMMARY:Handyberatung
DESCRIPTION:Haben Sie Probleme bei der Nutzung Ihres Handys oder haben Sie Schwierigkeiten bei der Nutzung des Internets? Vereinbaren Sie einen Termin\, wir beantworten Ihre Fragen. \nInfo/Anmeldung: 0911/45060167\, mgh-assistenz@awo-nbg.de
URL:https://service.magazin66.de/event/handyberatung/2026-04-22/
LOCATION:MGH Awothek\, Karl-Bröger-Straße 9\, Nürnberg\, 90459
CATEGORIES:Digitale Welt
ORGANIZER;CN="AWO Kreisverband N%C3%BCrnberg e.V.":MAILTO:mgh-assistenz@awo-nbg.de
GEO:49.4436413;11.0785623
X-APPLE-STRUCTURED-LOCATION;VALUE=URI;X-ADDRESS=MGH Awothek Karl-Bröger-Straße 9 Nürnberg 90459;X-APPLE-RADIUS=500;X-TITLE=Karl-Bröger-Straße 9:geo:11.0785623,49.4436413
END:VEVENT
BEGIN:VEVENT
DTSTART;TZID=Europe/Berlin:20260423T143000
DTEND;TZID=Europe/Berlin:20260423T153000
DTSTAMP:20260420T050508
CREATED:20251128T080241Z
LAST-MODIFIED:20251128T104552Z
UID:10000471-1776954600-1776958200@service.magazin66.de
SUMMARY:Senioren-Gymnastik Erlangen
DESCRIPTION:Der Teilnahmebetrag von 2 Euro fällt nur für die tatsächlich besuchten Sportstunden an. Für ErlangenPass-Besitzer*innen sind alle Kurse kostenlos.\nInformationen zu den weiteren Angeboten erhalten Sie im Büro der Abteilung für Alters- und Generationenfragen (ehem. Seniorenamt).\nEine Anmeldung ist nicht erforderlich. Während der Schulferien findet der Kurs nicht statt.
URL:https://service.magazin66.de/event/seniorengymnastik/2026-04-23/
LOCATION:Grundschule an der Brucker Lache\, Zeißstraße 51\, Erlangen\, 91058
CATEGORIES:Gesundheit und Sport
ORGANIZER;CN="Abteilung f%C3%BCr Alters- und Generationenfragen Erlangen":MAILTO:alter-generationen@stadt.erlangen.de
GEO:49.5682846;11.0046617
X-APPLE-STRUCTURED-LOCATION;VALUE=URI;X-ADDRESS=Grundschule an der Brucker Lache Zeißstraße 51 Erlangen 91058;X-APPLE-RADIUS=500;X-TITLE=Zeißstraße 51:geo:11.0046617,49.5682846
END:VEVENT
BEGIN:VEVENT
DTSTART;TZID=Europe/Berlin:20260423T153000
DTEND;TZID=Europe/Berlin:20260423T163000
DTSTAMP:20260420T050508
CREATED:20251128T092257Z
LAST-MODIFIED:20251128T092257Z
UID:10000563-1776958200-1776961800@service.magazin66.de
SUMMARY:Nordic Walking für Seniore*innen
DESCRIPTION:Der Teilnahmebetrag (2 Euro) fällt nur für die tatsächlich besuchten Sportstunden an. Für ErlangenPass-Besitzer*innen sind alle Kurse kostenlos.\nTreffpunkt: Parkplatz Grundschule an der Brucker Lache \nWährend der Schulferien und an Feiertragen findet der Kurs nicht statt.
URL:https://service.magazin66.de/event/nordic-walking-fuer-senioreinnen/2026-04-23/
LOCATION:Grundschule an der Brucker Lache\, Zeißstraße 51\, Erlangen\, 91058
CATEGORIES:Gesundheit und Sport
ORGANIZER;CN="Abteilung f%C3%BCr Alters- und Generationenfragen Erlangen":MAILTO:alter-generationen@stadt.erlangen.de
GEO:49.5682846;11.0046617
X-APPLE-STRUCTURED-LOCATION;VALUE=URI;X-ADDRESS=Grundschule an der Brucker Lache Zeißstraße 51 Erlangen 91058;X-APPLE-RADIUS=500;X-TITLE=Zeißstraße 51:geo:11.0046617,49.5682846
END:VEVENT
BEGIN:VEVENT
DTSTART;TZID=Europe/Berlin:20260424T080000
DTEND;TZID=Europe/Berlin:20260424T090000
DTSTAMP:20260420T050508
CREATED:20251128T105157Z
LAST-MODIFIED:20251128T105157Z
UID:10000607-1777017600-1777021200@service.magazin66.de
SUMMARY:Senioren-Gymnastik Erlangen
DESCRIPTION:Der Teilnahmebetrag von 2 Euro fällt nur für die tatsächlich besuchten Sportstunden an. Für ErlangenPass-Besitzer*innen sind alle Kurse kostenlos.\nInformationen zu den weiteren Angeboten erhalten Sie im Büro der Abteilung für Alters- und Generationenfragen (ehem. Seniorenamt).\nEine Anmeldung ist nicht erforderlich. Während der Schulferien findet der Kurs nicht statt.
URL:https://service.magazin66.de/event/senioren-gymnastik-erlangen/2026-04-24/
LOCATION:Pestalozzischule Erlangen\, Pestalozzistr. 1\, 91052 Erlangen
CATEGORIES:Gesundheit und Sport
ORGANIZER;CN="Abteilung f%C3%BCr Alters- und Generationenfragen Erlangen":MAILTO:alter-generationen@stadt.erlangen.de
GEO:49.5839951;10.9957158
X-APPLE-STRUCTURED-LOCATION;VALUE=URI;X-ADDRESS=Pestalozzischule Erlangen Pestalozzistr. 1 91052 Erlangen;X-APPLE-RADIUS=500;X-TITLE=Pestalozzistr. 1:geo:10.9957158,49.5839951
END:VEVENT
BEGIN:VEVENT
DTSTART;TZID=Europe/Berlin:20260424T084500
DTEND;TZID=Europe/Berlin:20260424T094500
DTSTAMP:20260420T050508
CREATED:20251128T110112Z
LAST-MODIFIED:20251128T110112Z
UID:10000649-1777020300-1777023900@service.magazin66.de
SUMMARY:Gedächtnis-Training für Erlanger Senior*innen
DESCRIPTION:Sie erwartet eine bunte Palette an Übungen\, Spielen und Trainings\, die die grauen Zellen so richtig auf Trab bringen. Der Spaß in der Gemeinschaft und das Knüpfen neuer Kontakte runden das Angebot ab. Eintritt 2 Euro. \nWährend der Schulferien findet der Kurs nicht statt.
URL:https://service.magazin66.de/event/gedaechtnis-training-fuer-erlanger-seniorinnen/2026-04-24/
LOCATION:Gesundheitsraum der Stadt Erlangen\, Nürnberger Straße 71\, Erlangen\, 91052
CATEGORIES:Gesundheit und Sport
ORGANIZER;CN="Abteilung f%C3%BCr Alters- und Generationenfragen Erlangen":MAILTO:alter-generationen@stadt.erlangen.de
GEO:49.5890765;11.0058942
X-APPLE-STRUCTURED-LOCATION;VALUE=URI;X-ADDRESS=Gesundheitsraum der Stadt Erlangen Nürnberger Straße 71 Erlangen 91052;X-APPLE-RADIUS=500;X-TITLE=Nürnberger Straße 71:geo:11.0058942,49.5890765
END:VEVENT
BEGIN:VEVENT
DTSTART;TZID=Europe/Berlin:20260424T100000
DTEND;TZID=Europe/Berlin:20260424T120000
DTSTAMP:20260420T050508
CREATED:20251128T164728Z
LAST-MODIFIED:20251128T164728Z
UID:10000840-1777024800-1777032000@service.magazin66.de
SUMMARY:Walk & Talk
DESCRIPTION:Spaziergang (ca. 1\,5 – 2 Stunden) und Austausch. Treffpunkt: Jeden Mittwoch um 10 Uhr am Bahnhof Altdorf. Ohne Anmeldung.
URL:https://service.magazin66.de/event/walk-talk/2026-04-24/
LOCATION:Bahnhof Altdorf\, Bahnhofstr. 20\, Altdorf\, 90518
CATEGORIES:Spaziergänge und Wanderungen
GEO:49.3892515;11.3530281
X-APPLE-STRUCTURED-LOCATION;VALUE=URI;X-ADDRESS=Bahnhof Altdorf Bahnhofstr. 20 Altdorf 90518;X-APPLE-RADIUS=500;X-TITLE=Bahnhofstr. 20:geo:11.3530281,49.3892515
END:VEVENT
BEGIN:VEVENT
DTSTART;TZID=Europe/Berlin:20260424T100000
DTEND;TZID=Europe/Berlin:20260424T123000
DTSTAMP:20260420T050508
CREATED:20260222T140122Z
LAST-MODIFIED:20260222T140122Z
UID:10001626-1777024800-1777033800@service.magazin66.de
SUMMARY:Freitagsfrühstück
DESCRIPTION:Ungezwungen beim Frühstück mit anderen Menschen ins Gespräch und in Kontakt kommen!
URL:https://service.magazin66.de/event/freitagsfruehstueck/2026-04-24/
LOCATION:MGH Awothek\, Karl-Bröger-Straße 9\, Nürnberg\, 90459
CATEGORIES:Stammtische, Café und Seniorentreffs
ORGANIZER;CN="AWO Kreisverband N%C3%BCrnberg e.V.":MAILTO:mgh-assistenz@awo-nbg.de
GEO:49.4436413;11.0785623
X-APPLE-STRUCTURED-LOCATION;VALUE=URI;X-ADDRESS=MGH Awothek Karl-Bröger-Straße 9 Nürnberg 90459;X-APPLE-RADIUS=500;X-TITLE=Karl-Bröger-Straße 9:geo:11.0785623,49.4436413
END:VEVENT
BEGIN:VEVENT
DTSTART;TZID=Europe/Berlin:20260424T140000
DTEND;TZID=Europe/Berlin:20260424T170000
DTSTAMP:20260420T050508
CREATED:20260220T083731Z
LAST-MODIFIED:20260220T083731Z
UID:10001359-1777039200-1777050000@service.magazin66.de
SUMMARY:Skat-Spielen
DESCRIPTION:Jeden Freitag\, 14–17 Uhr (außer feiertags) trifft sich eine begeisterte Skat-Spieler-Runde in der Cafeteria im Heilig-Geist-Spital
URL:https://service.magazin66.de/event/skat-spielen/2026-04-24/
LOCATION:Cafeteria Heilig-Geist-Spital\, Spitalgasse 22\, Nürnberg\, 90403
CATEGORIES:Stammtische, Café und Seniorentreffs
GEO:49.4530728;11.0797613
X-APPLE-STRUCTURED-LOCATION;VALUE=URI;X-ADDRESS=Cafeteria Heilig-Geist-Spital Spitalgasse 22 Nürnberg 90403;X-APPLE-RADIUS=500;X-TITLE=Spitalgasse 22:geo:11.0797613,49.4530728
END:VEVENT
BEGIN:VEVENT
DTSTART;TZID=Europe/Berlin:20260424T150000
DTEND;TZID=Europe/Berlin:20260424T163000
DTSTAMP:20260420T050508
CREATED:20260214T171648Z
LAST-MODIFIED:20260214T171648Z
UID:10001155-1777042800-1777048200@service.magazin66.de
SUMMARY:Birgit Endres & Band
DESCRIPTION:Zeitreise durch die Jahrzehnte der Rock-\, Pop-\, Folk-\, Swing- und Countrymusik. \nEintritt frei; keine Anmeldung erforderlich.
URL:https://service.magazin66.de/event/birgit-endres-band/
LOCATION:Treff Bleiweiß\, Hintere Bleiweißstraße 15\, Nürnberg\, 90461
CATEGORIES:Musik und Unterhaltung
ORGANIZER;CN="Treff Bleiwei%C3%9F":MAILTO:seniorentreffs@stadt.nuernberg.de
GEO:49.4414252;11.0929161
X-APPLE-STRUCTURED-LOCATION;VALUE=URI;X-ADDRESS=Treff Bleiweiß Hintere Bleiweißstraße 15 Nürnberg 90461;X-APPLE-RADIUS=500;X-TITLE=Hintere Bleiweißstraße 15:geo:11.0929161,49.4414252
END:VEVENT
BEGIN:VEVENT
DTSTART;TZID=Europe/Berlin:20260424T150000
DTEND;TZID=Europe/Berlin:20260424T170000
DTSTAMP:20260420T050508
CREATED:20260222T110125Z
LAST-MODIFIED:20260222T110355Z
UID:10001571-1777042800-1777050000@service.magazin66.de
SUMMARY:Waldcafè
DESCRIPTION:„koko&lore – Gemeinschaftshaus Tennenlohe e.V.“ bietet Ihnen selbstgebackenen leckeren Kuchen und Kaffee im Waldcafé an. Nebenbei können Sie Kreatives für Jung und Alt miterleben. Schauen Sie vorbei!\nkostenfrei\, keine Anmeldung nötig
URL:https://service.magazin66.de/event/waldcafe/2026-04-24/
CATEGORIES:Sonstiges
END:VEVENT
BEGIN:VEVENT
DTSTART;TZID=Europe/Berlin:20260424T170000
DTEND;TZID=Europe/Berlin:20260424T180000
DTSTAMP:20260420T050508
CREATED:20260220T113318Z
LAST-MODIFIED:20260220T113318Z
UID:10001481-1777050000-1777053600@service.magazin66.de
SUMMARY:Zumba für Frauen
DESCRIPTION:Jede Frau kann teilnehmen. Kostenlos\, Spenden erwünscht.
URL:https://service.magazin66.de/event/zumba-fuer-frauen/2026-04-24/
LOCATION:MGH Awothek\, Karl-Bröger-Straße 9\, Nürnberg\, 90459
CATEGORIES:Gesundheit und Sport
ORGANIZER;CN="AWO Kreisverband N%C3%BCrnberg e.V.":MAILTO:mgh-assistenz@awo-nbg.de
GEO:49.4436413;11.0785623
X-APPLE-STRUCTURED-LOCATION;VALUE=URI;X-ADDRESS=MGH Awothek Karl-Bröger-Straße 9 Nürnberg 90459;X-APPLE-RADIUS=500;X-TITLE=Karl-Bröger-Straße 9:geo:11.0785623,49.4436413
END:VEVENT
BEGIN:VEVENT
DTSTART;TZID=Europe/Berlin:20260424T180000
DTEND;TZID=Europe/Berlin:20260424T190000
DTSTAMP:20260420T050508
CREATED:20260222T105215Z
LAST-MODIFIED:20260222T105215Z
UID:10001568-1777053600-1777057200@service.magazin66.de
SUMMARY:Waldmärchen
DESCRIPTION:Lauschen Sie Geschichten aus längst vergangenen Tagen und fremden Kulturen rings um das Thema Wald begleitet von sanften Flötenklängen. In einem ca einstündigen Spaziergang um das Walderlebniszentrum Tennenlohe erzählt Förster Chris Bürger Märchen aus dem Wald.\n2 €/Person\, ab 6 Jahren\, Menschen mit eingeschränkter Mobilität sind herzlich willkommen.
URL:https://service.magazin66.de/event/waldmaerchen/2026-04-24/
LOCATION:Walderlebniszentrum Tennenlohe\, Weinstraße 100\, Erlangen\, 91058
CATEGORIES:Unterwegs mit Enkeln
ORGANIZER;CN="Walderlebniszentrum Tennenlohe":MAILTO:wez.erlangen@aelf-fu.bayern.de
GEO:49.5559845;11.0269707
X-APPLE-STRUCTURED-LOCATION;VALUE=URI;X-ADDRESS=Walderlebniszentrum Tennenlohe Weinstraße 100 Erlangen 91058;X-APPLE-RADIUS=500;X-TITLE=Weinstraße 100:geo:11.0269707,49.5559845
END:VEVENT
BEGIN:VEVENT
DTSTART;TZID=Europe/Berlin:20260424T193000
DTEND;TZID=Europe/Berlin:20260424T213000
DTSTAMP:20260420T050508
CREATED:20260219T132141Z
LAST-MODIFIED:20260219T132141Z
UID:10001337-1777059000-1777066200@service.magazin66.de
SUMMARY:Nein zum Geld
DESCRIPTION:Komödie über den Lottogewinn in einer jungen Familie und dessen ungewöhnliche Folgen für alle.
URL:https://service.magazin66.de/event/nein-zum-geld-2/2026-04-24/
LOCATION:Dehnberger Hoftheater\, Dehnberg 14\, Lauf\, 91207
CATEGORIES:Literatur, Theater und Kino
GEO:49.5373015;11.286072
X-APPLE-STRUCTURED-LOCATION;VALUE=URI;X-ADDRESS=Dehnberger Hoftheater Dehnberg 14 Lauf 91207;X-APPLE-RADIUS=500;X-TITLE=Dehnberg 14:geo:11.286072,49.5373015
END:VEVENT
BEGIN:VEVENT
DTSTART;TZID=Europe/Berlin:20260425T091000
DTEND;TZID=Europe/Berlin:20260425T153000
DTSTAMP:20260420T050508
CREATED:20260222T101931Z
LAST-MODIFIED:20260222T101931Z
UID:10001553-1777108200-1777131000@service.magazin66.de
SUMMARY:Am Dünenweg
DESCRIPTION:Treffpunkt 9:10 Uhr Nürnberg Hauptbahnhof Mittelhalle \nGehzeit ca. 4 Stunden\, 15 km \nAnmeldung: Robert Schütz 0173/7300864
URL:https://service.magazin66.de/event/am-duenenweg/
CATEGORIES:Spaziergänge und Wanderungen
END:VEVENT
BEGIN:VEVENT
DTSTART;TZID=Europe/Berlin:20260425T140000
DTEND;TZID=Europe/Berlin:20260425T150000
DTSTAMP:20260420T050508
CREATED:20251128T130453Z
LAST-MODIFIED:20251128T130453Z
UID:10000686-1777125600-1777129200@service.magazin66.de
SUMMARY:Entdeckertour rund um die Laufer Altstadt
DESCRIPTION:Rundgang mit den Laufer Stadtführern. Treffpunkt ist die Infosäule der Burgenstraße an der Johanniskirche am Marktplatz. Teilnehmergebühr: 5 Euro (für Kinder unter 14 Jahren ist die Teilnahme kostenlos).
URL:https://service.magazin66.de/event/entdeckertour-rund-um-die-laufer-altstadt/2026-04-25/
LOCATION:Johanniskirche Lauf\, Kirchenplatz 1\, Lauf\, 91207
CATEGORIES:Spaziergänge und Wanderungen
ORGANIZER;CN="Stadtf%C3%BChrer Lauf e. V.":MAILTO:stadtfuehrer@lauf.de
GEO:49.5112464;11.2798878
X-APPLE-STRUCTURED-LOCATION;VALUE=URI;X-ADDRESS=Johanniskirche Lauf Kirchenplatz 1 Lauf 91207;X-APPLE-RADIUS=500;X-TITLE=Kirchenplatz 1:geo:11.2798878,49.5112464
END:VEVENT
BEGIN:VEVENT
DTSTART;TZID=Europe/Berlin:20260425T193000
DTEND;TZID=Europe/Berlin:20260425T210000
DTSTAMP:20260420T050508
CREATED:20260220T082043Z
LAST-MODIFIED:20260220T082043Z
UID:10001349-1777145400-1777150800@service.magazin66.de
SUMMARY:Lesung: Ein bisschen Marx und Lieber Gott
DESCRIPTION:Ein biografisches Revival der 1970er-Jahre von Gunda Krüdener-Ackermann
URL:https://service.magazin66.de/event/lesung-ein-bisschen-marx-und-lieber-gott/
LOCATION:MarthaCafé\, Marthastraße 36\, Nürnberg\, 90482
CATEGORIES:Literatur, Theater und Kino
GEO:49.4533759;11.1141241
X-APPLE-STRUCTURED-LOCATION;VALUE=URI;X-ADDRESS=MarthaCafé Marthastraße 36 Nürnberg 90482;X-APPLE-RADIUS=500;X-TITLE=Marthastraße 36:geo:11.1141241,49.4533759
END:VEVENT
BEGIN:VEVENT
DTSTART;TZID=Europe/Berlin:20260425T193000
DTEND;TZID=Europe/Berlin:20260425T213000
DTSTAMP:20260420T050508
CREATED:20260219T132141Z
LAST-MODIFIED:20260219T132141Z
UID:10001338-1777145400-1777152600@service.magazin66.de
SUMMARY:Nein zum Geld
DESCRIPTION:Komödie über den Lottogewinn in einer jungen Familie und dessen ungewöhnliche Folgen für alle.
URL:https://service.magazin66.de/event/nein-zum-geld-2/2026-04-25/
LOCATION:Dehnberger Hoftheater\, Dehnberg 14\, Lauf\, 91207
CATEGORIES:Literatur, Theater und Kino
GEO:49.5373015;11.286072
X-APPLE-STRUCTURED-LOCATION;VALUE=URI;X-ADDRESS=Dehnberger Hoftheater Dehnberg 14 Lauf 91207;X-APPLE-RADIUS=500;X-TITLE=Dehnberg 14:geo:11.286072,49.5373015
END:VEVENT
BEGIN:VEVENT
DTSTART;TZID=Europe/Berlin:20260426T093000
DTEND;TZID=Europe/Berlin:20260426T103000
DTSTAMP:20260420T050508
CREATED:20260222T160716Z
LAST-MODIFIED:20260222T160716Z
UID:10001686-1777195800-1777199400@service.magazin66.de
SUMMARY:Nordic Walking im Stadtwald Fürth
DESCRIPTION:Zügiges Gehen mit Gymnastik \nJeden Sonntag um 9:30 Uhr\nKeine Anmeldung nötig \nDie Teilnahme erfolgt auf eigene Gefahr.\nDer Seniorenrat Fürth übernimmt keine Haftung
URL:https://service.magazin66.de/event/nordic-walking-im-stadtwald-fuerth/2026-04-26/
LOCATION:Parkplatz Forsthaus im Stadtwald\, Zum Vogelsang 20\, Fürth\, 90768
CATEGORIES:Gesundheit und Sport
GEO:49.4653337;10.9499437
X-APPLE-STRUCTURED-LOCATION;VALUE=URI;X-ADDRESS=Parkplatz Forsthaus im Stadtwald Zum Vogelsang 20 Fürth 90768;X-APPLE-RADIUS=500;X-TITLE=Zum Vogelsang 20:geo:10.9499437,49.4653337
END:VEVENT
BEGIN:VEVENT
DTSTART;TZID=Europe/Berlin:20260426T100000
DTEND;TZID=Europe/Berlin:20260426T110000
DTSTAMP:20260420T050508
CREATED:20251128T163210Z
LAST-MODIFIED:20251128T163210Z
UID:10000770-1777197600-1777201200@service.magazin66.de
SUMMARY:Latschn und Ratschn
DESCRIPTION:Langsames Gehtempo\, 60 Minuten lang\, auf befestigten Wegen. Treffpunkt: Freitags auf dem Parkplatz „Neubaugasse am Markt“\, Pulverturmgasse 5\, Altdorf. \nEine Anmeldung ist nicht erforderlich – kommen Sie einfach vorbei!
URL:https://service.magazin66.de/event/latschn-und-ratschn/2026-04-26/
LOCATION:Parkplatz Neubaugasse am Markt\, Pulverturmgasse 5\, Altdorf\, 90518
CATEGORIES:Spaziergänge und Wanderungen
GEO:49.384052;11.355745
X-APPLE-STRUCTURED-LOCATION;VALUE=URI;X-ADDRESS=Parkplatz Neubaugasse am Markt Pulverturmgasse 5 Altdorf 90518;X-APPLE-RADIUS=500;X-TITLE=Pulverturmgasse 5:geo:11.355745,49.384052
END:VEVENT
BEGIN:VEVENT
DTSTART;TZID=Europe/Berlin:20260426T170000
DTEND;TZID=Europe/Berlin:20260426T180000
DTSTAMP:20260420T050508
CREATED:20260220T113318Z
LAST-MODIFIED:20260220T113318Z
UID:10001482-1777222800-1777226400@service.magazin66.de
SUMMARY:Zumba für Frauen
DESCRIPTION:Jede Frau kann teilnehmen. Kostenlos\, Spenden erwünscht.
URL:https://service.magazin66.de/event/zumba-fuer-frauen/2026-04-26/
LOCATION:MGH Awothek\, Karl-Bröger-Straße 9\, Nürnberg\, 90459
CATEGORIES:Gesundheit und Sport
ORGANIZER;CN="AWO Kreisverband N%C3%BCrnberg e.V.":MAILTO:mgh-assistenz@awo-nbg.de
GEO:49.4436413;11.0785623
X-APPLE-STRUCTURED-LOCATION;VALUE=URI;X-ADDRESS=MGH Awothek Karl-Bröger-Straße 9 Nürnberg 90459;X-APPLE-RADIUS=500;X-TITLE=Karl-Bröger-Straße 9:geo:11.0785623,49.4436413
END:VEVENT
BEGIN:VEVENT
DTSTART;TZID=Europe/Berlin:20260427T101500
DTEND;TZID=Europe/Berlin:20260427T180000
DTSTAMP:20260420T050508
CREATED:20260222T161318Z
LAST-MODIFIED:20260222T161318Z
UID:10001727-1777284900-1777312800@service.magazin66.de
SUMMARY:Senioren-Montagskino im Babylon
DESCRIPTION:Jeden Montag sehen Sie ausgwählte Filme im Senioren-Montagskino in mittlerweile sechs Vorstellungen! \nSaal 2: 10:15 Uhr & 12:45 Uhr & 15:15 Uhr\nSaal 3: 11:00 Uhr & 13:30 Uhr & 16:00 Uhr\n*an Feiertagen und in Ferien nur 10:15 Uhr\, 12:45 Uhr und 15:15 Uhr \nKino: 6 €\nKino inkl. 1 Kaffee- oder Teegetränk: 8 €\nKino inkl. 1 Kaffee- oder Teegetränk und 1 Stück Kuchen: 11 €
URL:https://service.magazin66.de/event/senioren-montagskino-im-babylon/2026-04-27/
LOCATION:Babylon Kino am Stadtpark\, Nürnberger Straße 3\, Fürth\, 90762
CATEGORIES:Literatur, Theater und Kino
GEO:49.4723322;10.9938739
X-APPLE-STRUCTURED-LOCATION;VALUE=URI;X-ADDRESS=Babylon Kino am Stadtpark Nürnberger Straße 3 Fürth 90762;X-APPLE-RADIUS=500;X-TITLE=Nürnberger Straße 3:geo:10.9938739,49.4723322
END:VEVENT
END:VCALENDAR