BEGIN:VCALENDAR
VERSION:2.0
PRODID:-//Service Magazin sechs+sechzig - ECPv6.15.18//NONSGML v1.0//EN
CALSCALE:GREGORIAN
METHOD:PUBLISH
X-ORIGINAL-URL:https://service.magazin66.de
X-WR-CALDESC:Veranstaltungen für Service Magazin sechs+sechzig
REFRESH-INTERVAL;VALUE=DURATION:PT1H
X-Robots-Tag:noindex
X-PUBLISHED-TTL:PT1H
BEGIN:VTIMEZONE
TZID:Europe/Berlin
BEGIN:DAYLIGHT
TZOFFSETFROM:+0100
TZOFFSETTO:+0200
TZNAME:CEST
DTSTART:20250330T010000
END:DAYLIGHT
BEGIN:STANDARD
TZOFFSETFROM:+0200
TZOFFSETTO:+0100
TZNAME:CET
DTSTART:20251026T010000
END:STANDARD
BEGIN:DAYLIGHT
TZOFFSETFROM:+0100
TZOFFSETTO:+0200
TZNAME:CEST
DTSTART:20260329T010000
END:DAYLIGHT
BEGIN:STANDARD
TZOFFSETFROM:+0200
TZOFFSETTO:+0100
TZNAME:CET
DTSTART:20261025T010000
END:STANDARD
BEGIN:DAYLIGHT
TZOFFSETFROM:+0100
TZOFFSETTO:+0200
TZNAME:CEST
DTSTART:20270328T010000
END:DAYLIGHT
BEGIN:STANDARD
TZOFFSETFROM:+0200
TZOFFSETTO:+0100
TZNAME:CET
DTSTART:20271031T010000
END:STANDARD
END:VTIMEZONE
BEGIN:VEVENT
DTSTART;TZID=Europe/Berlin:20260907T143000
DTEND;TZID=Europe/Berlin:20260907T160000
DTSTAMP:20260420T122319
CREATED:20251124T151411Z
LAST-MODIFIED:20260222T135535Z
UID:10001603-1788791400-1788796800@service.magazin66.de
SUMMARY:Plauder-Café
DESCRIPTION:Tee\, Kaffee\, Infos über Angebote im Stadtteil und Beratung
URL:https://service.magazin66.de/event/plauder-cafe/2026-09-07/
LOCATION:MGH Awothek\, Karl-Bröger-Straße 9\, Nürnberg\, 90459
CATEGORIES:Stammtische, Café und Seniorentreffs
ORGANIZER;CN="AWO Kreisverband N%C3%BCrnberg e.V.":MAILTO:mgh-assistenz@awo-nbg.de
GEO:49.4436413;11.0785623
X-APPLE-STRUCTURED-LOCATION;VALUE=URI;X-ADDRESS=MGH Awothek Karl-Bröger-Straße 9 Nürnberg 90459;X-APPLE-RADIUS=500;X-TITLE=Karl-Bröger-Straße 9:geo:11.0785623,49.4436413
END:VEVENT
BEGIN:VEVENT
DTSTART;TZID=Europe/Berlin:20260909T150000
DTEND;TZID=Europe/Berlin:20260909T170000
DTSTAMP:20260420T122319
CREATED:20251124T150231Z
LAST-MODIFIED:20260219T115209Z
UID:10001292-1788966000-1788973200@service.magazin66.de
SUMMARY:Handyberatung
DESCRIPTION:Haben Sie Probleme bei der Nutzung Ihres Handys oder haben Sie Schwierigkeiten bei der Nutzung des Internets? Vereinbaren Sie einen Termin\, wir beantworten Ihre Fragen. \nInfo/Anmeldung: 0911/45060167\, mgh-assistenz@awo-nbg.de
URL:https://service.magazin66.de/event/handyberatung/2026-09-09/
LOCATION:MGH Awothek\, Karl-Bröger-Straße 9\, Nürnberg\, 90459
CATEGORIES:Digitale Welt
ORGANIZER;CN="AWO Kreisverband N%C3%BCrnberg e.V.":MAILTO:mgh-assistenz@awo-nbg.de
GEO:49.4436413;11.0785623
X-APPLE-STRUCTURED-LOCATION;VALUE=URI;X-ADDRESS=MGH Awothek Karl-Bröger-Straße 9 Nürnberg 90459;X-APPLE-RADIUS=500;X-TITLE=Karl-Bröger-Straße 9:geo:11.0785623,49.4436413
END:VEVENT
BEGIN:VEVENT
DTSTART;TZID=Europe/Berlin:20260911T100000
DTEND;TZID=Europe/Berlin:20260911T123000
DTSTAMP:20260420T122319
CREATED:20260222T140122Z
LAST-MODIFIED:20260222T140122Z
UID:10001646-1789120800-1789129800@service.magazin66.de
SUMMARY:Freitagsfrühstück
DESCRIPTION:Ungezwungen beim Frühstück mit anderen Menschen ins Gespräch und in Kontakt kommen!
URL:https://service.magazin66.de/event/freitagsfruehstueck/2026-09-11/
LOCATION:MGH Awothek\, Karl-Bröger-Straße 9\, Nürnberg\, 90459
CATEGORIES:Stammtische, Café und Seniorentreffs
ORGANIZER;CN="AWO Kreisverband N%C3%BCrnberg e.V.":MAILTO:mgh-assistenz@awo-nbg.de
GEO:49.4436413;11.0785623
X-APPLE-STRUCTURED-LOCATION;VALUE=URI;X-ADDRESS=MGH Awothek Karl-Bröger-Straße 9 Nürnberg 90459;X-APPLE-RADIUS=500;X-TITLE=Karl-Bröger-Straße 9:geo:11.0785623,49.4436413
END:VEVENT
BEGIN:VEVENT
DTSTART;TZID=Europe/Berlin:20260911T170000
DTEND;TZID=Europe/Berlin:20260911T180000
DTSTAMP:20260420T122319
CREATED:20260220T113318Z
LAST-MODIFIED:20260220T113318Z
UID:10001521-1789146000-1789149600@service.magazin66.de
SUMMARY:Zumba für Frauen
DESCRIPTION:Jede Frau kann teilnehmen. Kostenlos\, Spenden erwünscht.
URL:https://service.magazin66.de/event/zumba-fuer-frauen/2026-09-11/
LOCATION:MGH Awothek\, Karl-Bröger-Straße 9\, Nürnberg\, 90459
CATEGORIES:Gesundheit und Sport
ORGANIZER;CN="AWO Kreisverband N%C3%BCrnberg e.V.":MAILTO:mgh-assistenz@awo-nbg.de
GEO:49.4436413;11.0785623
X-APPLE-STRUCTURED-LOCATION;VALUE=URI;X-ADDRESS=MGH Awothek Karl-Bröger-Straße 9 Nürnberg 90459;X-APPLE-RADIUS=500;X-TITLE=Karl-Bröger-Straße 9:geo:11.0785623,49.4436413
END:VEVENT
BEGIN:VEVENT
DTSTART;TZID=Europe/Berlin:20260913T170000
DTEND;TZID=Europe/Berlin:20260913T180000
DTSTAMP:20260420T122319
CREATED:20260220T113318Z
LAST-MODIFIED:20260220T113318Z
UID:10001522-1789318800-1789322400@service.magazin66.de
SUMMARY:Zumba für Frauen
DESCRIPTION:Jede Frau kann teilnehmen. Kostenlos\, Spenden erwünscht.
URL:https://service.magazin66.de/event/zumba-fuer-frauen/2026-09-13/
LOCATION:MGH Awothek\, Karl-Bröger-Straße 9\, Nürnberg\, 90459
CATEGORIES:Gesundheit und Sport
ORGANIZER;CN="AWO Kreisverband N%C3%BCrnberg e.V.":MAILTO:mgh-assistenz@awo-nbg.de
GEO:49.4436413;11.0785623
X-APPLE-STRUCTURED-LOCATION;VALUE=URI;X-ADDRESS=MGH Awothek Karl-Bröger-Straße 9 Nürnberg 90459;X-APPLE-RADIUS=500;X-TITLE=Karl-Bröger-Straße 9:geo:11.0785623,49.4436413
END:VEVENT
BEGIN:VEVENT
DTSTART;TZID=Europe/Berlin:20260914T143000
DTEND;TZID=Europe/Berlin:20260914T160000
DTSTAMP:20260420T122319
CREATED:20251124T151411Z
LAST-MODIFIED:20260222T135535Z
UID:10001604-1789396200-1789401600@service.magazin66.de
SUMMARY:Plauder-Café
DESCRIPTION:Tee\, Kaffee\, Infos über Angebote im Stadtteil und Beratung
URL:https://service.magazin66.de/event/plauder-cafe/2026-09-14/
LOCATION:MGH Awothek\, Karl-Bröger-Straße 9\, Nürnberg\, 90459
CATEGORIES:Stammtische, Café und Seniorentreffs
ORGANIZER;CN="AWO Kreisverband N%C3%BCrnberg e.V.":MAILTO:mgh-assistenz@awo-nbg.de
GEO:49.4436413;11.0785623
X-APPLE-STRUCTURED-LOCATION;VALUE=URI;X-ADDRESS=MGH Awothek Karl-Bröger-Straße 9 Nürnberg 90459;X-APPLE-RADIUS=500;X-TITLE=Karl-Bröger-Straße 9:geo:11.0785623,49.4436413
END:VEVENT
BEGIN:VEVENT
DTSTART;TZID=Europe/Berlin:20260916T150000
DTEND;TZID=Europe/Berlin:20260916T170000
DTSTAMP:20260420T122319
CREATED:20251124T150231Z
LAST-MODIFIED:20260219T115209Z
UID:10001293-1789570800-1789578000@service.magazin66.de
SUMMARY:Handyberatung
DESCRIPTION:Haben Sie Probleme bei der Nutzung Ihres Handys oder haben Sie Schwierigkeiten bei der Nutzung des Internets? Vereinbaren Sie einen Termin\, wir beantworten Ihre Fragen. \nInfo/Anmeldung: 0911/45060167\, mgh-assistenz@awo-nbg.de
URL:https://service.magazin66.de/event/handyberatung/2026-09-16/
LOCATION:MGH Awothek\, Karl-Bröger-Straße 9\, Nürnberg\, 90459
CATEGORIES:Digitale Welt
ORGANIZER;CN="AWO Kreisverband N%C3%BCrnberg e.V.":MAILTO:mgh-assistenz@awo-nbg.de
GEO:49.4436413;11.0785623
X-APPLE-STRUCTURED-LOCATION;VALUE=URI;X-ADDRESS=MGH Awothek Karl-Bröger-Straße 9 Nürnberg 90459;X-APPLE-RADIUS=500;X-TITLE=Karl-Bröger-Straße 9:geo:11.0785623,49.4436413
END:VEVENT
BEGIN:VEVENT
DTSTART;TZID=Europe/Berlin:20260918T100000
DTEND;TZID=Europe/Berlin:20260918T123000
DTSTAMP:20260420T122319
CREATED:20260222T140122Z
LAST-MODIFIED:20260222T140122Z
UID:10001647-1789725600-1789734600@service.magazin66.de
SUMMARY:Freitagsfrühstück
DESCRIPTION:Ungezwungen beim Frühstück mit anderen Menschen ins Gespräch und in Kontakt kommen!
URL:https://service.magazin66.de/event/freitagsfruehstueck/2026-09-18/
LOCATION:MGH Awothek\, Karl-Bröger-Straße 9\, Nürnberg\, 90459
CATEGORIES:Stammtische, Café und Seniorentreffs
ORGANIZER;CN="AWO Kreisverband N%C3%BCrnberg e.V.":MAILTO:mgh-assistenz@awo-nbg.de
GEO:49.4436413;11.0785623
X-APPLE-STRUCTURED-LOCATION;VALUE=URI;X-ADDRESS=MGH Awothek Karl-Bröger-Straße 9 Nürnberg 90459;X-APPLE-RADIUS=500;X-TITLE=Karl-Bröger-Straße 9:geo:11.0785623,49.4436413
END:VEVENT
BEGIN:VEVENT
DTSTART;TZID=Europe/Berlin:20260918T170000
DTEND;TZID=Europe/Berlin:20260918T180000
DTSTAMP:20260420T122319
CREATED:20260220T113318Z
LAST-MODIFIED:20260220T113318Z
UID:10001523-1789750800-1789754400@service.magazin66.de
SUMMARY:Zumba für Frauen
DESCRIPTION:Jede Frau kann teilnehmen. Kostenlos\, Spenden erwünscht.
URL:https://service.magazin66.de/event/zumba-fuer-frauen/2026-09-18/
LOCATION:MGH Awothek\, Karl-Bröger-Straße 9\, Nürnberg\, 90459
CATEGORIES:Gesundheit und Sport
ORGANIZER;CN="AWO Kreisverband N%C3%BCrnberg e.V.":MAILTO:mgh-assistenz@awo-nbg.de
GEO:49.4436413;11.0785623
X-APPLE-STRUCTURED-LOCATION;VALUE=URI;X-ADDRESS=MGH Awothek Karl-Bröger-Straße 9 Nürnberg 90459;X-APPLE-RADIUS=500;X-TITLE=Karl-Bröger-Straße 9:geo:11.0785623,49.4436413
END:VEVENT
BEGIN:VEVENT
DTSTART;TZID=Europe/Berlin:20260920T170000
DTEND;TZID=Europe/Berlin:20260920T180000
DTSTAMP:20260420T122319
CREATED:20260220T113318Z
LAST-MODIFIED:20260220T113318Z
UID:10001524-1789923600-1789927200@service.magazin66.de
SUMMARY:Zumba für Frauen
DESCRIPTION:Jede Frau kann teilnehmen. Kostenlos\, Spenden erwünscht.
URL:https://service.magazin66.de/event/zumba-fuer-frauen/2026-09-20/
LOCATION:MGH Awothek\, Karl-Bröger-Straße 9\, Nürnberg\, 90459
CATEGORIES:Gesundheit und Sport
ORGANIZER;CN="AWO Kreisverband N%C3%BCrnberg e.V.":MAILTO:mgh-assistenz@awo-nbg.de
GEO:49.4436413;11.0785623
X-APPLE-STRUCTURED-LOCATION;VALUE=URI;X-ADDRESS=MGH Awothek Karl-Bröger-Straße 9 Nürnberg 90459;X-APPLE-RADIUS=500;X-TITLE=Karl-Bröger-Straße 9:geo:11.0785623,49.4436413
END:VEVENT
BEGIN:VEVENT
DTSTART;TZID=Europe/Berlin:20260921T143000
DTEND;TZID=Europe/Berlin:20260921T160000
DTSTAMP:20260420T122319
CREATED:20251124T151411Z
LAST-MODIFIED:20260222T135535Z
UID:10001605-1790001000-1790006400@service.magazin66.de
SUMMARY:Plauder-Café
DESCRIPTION:Tee\, Kaffee\, Infos über Angebote im Stadtteil und Beratung
URL:https://service.magazin66.de/event/plauder-cafe/2026-09-21/
LOCATION:MGH Awothek\, Karl-Bröger-Straße 9\, Nürnberg\, 90459
CATEGORIES:Stammtische, Café und Seniorentreffs
ORGANIZER;CN="AWO Kreisverband N%C3%BCrnberg e.V.":MAILTO:mgh-assistenz@awo-nbg.de
GEO:49.4436413;11.0785623
X-APPLE-STRUCTURED-LOCATION;VALUE=URI;X-ADDRESS=MGH Awothek Karl-Bröger-Straße 9 Nürnberg 90459;X-APPLE-RADIUS=500;X-TITLE=Karl-Bröger-Straße 9:geo:11.0785623,49.4436413
END:VEVENT
BEGIN:VEVENT
DTSTART;TZID=Europe/Berlin:20260923T150000
DTEND;TZID=Europe/Berlin:20260923T170000
DTSTAMP:20260420T122319
CREATED:20251124T150231Z
LAST-MODIFIED:20260219T115209Z
UID:10001294-1790175600-1790182800@service.magazin66.de
SUMMARY:Handyberatung
DESCRIPTION:Haben Sie Probleme bei der Nutzung Ihres Handys oder haben Sie Schwierigkeiten bei der Nutzung des Internets? Vereinbaren Sie einen Termin\, wir beantworten Ihre Fragen. \nInfo/Anmeldung: 0911/45060167\, mgh-assistenz@awo-nbg.de
URL:https://service.magazin66.de/event/handyberatung/2026-09-23/
LOCATION:MGH Awothek\, Karl-Bröger-Straße 9\, Nürnberg\, 90459
CATEGORIES:Digitale Welt
ORGANIZER;CN="AWO Kreisverband N%C3%BCrnberg e.V.":MAILTO:mgh-assistenz@awo-nbg.de
GEO:49.4436413;11.0785623
X-APPLE-STRUCTURED-LOCATION;VALUE=URI;X-ADDRESS=MGH Awothek Karl-Bröger-Straße 9 Nürnberg 90459;X-APPLE-RADIUS=500;X-TITLE=Karl-Bröger-Straße 9:geo:11.0785623,49.4436413
END:VEVENT
BEGIN:VEVENT
DTSTART;TZID=Europe/Berlin:20260925T100000
DTEND;TZID=Europe/Berlin:20260925T123000
DTSTAMP:20260420T122319
CREATED:20260222T140122Z
LAST-MODIFIED:20260222T140122Z
UID:10001648-1790330400-1790339400@service.magazin66.de
SUMMARY:Freitagsfrühstück
DESCRIPTION:Ungezwungen beim Frühstück mit anderen Menschen ins Gespräch und in Kontakt kommen!
URL:https://service.magazin66.de/event/freitagsfruehstueck/2026-09-25/
LOCATION:MGH Awothek\, Karl-Bröger-Straße 9\, Nürnberg\, 90459
CATEGORIES:Stammtische, Café und Seniorentreffs
ORGANIZER;CN="AWO Kreisverband N%C3%BCrnberg e.V.":MAILTO:mgh-assistenz@awo-nbg.de
GEO:49.4436413;11.0785623
X-APPLE-STRUCTURED-LOCATION;VALUE=URI;X-ADDRESS=MGH Awothek Karl-Bröger-Straße 9 Nürnberg 90459;X-APPLE-RADIUS=500;X-TITLE=Karl-Bröger-Straße 9:geo:11.0785623,49.4436413
END:VEVENT
BEGIN:VEVENT
DTSTART;TZID=Europe/Berlin:20260925T170000
DTEND;TZID=Europe/Berlin:20260925T180000
DTSTAMP:20260420T122319
CREATED:20260220T113318Z
LAST-MODIFIED:20260220T113318Z
UID:10001525-1790355600-1790359200@service.magazin66.de
SUMMARY:Zumba für Frauen
DESCRIPTION:Jede Frau kann teilnehmen. Kostenlos\, Spenden erwünscht.
URL:https://service.magazin66.de/event/zumba-fuer-frauen/2026-09-25/
LOCATION:MGH Awothek\, Karl-Bröger-Straße 9\, Nürnberg\, 90459
CATEGORIES:Gesundheit und Sport
ORGANIZER;CN="AWO Kreisverband N%C3%BCrnberg e.V.":MAILTO:mgh-assistenz@awo-nbg.de
GEO:49.4436413;11.0785623
X-APPLE-STRUCTURED-LOCATION;VALUE=URI;X-ADDRESS=MGH Awothek Karl-Bröger-Straße 9 Nürnberg 90459;X-APPLE-RADIUS=500;X-TITLE=Karl-Bröger-Straße 9:geo:11.0785623,49.4436413
END:VEVENT
BEGIN:VEVENT
DTSTART;TZID=Europe/Berlin:20260927T170000
DTEND;TZID=Europe/Berlin:20260927T180000
DTSTAMP:20260420T122319
CREATED:20260220T113318Z
LAST-MODIFIED:20260220T113318Z
UID:10001526-1790528400-1790532000@service.magazin66.de
SUMMARY:Zumba für Frauen
DESCRIPTION:Jede Frau kann teilnehmen. Kostenlos\, Spenden erwünscht.
URL:https://service.magazin66.de/event/zumba-fuer-frauen/2026-09-27/
LOCATION:MGH Awothek\, Karl-Bröger-Straße 9\, Nürnberg\, 90459
CATEGORIES:Gesundheit und Sport
ORGANIZER;CN="AWO Kreisverband N%C3%BCrnberg e.V.":MAILTO:mgh-assistenz@awo-nbg.de
GEO:49.4436413;11.0785623
X-APPLE-STRUCTURED-LOCATION;VALUE=URI;X-ADDRESS=MGH Awothek Karl-Bröger-Straße 9 Nürnberg 90459;X-APPLE-RADIUS=500;X-TITLE=Karl-Bröger-Straße 9:geo:11.0785623,49.4436413
END:VEVENT
BEGIN:VEVENT
DTSTART;TZID=Europe/Berlin:20260928T143000
DTEND;TZID=Europe/Berlin:20260928T160000
DTSTAMP:20260420T122319
CREATED:20251124T151411Z
LAST-MODIFIED:20260222T135535Z
UID:10001606-1790605800-1790611200@service.magazin66.de
SUMMARY:Plauder-Café
DESCRIPTION:Tee\, Kaffee\, Infos über Angebote im Stadtteil und Beratung
URL:https://service.magazin66.de/event/plauder-cafe/2026-09-28/
LOCATION:MGH Awothek\, Karl-Bröger-Straße 9\, Nürnberg\, 90459
CATEGORIES:Stammtische, Café und Seniorentreffs
ORGANIZER;CN="AWO Kreisverband N%C3%BCrnberg e.V.":MAILTO:mgh-assistenz@awo-nbg.de
GEO:49.4436413;11.0785623
X-APPLE-STRUCTURED-LOCATION;VALUE=URI;X-ADDRESS=MGH Awothek Karl-Bröger-Straße 9 Nürnberg 90459;X-APPLE-RADIUS=500;X-TITLE=Karl-Bröger-Straße 9:geo:11.0785623,49.4436413
END:VEVENT
BEGIN:VEVENT
DTSTART;TZID=Europe/Berlin:20260930T150000
DTEND;TZID=Europe/Berlin:20260930T170000
DTSTAMP:20260420T122319
CREATED:20251124T150231Z
LAST-MODIFIED:20260219T115209Z
UID:10001295-1790780400-1790787600@service.magazin66.de
SUMMARY:Handyberatung
DESCRIPTION:Haben Sie Probleme bei der Nutzung Ihres Handys oder haben Sie Schwierigkeiten bei der Nutzung des Internets? Vereinbaren Sie einen Termin\, wir beantworten Ihre Fragen. \nInfo/Anmeldung: 0911/45060167\, mgh-assistenz@awo-nbg.de
URL:https://service.magazin66.de/event/handyberatung/2026-09-30/
LOCATION:MGH Awothek\, Karl-Bröger-Straße 9\, Nürnberg\, 90459
CATEGORIES:Digitale Welt
ORGANIZER;CN="AWO Kreisverband N%C3%BCrnberg e.V.":MAILTO:mgh-assistenz@awo-nbg.de
GEO:49.4436413;11.0785623
X-APPLE-STRUCTURED-LOCATION;VALUE=URI;X-ADDRESS=MGH Awothek Karl-Bröger-Straße 9 Nürnberg 90459;X-APPLE-RADIUS=500;X-TITLE=Karl-Bröger-Straße 9:geo:11.0785623,49.4436413
END:VEVENT
BEGIN:VEVENT
DTSTART;TZID=Europe/Berlin:20261002T100000
DTEND;TZID=Europe/Berlin:20261002T123000
DTSTAMP:20260420T122319
CREATED:20260222T140122Z
LAST-MODIFIED:20260222T140122Z
UID:10001649-1790935200-1790944200@service.magazin66.de
SUMMARY:Freitagsfrühstück
DESCRIPTION:Ungezwungen beim Frühstück mit anderen Menschen ins Gespräch und in Kontakt kommen!
URL:https://service.magazin66.de/event/freitagsfruehstueck/2026-10-02/
LOCATION:MGH Awothek\, Karl-Bröger-Straße 9\, Nürnberg\, 90459
CATEGORIES:Stammtische, Café und Seniorentreffs
ORGANIZER;CN="AWO Kreisverband N%C3%BCrnberg e.V.":MAILTO:mgh-assistenz@awo-nbg.de
GEO:49.4436413;11.0785623
X-APPLE-STRUCTURED-LOCATION;VALUE=URI;X-ADDRESS=MGH Awothek Karl-Bröger-Straße 9 Nürnberg 90459;X-APPLE-RADIUS=500;X-TITLE=Karl-Bröger-Straße 9:geo:11.0785623,49.4436413
END:VEVENT
BEGIN:VEVENT
DTSTART;TZID=Europe/Berlin:20261002T170000
DTEND;TZID=Europe/Berlin:20261002T180000
DTSTAMP:20260420T122319
CREATED:20260220T113318Z
LAST-MODIFIED:20260220T113318Z
UID:10001527-1790960400-1790964000@service.magazin66.de
SUMMARY:Zumba für Frauen
DESCRIPTION:Jede Frau kann teilnehmen. Kostenlos\, Spenden erwünscht.
URL:https://service.magazin66.de/event/zumba-fuer-frauen/2026-10-02/
LOCATION:MGH Awothek\, Karl-Bröger-Straße 9\, Nürnberg\, 90459
CATEGORIES:Gesundheit und Sport
ORGANIZER;CN="AWO Kreisverband N%C3%BCrnberg e.V.":MAILTO:mgh-assistenz@awo-nbg.de
GEO:49.4436413;11.0785623
X-APPLE-STRUCTURED-LOCATION;VALUE=URI;X-ADDRESS=MGH Awothek Karl-Bröger-Straße 9 Nürnberg 90459;X-APPLE-RADIUS=500;X-TITLE=Karl-Bröger-Straße 9:geo:11.0785623,49.4436413
END:VEVENT
BEGIN:VEVENT
DTSTART;TZID=Europe/Berlin:20261004T170000
DTEND;TZID=Europe/Berlin:20261004T180000
DTSTAMP:20260420T122319
CREATED:20260220T113318Z
LAST-MODIFIED:20260220T113318Z
UID:10001528-1791133200-1791136800@service.magazin66.de
SUMMARY:Zumba für Frauen
DESCRIPTION:Jede Frau kann teilnehmen. Kostenlos\, Spenden erwünscht.
URL:https://service.magazin66.de/event/zumba-fuer-frauen/2026-10-04/
LOCATION:MGH Awothek\, Karl-Bröger-Straße 9\, Nürnberg\, 90459
CATEGORIES:Gesundheit und Sport
ORGANIZER;CN="AWO Kreisverband N%C3%BCrnberg e.V.":MAILTO:mgh-assistenz@awo-nbg.de
GEO:49.4436413;11.0785623
X-APPLE-STRUCTURED-LOCATION;VALUE=URI;X-ADDRESS=MGH Awothek Karl-Bröger-Straße 9 Nürnberg 90459;X-APPLE-RADIUS=500;X-TITLE=Karl-Bröger-Straße 9:geo:11.0785623,49.4436413
END:VEVENT
BEGIN:VEVENT
DTSTART;TZID=Europe/Berlin:20261005T143000
DTEND;TZID=Europe/Berlin:20261005T160000
DTSTAMP:20260420T122319
CREATED:20251124T151411Z
LAST-MODIFIED:20260222T135535Z
UID:10001607-1791210600-1791216000@service.magazin66.de
SUMMARY:Plauder-Café
DESCRIPTION:Tee\, Kaffee\, Infos über Angebote im Stadtteil und Beratung
URL:https://service.magazin66.de/event/plauder-cafe/2026-10-05/
LOCATION:MGH Awothek\, Karl-Bröger-Straße 9\, Nürnberg\, 90459
CATEGORIES:Stammtische, Café und Seniorentreffs
ORGANIZER;CN="AWO Kreisverband N%C3%BCrnberg e.V.":MAILTO:mgh-assistenz@awo-nbg.de
GEO:49.4436413;11.0785623
X-APPLE-STRUCTURED-LOCATION;VALUE=URI;X-ADDRESS=MGH Awothek Karl-Bröger-Straße 9 Nürnberg 90459;X-APPLE-RADIUS=500;X-TITLE=Karl-Bröger-Straße 9:geo:11.0785623,49.4436413
END:VEVENT
BEGIN:VEVENT
DTSTART;TZID=Europe/Berlin:20261007T150000
DTEND;TZID=Europe/Berlin:20261007T170000
DTSTAMP:20260420T122319
CREATED:20251124T150231Z
LAST-MODIFIED:20260219T115209Z
UID:10001296-1791385200-1791392400@service.magazin66.de
SUMMARY:Handyberatung
DESCRIPTION:Haben Sie Probleme bei der Nutzung Ihres Handys oder haben Sie Schwierigkeiten bei der Nutzung des Internets? Vereinbaren Sie einen Termin\, wir beantworten Ihre Fragen. \nInfo/Anmeldung: 0911/45060167\, mgh-assistenz@awo-nbg.de
URL:https://service.magazin66.de/event/handyberatung/2026-10-07/
LOCATION:MGH Awothek\, Karl-Bröger-Straße 9\, Nürnberg\, 90459
CATEGORIES:Digitale Welt
ORGANIZER;CN="AWO Kreisverband N%C3%BCrnberg e.V.":MAILTO:mgh-assistenz@awo-nbg.de
GEO:49.4436413;11.0785623
X-APPLE-STRUCTURED-LOCATION;VALUE=URI;X-ADDRESS=MGH Awothek Karl-Bröger-Straße 9 Nürnberg 90459;X-APPLE-RADIUS=500;X-TITLE=Karl-Bröger-Straße 9:geo:11.0785623,49.4436413
END:VEVENT
BEGIN:VEVENT
DTSTART;TZID=Europe/Berlin:20261009T100000
DTEND;TZID=Europe/Berlin:20261009T123000
DTSTAMP:20260420T122319
CREATED:20260222T140122Z
LAST-MODIFIED:20260222T140122Z
UID:10001650-1791540000-1791549000@service.magazin66.de
SUMMARY:Freitagsfrühstück
DESCRIPTION:Ungezwungen beim Frühstück mit anderen Menschen ins Gespräch und in Kontakt kommen!
URL:https://service.magazin66.de/event/freitagsfruehstueck/2026-10-09/
LOCATION:MGH Awothek\, Karl-Bröger-Straße 9\, Nürnberg\, 90459
CATEGORIES:Stammtische, Café und Seniorentreffs
ORGANIZER;CN="AWO Kreisverband N%C3%BCrnberg e.V.":MAILTO:mgh-assistenz@awo-nbg.de
GEO:49.4436413;11.0785623
X-APPLE-STRUCTURED-LOCATION;VALUE=URI;X-ADDRESS=MGH Awothek Karl-Bröger-Straße 9 Nürnberg 90459;X-APPLE-RADIUS=500;X-TITLE=Karl-Bröger-Straße 9:geo:11.0785623,49.4436413
END:VEVENT
BEGIN:VEVENT
DTSTART;TZID=Europe/Berlin:20261009T170000
DTEND;TZID=Europe/Berlin:20261009T180000
DTSTAMP:20260420T122319
CREATED:20260220T113318Z
LAST-MODIFIED:20260220T113318Z
UID:10001529-1791565200-1791568800@service.magazin66.de
SUMMARY:Zumba für Frauen
DESCRIPTION:Jede Frau kann teilnehmen. Kostenlos\, Spenden erwünscht.
URL:https://service.magazin66.de/event/zumba-fuer-frauen/2026-10-09/
LOCATION:MGH Awothek\, Karl-Bröger-Straße 9\, Nürnberg\, 90459
CATEGORIES:Gesundheit und Sport
ORGANIZER;CN="AWO Kreisverband N%C3%BCrnberg e.V.":MAILTO:mgh-assistenz@awo-nbg.de
GEO:49.4436413;11.0785623
X-APPLE-STRUCTURED-LOCATION;VALUE=URI;X-ADDRESS=MGH Awothek Karl-Bröger-Straße 9 Nürnberg 90459;X-APPLE-RADIUS=500;X-TITLE=Karl-Bröger-Straße 9:geo:11.0785623,49.4436413
END:VEVENT
BEGIN:VEVENT
DTSTART;TZID=Europe/Berlin:20261011T170000
DTEND;TZID=Europe/Berlin:20261011T180000
DTSTAMP:20260420T122319
CREATED:20260220T113318Z
LAST-MODIFIED:20260220T113318Z
UID:10001530-1791738000-1791741600@service.magazin66.de
SUMMARY:Zumba für Frauen
DESCRIPTION:Jede Frau kann teilnehmen. Kostenlos\, Spenden erwünscht.
URL:https://service.magazin66.de/event/zumba-fuer-frauen/2026-10-11/
LOCATION:MGH Awothek\, Karl-Bröger-Straße 9\, Nürnberg\, 90459
CATEGORIES:Gesundheit und Sport
ORGANIZER;CN="AWO Kreisverband N%C3%BCrnberg e.V.":MAILTO:mgh-assistenz@awo-nbg.de
GEO:49.4436413;11.0785623
X-APPLE-STRUCTURED-LOCATION;VALUE=URI;X-ADDRESS=MGH Awothek Karl-Bröger-Straße 9 Nürnberg 90459;X-APPLE-RADIUS=500;X-TITLE=Karl-Bröger-Straße 9:geo:11.0785623,49.4436413
END:VEVENT
BEGIN:VEVENT
DTSTART;TZID=Europe/Berlin:20261012T143000
DTEND;TZID=Europe/Berlin:20261012T160000
DTSTAMP:20260420T122319
CREATED:20251124T151411Z
LAST-MODIFIED:20260222T135535Z
UID:10001608-1791815400-1791820800@service.magazin66.de
SUMMARY:Plauder-Café
DESCRIPTION:Tee\, Kaffee\, Infos über Angebote im Stadtteil und Beratung
URL:https://service.magazin66.de/event/plauder-cafe/2026-10-12/
LOCATION:MGH Awothek\, Karl-Bröger-Straße 9\, Nürnberg\, 90459
CATEGORIES:Stammtische, Café und Seniorentreffs
ORGANIZER;CN="AWO Kreisverband N%C3%BCrnberg e.V.":MAILTO:mgh-assistenz@awo-nbg.de
GEO:49.4436413;11.0785623
X-APPLE-STRUCTURED-LOCATION;VALUE=URI;X-ADDRESS=MGH Awothek Karl-Bröger-Straße 9 Nürnberg 90459;X-APPLE-RADIUS=500;X-TITLE=Karl-Bröger-Straße 9:geo:11.0785623,49.4436413
END:VEVENT
BEGIN:VEVENT
DTSTART;TZID=Europe/Berlin:20261014T150000
DTEND;TZID=Europe/Berlin:20261014T170000
DTSTAMP:20260420T122319
CREATED:20251124T150231Z
LAST-MODIFIED:20260219T115209Z
UID:10001297-1791990000-1791997200@service.magazin66.de
SUMMARY:Handyberatung
DESCRIPTION:Haben Sie Probleme bei der Nutzung Ihres Handys oder haben Sie Schwierigkeiten bei der Nutzung des Internets? Vereinbaren Sie einen Termin\, wir beantworten Ihre Fragen. \nInfo/Anmeldung: 0911/45060167\, mgh-assistenz@awo-nbg.de
URL:https://service.magazin66.de/event/handyberatung/2026-10-14/
LOCATION:MGH Awothek\, Karl-Bröger-Straße 9\, Nürnberg\, 90459
CATEGORIES:Digitale Welt
ORGANIZER;CN="AWO Kreisverband N%C3%BCrnberg e.V.":MAILTO:mgh-assistenz@awo-nbg.de
GEO:49.4436413;11.0785623
X-APPLE-STRUCTURED-LOCATION;VALUE=URI;X-ADDRESS=MGH Awothek Karl-Bröger-Straße 9 Nürnberg 90459;X-APPLE-RADIUS=500;X-TITLE=Karl-Bröger-Straße 9:geo:11.0785623,49.4436413
END:VEVENT
BEGIN:VEVENT
DTSTART;TZID=Europe/Berlin:20261016T100000
DTEND;TZID=Europe/Berlin:20261016T123000
DTSTAMP:20260420T122319
CREATED:20260222T140122Z
LAST-MODIFIED:20260222T140122Z
UID:10001651-1792144800-1792153800@service.magazin66.de
SUMMARY:Freitagsfrühstück
DESCRIPTION:Ungezwungen beim Frühstück mit anderen Menschen ins Gespräch und in Kontakt kommen!
URL:https://service.magazin66.de/event/freitagsfruehstueck/2026-10-16/
LOCATION:MGH Awothek\, Karl-Bröger-Straße 9\, Nürnberg\, 90459
CATEGORIES:Stammtische, Café und Seniorentreffs
ORGANIZER;CN="AWO Kreisverband N%C3%BCrnberg e.V.":MAILTO:mgh-assistenz@awo-nbg.de
GEO:49.4436413;11.0785623
X-APPLE-STRUCTURED-LOCATION;VALUE=URI;X-ADDRESS=MGH Awothek Karl-Bröger-Straße 9 Nürnberg 90459;X-APPLE-RADIUS=500;X-TITLE=Karl-Bröger-Straße 9:geo:11.0785623,49.4436413
END:VEVENT
BEGIN:VEVENT
DTSTART;TZID=Europe/Berlin:20261016T170000
DTEND;TZID=Europe/Berlin:20261016T180000
DTSTAMP:20260420T122319
CREATED:20260220T113318Z
LAST-MODIFIED:20260220T113318Z
UID:10001531-1792170000-1792173600@service.magazin66.de
SUMMARY:Zumba für Frauen
DESCRIPTION:Jede Frau kann teilnehmen. Kostenlos\, Spenden erwünscht.
URL:https://service.magazin66.de/event/zumba-fuer-frauen/2026-10-16/
LOCATION:MGH Awothek\, Karl-Bröger-Straße 9\, Nürnberg\, 90459
CATEGORIES:Gesundheit und Sport
ORGANIZER;CN="AWO Kreisverband N%C3%BCrnberg e.V.":MAILTO:mgh-assistenz@awo-nbg.de
GEO:49.4436413;11.0785623
X-APPLE-STRUCTURED-LOCATION;VALUE=URI;X-ADDRESS=MGH Awothek Karl-Bröger-Straße 9 Nürnberg 90459;X-APPLE-RADIUS=500;X-TITLE=Karl-Bröger-Straße 9:geo:11.0785623,49.4436413
END:VEVENT
BEGIN:VEVENT
DTSTART;TZID=Europe/Berlin:20261018T170000
DTEND;TZID=Europe/Berlin:20261018T180000
DTSTAMP:20260420T122319
CREATED:20260220T113318Z
LAST-MODIFIED:20260220T113318Z
UID:10001532-1792342800-1792346400@service.magazin66.de
SUMMARY:Zumba für Frauen
DESCRIPTION:Jede Frau kann teilnehmen. Kostenlos\, Spenden erwünscht.
URL:https://service.magazin66.de/event/zumba-fuer-frauen/2026-10-18/
LOCATION:MGH Awothek\, Karl-Bröger-Straße 9\, Nürnberg\, 90459
CATEGORIES:Gesundheit und Sport
ORGANIZER;CN="AWO Kreisverband N%C3%BCrnberg e.V.":MAILTO:mgh-assistenz@awo-nbg.de
GEO:49.4436413;11.0785623
X-APPLE-STRUCTURED-LOCATION;VALUE=URI;X-ADDRESS=MGH Awothek Karl-Bröger-Straße 9 Nürnberg 90459;X-APPLE-RADIUS=500;X-TITLE=Karl-Bröger-Straße 9:geo:11.0785623,49.4436413
END:VEVENT
END:VCALENDAR