BEGIN:VCALENDAR
VERSION:2.0
PRODID:-//Service Magazin sechs+sechzig - ECPv6.15.18//NONSGML v1.0//EN
CALSCALE:GREGORIAN
METHOD:PUBLISH
X-WR-CALNAME:Service Magazin sechs+sechzig
X-ORIGINAL-URL:https://service.magazin66.de
X-WR-CALDESC:Veranstaltungen für Service Magazin sechs+sechzig
REFRESH-INTERVAL;VALUE=DURATION:PT1H
X-Robots-Tag:noindex
X-PUBLISHED-TTL:PT1H
BEGIN:VTIMEZONE
TZID:Europe/Berlin
BEGIN:DAYLIGHT
TZOFFSETFROM:+0100
TZOFFSETTO:+0200
TZNAME:CEST
DTSTART:20240331T010000
END:DAYLIGHT
BEGIN:STANDARD
TZOFFSETFROM:+0200
TZOFFSETTO:+0100
TZNAME:CET
DTSTART:20241027T010000
END:STANDARD
BEGIN:DAYLIGHT
TZOFFSETFROM:+0100
TZOFFSETTO:+0200
TZNAME:CEST
DTSTART:20250330T010000
END:DAYLIGHT
BEGIN:STANDARD
TZOFFSETFROM:+0200
TZOFFSETTO:+0100
TZNAME:CET
DTSTART:20251026T010000
END:STANDARD
BEGIN:DAYLIGHT
TZOFFSETFROM:+0100
TZOFFSETTO:+0200
TZNAME:CEST
DTSTART:20260329T010000
END:DAYLIGHT
BEGIN:STANDARD
TZOFFSETFROM:+0200
TZOFFSETTO:+0100
TZNAME:CET
DTSTART:20261025T010000
END:STANDARD
BEGIN:DAYLIGHT
TZOFFSETFROM:+0100
TZOFFSETTO:+0200
TZNAME:CEST
DTSTART:20270328T010000
END:DAYLIGHT
BEGIN:STANDARD
TZOFFSETFROM:+0200
TZOFFSETTO:+0100
TZNAME:CET
DTSTART:20271031T010000
END:STANDARD
END:VTIMEZONE
BEGIN:VEVENT
DTSTART;TZID=Europe/Berlin:20260321T093000
DTEND;TZID=Europe/Berlin:20260321T140000
DTSTAMP:20260423T073829
CREATED:20260220T115020Z
LAST-MODIFIED:20260220T115020Z
UID:10001551-1774085400-1774101600@service.magazin66.de
SUMMARY:Hochwasserweg - ohne nasse Füße
DESCRIPTION:Treffpunkt: 09:35 Uhr Nürnberg Hbf. Gleis 1 \nGehzeit ca. 3\,5 Stunden/10 km; Wanderführer: Siegfried Bauer; Tagesticket Plus 4 oder DT \nBubenreuth – Atzelsberg – Rathsberg – Bubenreuth \nAnmeldung bis 16.03.2026: 0911/454290
URL:https://service.magazin66.de/event/hochwasserweg-ohne-nasse-fuesse/
CATEGORIES:Spaziergänge und Wanderungen
END:VEVENT
BEGIN:VEVENT
DTSTART;TZID=Europe/Berlin:20260307T074500
DTEND;TZID=Europe/Berlin:20260307T130000
DTSTAMP:20260423T073829
CREATED:20260220T114215Z
LAST-MODIFIED:20260220T114215Z
UID:10001550-1772869500-1772888400@service.magazin66.de
SUMMARY:Entlang des schönen Biebertals
DESCRIPTION:Treffpunkt 1: 07:45 Uhr Nürnberg Hbf\, Gleis 3\nTreffpunkt 2: 08:00 Uhr Haltestelle U3 Rothenburgerstr. Bstg. 7\, Bus 113 \nLentersdorf – Großhabersdorf – Ammerndorf\nGehzeit ca. 3\,5 Stunden/11 km; Wanderführer: Roland Beck
URL:https://service.magazin66.de/event/entlang-des-schoenen-biebertals/
CATEGORIES:Spaziergänge und Wanderungen
END:VEVENT
BEGIN:VEVENT
DTSTART;TZID=Europe/Berlin:20260117T090000
DTEND;TZID=Europe/Berlin:20260117T120000
DTSTAMP:20260423T073829
CREATED:20251125T131641Z
LAST-MODIFIED:20251125T131641Z
UID:10000398-1768640400-1768651200@service.magazin66.de
SUMMARY:Wo einmal der Leuchtturm stand
DESCRIPTION:Treffpunkt Nürnberg Hauptbahnhof \nGehzeit ca. 2\,5 Stunden\, 7km \nWanderführer Siegfried Bauer; Benötigte Fahrkarte A Ticket. \nInfo/Anmeldung: 0911 / 454290
URL:https://service.magazin66.de/event/wo-einmal-der-leuchtturm-stand/
CATEGORIES:Spaziergänge und Wanderungen
END:VEVENT
BEGIN:VEVENT
DTSTART;TZID=Europe/Berlin:20250930T083000
DTEND;TZID=Europe/Berlin:20250930T123000
DTSTAMP:20260423T073829
CREATED:20250829T131800Z
LAST-MODIFIED:20250829T141040Z
UID:10000008-1759221000-1759235400@service.magazin66.de
SUMMARY:Entlang der Metropolregion Nürnberg - Etappe 1
DESCRIPTION:Treffpunkt: 08:30 Uhr Nürnberg Röthenbach (Rolltreppe zur U-Bahn)\, \nAbfahrt: 08:45 Uhr\, Bus 64\, \nWanderführer Roland Beck erwartet die Gruppe in Röthenbach-Busbahnhof. Anmeldung bis 17.09. Handy 0176-71969980 (ab 18 Uhr). \nRucksackverpflegung erbeten da Einkehr nicht gewährleistet werden kann. \nWanderstrecke ca. 12 Kilometer\, ca. 3\,5 Stunden. \nGäste und Neueinsteiger sind herzlich willkommen!
URL:https://service.magazin66.de/event/entlang-der-metropolregion-nuernberg-etappe-1/
CATEGORIES:Spaziergänge und Wanderungen
END:VEVENT
END:VCALENDAR