BEGIN:VCALENDAR
VERSION:2.0
PRODID:-//Service Magazin sechs+sechzig - ECPv6.15.18//NONSGML v1.0//EN
CALSCALE:GREGORIAN
METHOD:PUBLISH
X-ORIGINAL-URL:https://service.magazin66.de
X-WR-CALDESC:Veranstaltungen für Service Magazin sechs+sechzig
REFRESH-INTERVAL;VALUE=DURATION:PT1H
X-Robots-Tag:noindex
X-PUBLISHED-TTL:PT1H
BEGIN:VTIMEZONE
TZID:Europe/Berlin
BEGIN:DAYLIGHT
TZOFFSETFROM:+0100
TZOFFSETTO:+0200
TZNAME:CEST
DTSTART:20240331T010000
END:DAYLIGHT
BEGIN:STANDARD
TZOFFSETFROM:+0200
TZOFFSETTO:+0100
TZNAME:CET
DTSTART:20241027T010000
END:STANDARD
BEGIN:DAYLIGHT
TZOFFSETFROM:+0100
TZOFFSETTO:+0200
TZNAME:CEST
DTSTART:20250330T010000
END:DAYLIGHT
BEGIN:STANDARD
TZOFFSETFROM:+0200
TZOFFSETTO:+0100
TZNAME:CET
DTSTART:20251026T010000
END:STANDARD
BEGIN:DAYLIGHT
TZOFFSETFROM:+0100
TZOFFSETTO:+0200
TZNAME:CEST
DTSTART:20260329T010000
END:DAYLIGHT
BEGIN:STANDARD
TZOFFSETFROM:+0200
TZOFFSETTO:+0100
TZNAME:CET
DTSTART:20261025T010000
END:STANDARD
END:VTIMEZONE
BEGIN:VEVENT
DTSTART;TZID=Europe/Berlin:20251102T140000
DTEND;TZID=Europe/Berlin:20251102T153000
DTSTAMP:20260423T073211
CREATED:20250829T150209Z
LAST-MODIFIED:20250829T150209Z
UID:10000015-1762092000-1762097400@service.magazin66.de
SUMMARY:Herrensitz\, Lustschloss\, Stadtidyll – Rundgang zur Geschichte des Zeltnerschlosses
DESCRIPTION:Der Rundgang führt durch die wechselhafte Geschichte des Schlosses und seine unmittelbare Umgebung. \nTreffpunkt: Vor der Bäckerei „Hildes Backwut“\, Peterstr. 66\, Nürnberg
URL:https://service.magazin66.de/event/herrensitz-lustschloss-stadtidyll-rundgang-zur-geschichte-des-zeltnerschlosses-3/
CATEGORIES:Spaziergänge und Wanderungen
END:VEVENT
BEGIN:VEVENT
DTSTART;TZID=Europe/Berlin:20251012T140000
DTEND;TZID=Europe/Berlin:20251012T153000
DTSTAMP:20260423T073211
CREATED:20250829T150001Z
LAST-MODIFIED:20250829T150001Z
UID:10000014-1760277600-1760283000@service.magazin66.de
SUMMARY:Herrensitz\, Lustschloss\, Stadtidyll – Rundgang zur Geschichte des Zeltnerschlosses
DESCRIPTION:Der Rundgang führt durch die wechselhafte Geschichte des Schlosses und seine unmittelbare Umgebung. \nTreffpunkt: Vor der Bäckerei „Hildes Backwut“\, Peterstr. 66\, Nürnberg
URL:https://service.magazin66.de/event/herrensitz-lustschloss-stadtidyll-rundgang-zur-geschichte-des-zeltnerschlosses-2/
CATEGORIES:Spaziergänge und Wanderungen
END:VEVENT
BEGIN:VEVENT
DTSTART;TZID=Europe/Berlin:20250921T140000
DTEND;TZID=Europe/Berlin:20250921T153000
DTSTAMP:20260423T073211
CREATED:20250829T145655Z
LAST-MODIFIED:20250905T095329Z
UID:10000013-1758463200-1758468600@service.magazin66.de
SUMMARY:Herrensitz\, Lustschloss\, Stadtidyll – Rundgang zur Geschichte des Zeltnerschlosses
DESCRIPTION:Der Rundgang führt durch die wechselhafte Geschichte des Schlosses und seine unmittelbare Umgebung. \nTreffpunkt: Vor der Bäckerei „Hildes Backwut“\, Peterstr. 66\, Nürnberg
URL:https://service.magazin66.de/event/herrensitz-lustschloss-stadtidyll-rundgang-zur-geschichte-des-zeltnerschlosses/
LOCATION:Nürnberg Peterstraße 66\, Peterstraße 66\, Nürnberg\, Bayern\, Germany
CATEGORIES:Spaziergänge und Wanderungen
GEO:49.4458461;11.1058146
X-APPLE-STRUCTURED-LOCATION;VALUE=URI;X-ADDRESS=Nürnberg Peterstraße 66 Peterstraße 66 Nürnberg Bayern Germany;X-APPLE-RADIUS=500;X-TITLE=Peterstraße 66:geo:11.1058146,49.4458461
END:VEVENT
END:VCALENDAR