BEGIN:VCALENDAR
VERSION:2.0
PRODID:-//Service Magazin sechs+sechzig - ECPv6.15.18//NONSGML v1.0//EN
CALSCALE:GREGORIAN
METHOD:PUBLISH
X-WR-CALNAME:Service Magazin sechs+sechzig
X-ORIGINAL-URL:https://service.magazin66.de
X-WR-CALDESC:Veranstaltungen für Service Magazin sechs+sechzig
REFRESH-INTERVAL;VALUE=DURATION:PT1H
X-Robots-Tag:noindex
X-PUBLISHED-TTL:PT1H
BEGIN:VTIMEZONE
TZID:Europe/Berlin
BEGIN:DAYLIGHT
TZOFFSETFROM:+0100
TZOFFSETTO:+0200
TZNAME:CEST
DTSTART:20240331T010000
END:DAYLIGHT
BEGIN:STANDARD
TZOFFSETFROM:+0200
TZOFFSETTO:+0100
TZNAME:CET
DTSTART:20241027T010000
END:STANDARD
BEGIN:DAYLIGHT
TZOFFSETFROM:+0100
TZOFFSETTO:+0200
TZNAME:CEST
DTSTART:20250330T010000
END:DAYLIGHT
BEGIN:STANDARD
TZOFFSETFROM:+0200
TZOFFSETTO:+0100
TZNAME:CET
DTSTART:20251026T010000
END:STANDARD
BEGIN:DAYLIGHT
TZOFFSETFROM:+0100
TZOFFSETTO:+0200
TZNAME:CEST
DTSTART:20260329T010000
END:DAYLIGHT
BEGIN:STANDARD
TZOFFSETFROM:+0200
TZOFFSETTO:+0100
TZNAME:CET
DTSTART:20261025T010000
END:STANDARD
BEGIN:DAYLIGHT
TZOFFSETFROM:+0100
TZOFFSETTO:+0200
TZNAME:CEST
DTSTART:20270328T010000
END:DAYLIGHT
BEGIN:STANDARD
TZOFFSETFROM:+0200
TZOFFSETTO:+0100
TZNAME:CET
DTSTART:20271031T010000
END:STANDARD
END:VTIMEZONE
BEGIN:VEVENT
DTSTART;TZID=Europe/Berlin:20260318T120000
DTEND;TZID=Europe/Berlin:20260318T130000
DTSTAMP:20260420T215308
CREATED:20260220T094856Z
LAST-MODIFIED:20260220T094856Z
UID:10001451-1773835200-1773838800@service.magazin66.de
SUMMARY:Appassionato
DESCRIPTION:Werke von W. A. Mozart\, J. Brahms und E. Ysaÿe
URL:https://service.magazin66.de/event/appassionato/
LOCATION:St. Martha\, Königstraße 79\, Nürnberg\, 90402
CATEGORIES:Musik und Unterhaltung
GEO:49.448386;11.0808739
X-APPLE-STRUCTURED-LOCATION;VALUE=URI;X-ADDRESS=St. Martha Königstraße 79 Nürnberg 90402;X-APPLE-RADIUS=500;X-TITLE=Königstraße 79:geo:11.0808739,49.448386
END:VEVENT
BEGIN:VEVENT
DTSTART;TZID=Europe/Berlin:20260312T180000
DTEND;TZID=Europe/Berlin:20260312T193000
DTSTAMP:20260420T215308
CREATED:20260220T094524Z
LAST-MODIFIED:20260220T094524Z
UID:10001450-1773338400-1773343800@service.magazin66.de
SUMMARY:Akkordeon: Ein Instrument - viele Stimmen
DESCRIPTION:Die Akkordeonklassen der Hochschule für Musik Nürnberg laden zu einem Abend voller Klangvielfalt und individueller Ausdruckskraft ein. Unter dem Motto „Ein Instrument – viele Stimmen“ präsentieren die Studierenden ausschließlich Solowerke\, die die Vielseitigkeit des Akkordeons eindrucksvoll demonstrieren. \nCafe Arte im GNM. Eintritt frei.
URL:https://service.magazin66.de/event/akkordeon-ein-instrument-viele-stimmen/
LOCATION:Germanisches Nationalmuseum\, Kartäusergasse 1\, Nürnberg\, 90402
CATEGORIES:Musik und Unterhaltung
GEO:49.4482487;11.0755114
X-APPLE-STRUCTURED-LOCATION;VALUE=URI;X-ADDRESS=Germanisches Nationalmuseum Kartäusergasse 1 Nürnberg 90402;X-APPLE-RADIUS=500;X-TITLE=Kartäusergasse 1:geo:11.0755114,49.4482487
END:VEVENT
BEGIN:VEVENT
DTSTART;TZID=Europe/Berlin:20260311T180000
DTEND;TZID=Europe/Berlin:20260311T193000
DTSTAMP:20260420T215308
CREATED:20260220T094311Z
LAST-MODIFIED:20260220T094311Z
UID:10001449-1773252000-1773257400@service.magazin66.de
SUMMARY:Rainer Dlugay González Quintett
DESCRIPTION:Das Rainer Dlugay González Quintett aus Nürnberg steht für mitreißende Improvisation und lebendige Klangmalerei. Mit Einflüssen aus Hard Bop\, modalem Jazz und moderner improvisierter Musik feiern die fünf Musiker das Erbe großer Jazzkomponisten wie Freddie Hubbard und Wayne Shorter. \nCafe Arte im GNM. Eintritt frei.
URL:https://service.magazin66.de/event/rainer-dlugay-gonzalez-quintett/
LOCATION:Germanisches Nationalmuseum\, Kartäusergasse 1\, Nürnberg\, 90402
CATEGORIES:Musik und Unterhaltung
GEO:49.4482487;11.0755114
X-APPLE-STRUCTURED-LOCATION;VALUE=URI;X-ADDRESS=Germanisches Nationalmuseum Kartäusergasse 1 Nürnberg 90402;X-APPLE-RADIUS=500;X-TITLE=Kartäusergasse 1:geo:11.0755114,49.4482487
END:VEVENT
BEGIN:VEVENT
DTSTART;TZID=Europe/Berlin:20260308T150000
DTEND;TZID=Europe/Berlin:20260308T170000
DTSTAMP:20260420T215308
CREATED:20260220T094030Z
LAST-MODIFIED:20260220T094030Z
UID:10001448-1772982000-1772989200@service.magazin66.de
SUMMARY:Romantische Geigen
DESCRIPTION:Eine bunte Vielfalt von Violinmusik aus unterschiedlichen Stilen und Zeiten präsentieren ihnen die Violinstudierenden von Hildegard Wind und Prof. Dr. Reto Kuppel. Von den feinen Tönen eines Gabriel Fauré bis zur ernsten Würde von Johann Sebastian Bach ist für jeden etwas dabei. Auch etwas Fetziges von Paganini wird zu hören sein. Dauerbrenner wie das Rondo-Capriccioso von Saint-Saens stechen als große Farbtupfer heraus. Eine Vorahnung auf den Frühling? Wer weiß. Romantisch wird‘s auf jeden Fall! \nEintritt frei\, um Spenden wird gebeten.
URL:https://service.magazin66.de/event/romantische-geigen/
LOCATION:KunstKulturQuartier\, Königstraße 93\, Nürnberg\, 90402\, Germany
CATEGORIES:Musik und Unterhaltung
GEO:49.4492768;11.0823813
X-APPLE-STRUCTURED-LOCATION;VALUE=URI;X-ADDRESS=KunstKulturQuartier Königstraße 93 Nürnberg 90402 Germany;X-APPLE-RADIUS=500;X-TITLE=Königstraße 93:geo:11.0823813,49.4492768
END:VEVENT
BEGIN:VEVENT
DTSTART;TZID=Europe/Berlin:20260226T180000
DTEND;TZID=Europe/Berlin:20260226T193000
DTSTAMP:20260420T215308
CREATED:20251125T111139Z
LAST-MODIFIED:20251125T111139Z
UID:10000381-1772128800-1772134200@service.magazin66.de
SUMMARY:AnKlang: Next Generation Piano
DESCRIPTION:Meisterwerke der Klassik und Romantik
URL:https://service.magazin66.de/event/anklang-next-generation-piano/
LOCATION:Hochschule für Musik Nürnberg\, Veilhofstraße 34\, Nürnberg\, 90489
CATEGORIES:Musik und Unterhaltung
GEO:49.4587488;11.1085845
X-APPLE-STRUCTURED-LOCATION;VALUE=URI;X-ADDRESS=Hochschule für Musik Nürnberg Veilhofstraße 34 Nürnberg 90489;X-APPLE-RADIUS=500;X-TITLE=Veilhofstraße 34:geo:11.1085845,49.4587488
END:VEVENT
BEGIN:VEVENT
DTSTART;TZID=Europe/Berlin:20260226T180000
DTEND;TZID=Europe/Berlin:20260226T190000
DTSTAMP:20260420T215308
CREATED:20260220T093754Z
LAST-MODIFIED:20260220T093754Z
UID:10001447-1772128800-1772132400@service.magazin66.de
SUMMARY:Facettenreiches Saxophon
DESCRIPTION:Die Saxophonklasse von Prof. Patrick Stadler an der Hochschule für Musik Nürnberg lädt zu einem besonderen Konzert ins Germanische Nationalmuseum ein. Auf dem Programm stehen u. a. das lyrisch-virtuose Saxophonkonzert von Alexander Glasunow\, Steve Reichs rhythmisch prägnantes „New York Counterpoint“ sowie S. J Hankes „Attracted to Shiny Objects“. Das Konzert zeigt die Vielseitigkeit des Saxophons – zwischen klassischer Eleganz\, pulsierender Moderne und farbenreicher Gegenwartsmusik. \nCafé Arte im GNM. Eintritt frei.
URL:https://service.magazin66.de/event/facettenreiches-saxophon/
LOCATION:Germanisches Nationalmuseum\, Kartäusergasse 1\, Nürnberg\, 90402
CATEGORIES:Musik und Unterhaltung
GEO:49.4482487;11.0755114
X-APPLE-STRUCTURED-LOCATION;VALUE=URI;X-ADDRESS=Germanisches Nationalmuseum Kartäusergasse 1 Nürnberg 90402;X-APPLE-RADIUS=500;X-TITLE=Kartäusergasse 1:geo:11.0755114,49.4482487
END:VEVENT
BEGIN:VEVENT
DTSTART;TZID=Europe/Berlin:20260225T120000
DTEND;TZID=Europe/Berlin:20260225T130000
DTSTAMP:20260420T215308
CREATED:20260220T093500Z
LAST-MODIFIED:20260220T093500Z
UID:10001446-1772020800-1772024400@service.magazin66.de
SUMMARY:Barocke Musik auf drei Fagotten
DESCRIPTION:Werke von J. S. Bach\, G. P. Telemann und C. Schaffrat \nKlasse Prof. Niklaus Maler \nEintritt frei
URL:https://service.magazin66.de/event/barocke-musik-auf-drei-fagotten/
LOCATION:St. Martha\, Königstraße 79\, Nürnberg\, 90402
CATEGORIES:Musik und Unterhaltung
GEO:49.448386;11.0808739
X-APPLE-STRUCTURED-LOCATION;VALUE=URI;X-ADDRESS=St. Martha Königstraße 79 Nürnberg 90402;X-APPLE-RADIUS=500;X-TITLE=Königstraße 79:geo:11.0808739,49.448386
END:VEVENT
BEGIN:VEVENT
DTSTART;TZID=Europe/Berlin:20260218T190000
DTEND;TZID=Europe/Berlin:20260218T203000
DTSTAMP:20260420T215308
CREATED:20260220T095846Z
LAST-MODIFIED:20260220T095846Z
UID:10001453-1771441200-1771446600@service.magazin66.de
SUMMARY:Flöte im Spotlight
DESCRIPTION:Prof. Paolo Taballione (Italien)\nHolger Spegg (Klavier) \nPaolo Taballione ist seit 2018 Universitätsprofessor für Flöte an der Universität Mozarteum. Neben Einladungen zu Recitals\, Konzerten und Meisterkursen an viele internationale musikalische Institutionen nimmt er als Solist für die wichtigsten Radiosender in Deutschland und Italien auf. \nEintritt frei.
URL:https://service.magazin66.de/event/floete-im-spotlight/
LOCATION:Hochschule für Musik Nürnberg\, Veilhofstraße 34\, Nürnberg\, 90489
CATEGORIES:Musik und Unterhaltung
GEO:49.4587488;11.1085845
X-APPLE-STRUCTURED-LOCATION;VALUE=URI;X-ADDRESS=Hochschule für Musik Nürnberg Veilhofstraße 34 Nürnberg 90489;X-APPLE-RADIUS=500;X-TITLE=Veilhofstraße 34:geo:11.1085845,49.4587488
END:VEVENT
BEGIN:VEVENT
DTSTART;TZID=Europe/Berlin:20260211T180000
DTEND;TZID=Europe/Berlin:20260211T193000
DTSTAMP:20260420T215308
CREATED:20251125T104222Z
LAST-MODIFIED:20251125T104222Z
UID:10000378-1770832800-1770838200@service.magazin66.de
SUMMARY:Tastenpoesie – Junge Meister am Klavier
DESCRIPTION:Meisterwerke der Klassik und Romantik
URL:https://service.magazin66.de/event/tastenpoesie-junge-meister-am-klavier/
LOCATION:Seepark Mögeldorf\, Ostendstr. 127\, Nürnberg\, 90482
CATEGORIES:Musik und Unterhaltung
GEO:49.457631;11.1208358
X-APPLE-STRUCTURED-LOCATION;VALUE=URI;X-ADDRESS=Seepark Mögeldorf Ostendstr. 127 Nürnberg 90482;X-APPLE-RADIUS=500;X-TITLE=Ostendstr. 127:geo:11.1208358,49.457631
END:VEVENT
BEGIN:VEVENT
DTSTART;TZID=Europe/Berlin:20260130T150000
DTEND;TZID=Europe/Berlin:20260130T153000
DTSTAMP:20260420T215308
CREATED:20251125T103713Z
LAST-MODIFIED:20251125T103713Z
UID:10000376-1769785200-1769787000@service.magazin66.de
SUMMARY:Kosmos Kammermusik
DESCRIPTION:Mit der Kammermusikklasse von Prof. Nina Janßen-Deinzer
URL:https://service.magazin66.de/event/kosmos-kammermusik/
LOCATION:Treff Bleiweiß\, Hintere Bleiweißstraße 15\, Nürnberg\, 90461
CATEGORIES:Musik und Unterhaltung
GEO:49.4414252;11.0929161
X-APPLE-STRUCTURED-LOCATION;VALUE=URI;X-ADDRESS=Treff Bleiweiß Hintere Bleiweißstraße 15 Nürnberg 90461;X-APPLE-RADIUS=500;X-TITLE=Hintere Bleiweißstraße 15:geo:11.0929161,49.4414252
END:VEVENT
BEGIN:VEVENT
DTSTART;TZID=Europe/Berlin:20260119T120000
DTEND;TZID=Europe/Berlin:20260119T133000
DTSTAMP:20260420T215308
CREATED:20251125T093624Z
LAST-MODIFIED:20251125T093624Z
UID:10000374-1768824000-1768829400@service.magazin66.de
SUMMARY:Horn im Konzert: Cornissimo
DESCRIPTION:Werke von: G. J. Rheinberger\, J. Vignery\, G. A. Homilius u. a.
URL:https://service.magazin66.de/event/horn-im-konzert-cornissimo/
LOCATION:Hochschule für Musik Nürnberg\, Veilhofstraße 34\, Nürnberg\, 90489
CATEGORIES:Musik und Unterhaltung
GEO:49.4587488;11.1085845
X-APPLE-STRUCTURED-LOCATION;VALUE=URI;X-ADDRESS=Hochschule für Musik Nürnberg Veilhofstraße 34 Nürnberg 90489;X-APPLE-RADIUS=500;X-TITLE=Veilhofstraße 34:geo:11.1085845,49.4587488
END:VEVENT
BEGIN:VEVENT
DTSTART;TZID=Europe/Berlin:20251218T180000
DTEND;TZID=Europe/Berlin:20251218T190000
DTSTAMP:20260420T215308
CREATED:20251125T090856Z
LAST-MODIFIED:20251125T090856Z
UID:10000365-1766080800-1766084400@service.magazin66.de
SUMMARY:AnKlang: Festliche Musik für Trompete
DESCRIPTION:
URL:https://service.magazin66.de/event/anklang-festliche-musik-fuer-trompete/
LOCATION:Germanisches Nationalmuseum\, Kartäusergasse 1\, Nürnberg\, 90402
CATEGORIES:Musik und Unterhaltung
GEO:49.4482487;11.0755114
X-APPLE-STRUCTURED-LOCATION;VALUE=URI;X-ADDRESS=Germanisches Nationalmuseum Kartäusergasse 1 Nürnberg 90402;X-APPLE-RADIUS=500;X-TITLE=Kartäusergasse 1:geo:11.0755114,49.4482487
END:VEVENT
BEGIN:VEVENT
DTSTART;TZID=Europe/Berlin:20251212T163000
DTEND;TZID=Europe/Berlin:20251212T183000
DTSTAMP:20260420T215308
CREATED:20251125T085233Z
LAST-MODIFIED:20251125T085233Z
UID:10000358-1765557000-1765564200@service.magazin66.de
SUMMARY:Adventskonzert: Tiefe Töne im Advent
DESCRIPTION:Einlass: 16.30 Uhr \nKonzertbeginn: 17.00 Uhr
URL:https://service.magazin66.de/event/adventskonzert-tiefe-toene-im-advent/
LOCATION:IHK Mittelfranken\, Hauptmarkt 25-27\, Nürnberg\, 90403
CATEGORIES:Musik und Unterhaltung
GEO:49.4546064;11.0763742
X-APPLE-STRUCTURED-LOCATION;VALUE=URI;X-ADDRESS=IHK Mittelfranken Hauptmarkt 25-27 Nürnberg 90403;X-APPLE-RADIUS=500;X-TITLE=Hauptmarkt 25-27:geo:11.0763742,49.4546064
END:VEVENT
BEGIN:VEVENT
DTSTART;TZID=Europe/Berlin:20251208T160000
DTEND;TZID=Europe/Berlin:20251208T170000
DTSTAMP:20260420T215308
CREATED:20251125T084353Z
LAST-MODIFIED:20251125T084838Z
UID:10000357-1765209600-1765213200@service.magazin66.de
SUMMARY:Violine im Konzert: PROBESPIELchen
DESCRIPTION:Probespielsimulation mit Violinist*innen aus allen Klassen des Hochschulorchesters
URL:https://service.magazin66.de/event/violine-im-konzert-probespielchen/
LOCATION:Hochschule für Musik Nürnberg\, Veilhofstraße 34\, Nürnberg\, 90489
CATEGORIES:Musik und Unterhaltung
GEO:49.4587488;11.1085845
X-APPLE-STRUCTURED-LOCATION;VALUE=URI;X-ADDRESS=Hochschule für Musik Nürnberg Veilhofstraße 34 Nürnberg 90489;X-APPLE-RADIUS=500;X-TITLE=Veilhofstraße 34:geo:11.1085845,49.4587488
END:VEVENT
END:VCALENDAR