BEGIN:VCALENDAR
VERSION:2.0
PRODID:-//Service Magazin sechs+sechzig - ECPv6.15.18//NONSGML v1.0//EN
CALSCALE:GREGORIAN
METHOD:PUBLISH
X-WR-CALNAME:Service Magazin sechs+sechzig
X-ORIGINAL-URL:https://service.magazin66.de
X-WR-CALDESC:Veranstaltungen für Service Magazin sechs+sechzig
REFRESH-INTERVAL;VALUE=DURATION:PT1H
X-Robots-Tag:noindex
X-PUBLISHED-TTL:PT1H
BEGIN:VTIMEZONE
TZID:Europe/Berlin
BEGIN:DAYLIGHT
TZOFFSETFROM:+0100
TZOFFSETTO:+0200
TZNAME:CEST
DTSTART:20240331T010000
END:DAYLIGHT
BEGIN:STANDARD
TZOFFSETFROM:+0200
TZOFFSETTO:+0100
TZNAME:CET
DTSTART:20241027T010000
END:STANDARD
BEGIN:DAYLIGHT
TZOFFSETFROM:+0100
TZOFFSETTO:+0200
TZNAME:CEST
DTSTART:20250330T010000
END:DAYLIGHT
BEGIN:STANDARD
TZOFFSETFROM:+0200
TZOFFSETTO:+0100
TZNAME:CET
DTSTART:20251026T010000
END:STANDARD
BEGIN:DAYLIGHT
TZOFFSETFROM:+0100
TZOFFSETTO:+0200
TZNAME:CEST
DTSTART:20260329T010000
END:DAYLIGHT
BEGIN:STANDARD
TZOFFSETFROM:+0200
TZOFFSETTO:+0100
TZNAME:CET
DTSTART:20261025T010000
END:STANDARD
BEGIN:DAYLIGHT
TZOFFSETFROM:+0100
TZOFFSETTO:+0200
TZNAME:CEST
DTSTART:20270328T010000
END:DAYLIGHT
BEGIN:STANDARD
TZOFFSETFROM:+0200
TZOFFSETTO:+0100
TZNAME:CET
DTSTART:20271031T010000
END:STANDARD
END:VTIMEZONE
BEGIN:VEVENT
DTSTART;TZID=Europe/Berlin:20260326T180000
DTEND;TZID=Europe/Berlin:20260326T193000
DTSTAMP:20260421T010750
CREATED:20260219T121921Z
LAST-MODIFIED:20260219T122011Z
UID:10001316-1774548000-1774553400@service.magazin66.de
SUMMARY:Die elektronische Patientenakte
DESCRIPTION:Online via Zoom \nMit: Laura Sipple\, Projektmanagerin Digitale Gesundheit\, Bayern Innovativ GmbH\, Nürnberg \nInfo/Anmeldung: 0911/208111 oder info@keb-nuernberg.de
URL:https://service.magazin66.de/event/die-elektronische-patientenakte/
CATEGORIES:Digitale Welt
ORGANIZER;CN="Katholische Erwachsenenbildung":MAILTO:info@keb-nuernberg.de
LOCATION:
END:VEVENT
BEGIN:VEVENT
DTSTART;TZID=Europe/Berlin:20260311T150000
DTEND;TZID=Europe/Berlin:20260311T163000
DTSTAMP:20260421T010750
CREATED:20260219T111027Z
LAST-MODIFIED:20260219T111027Z
UID:10001162-1773241200-1773246600@service.magazin66.de
SUMMARY:Thomas Mann in Franken
DESCRIPTION:Vortrag und Lesung zu den fränkischen Einflüssen im Werk Thomas Manns. \nMit: Wolfgang Osiander\, Historiker; Gabriele Osiander\, Buchhändlerin \nGebühr: 3 € – Info/Anmeldung: 0911/208111 oder info@keb-nuernberg.de
URL:https://service.magazin66.de/event/thomas-mann-in-franken/
LOCATION:Caritas-Pirckheimer-Haus\, Königstr. 64\, Nürnberg\, 90402
CATEGORIES:Literatur, Theater und Kino
ORGANIZER;CN="Katholische Erwachsenenbildung":MAILTO:info@keb-nuernberg.de
GEO:49.4485643;11.0789167
X-APPLE-STRUCTURED-LOCATION;VALUE=URI;X-ADDRESS=Caritas-Pirckheimer-Haus Königstr. 64 Nürnberg 90402;X-APPLE-RADIUS=500;X-TITLE=Königstr. 64:geo:11.0789167,49.4485643
END:VEVENT
BEGIN:VEVENT
DTSTART;TZID=Europe/Berlin:20260302T190000
DTEND;TZID=Europe/Berlin:20260302T203000
DTSTAMP:20260421T010750
CREATED:20260219T131720Z
LAST-MODIFIED:20260219T131720Z
UID:10001334-1772478000-1772483400@service.magazin66.de
SUMMARY:Online Lesung: Rote Linien
DESCRIPTION:Wie das Bundesverfassungsgericht die Demokratie schützt \nProf. Dr. Dr. h.c. mult. Susanne Baer\, HU Berlin\, Richterin des Bundesverfassungsgericht a. D. gewährt persönliche Einblicke
URL:https://service.magazin66.de/event/online-lesung-rote-linien/
CATEGORIES:Beratung, Vorträge und Workshops
ORGANIZER;CN="Katholische Erwachsenenbildung":MAILTO:info@keb-nuernberg.de
LOCATION:
END:VEVENT
BEGIN:VEVENT
DTSTART;TZID=Europe/Berlin:20260126T190000
DTEND;TZID=Europe/Berlin:20260126T203000
DTSTAMP:20260421T010750
CREATED:20251124T160559Z
LAST-MODIFIED:20251124T160559Z
UID:10000289-1769454000-1769459400@service.magazin66.de
SUMMARY:Feindbild Europa?
DESCRIPTION:Putins ‚russische Welt‘ und der Desinformationskrieg gegen Deutschland und die EU \nOnline-Veranstaltung mit Simon Moritz\, Politikwissenschaftler
URL:https://service.magazin66.de/event/feindbild-europa/
CATEGORIES:Beratung, Vorträge und Workshops
ORGANIZER;CN="Katholische Erwachsenenbildung":MAILTO:info@keb-nuernberg.de
LOCATION:
END:VEVENT
BEGIN:VEVENT
DTSTART;TZID=Europe/Berlin:20251117T150000
DTEND;TZID=Europe/Berlin:20251117T163000
DTSTAMP:20260421T010750
CREATED:20251124T153433Z
LAST-MODIFIED:20251124T153433Z
UID:10000279-1763391600-1763397000@service.magazin66.de
SUMMARY:Nachmittagsakademie: Weihnachten\, Licht der Hoffnung
DESCRIPTION:Mit Dr. Claudia Alraum\, Dipl.-Theol. Claudio Ettl\, Pater Joe Übelmesser SJ
URL:https://service.magazin66.de/event/nachmittagsakademie-weihnachten-licht-der-hoffnung/
LOCATION:Caritas-Pirckheimer-Haus\, Königstr. 64\, Nürnberg\, 90402
CATEGORIES:Beratung, Vorträge und Workshops
ORGANIZER;CN="Katholische Erwachsenenbildung":MAILTO:info@keb-nuernberg.de
GEO:49.4485643;11.0789167
X-APPLE-STRUCTURED-LOCATION;VALUE=URI;X-ADDRESS=Caritas-Pirckheimer-Haus Königstr. 64 Nürnberg 90402;X-APPLE-RADIUS=500;X-TITLE=Königstr. 64:geo:11.0789167,49.4485643
END:VEVENT
BEGIN:VEVENT
DTSTART;TZID=Europe/Berlin:20250924T160000
DTEND;TZID=Europe/Berlin:20250924T173000
DTSTAMP:20260421T010750
CREATED:20250829T161720Z
LAST-MODIFIED:20250829T161720Z
UID:10000017-1758729600-1758735000@service.magazin66.de
SUMMARY:Nürnberger Pilger der Hoffung
DESCRIPTION:Hoffnungsgeschichten der letzten 100 Jahre rund um die Frauenkirche mit Renate Trautwein. \n5 Euro pro Person\, Kinder bis 12 Jahre frei\, Gruppen ab 6 Personen 3 Euro pro Person \nInfo/Anmeldung: info@keb-an.de oder 0911 / 208111 \n 
URL:https://service.magazin66.de/event/nuernberger-pilger-der-hoffung/
LOCATION:Frauenkirche\, Hauptmarkt 14\, Nürnberg\, 90402
CATEGORIES:Spaziergänge und Wanderungen
ORGANIZER;CN="Katholische Erwachsenenbildung":MAILTO:info@keb-nuernberg.de
GEO:49.454045;11.0781791
X-APPLE-STRUCTURED-LOCATION;VALUE=URI;X-ADDRESS=Frauenkirche Hauptmarkt 14 Nürnberg 90402;X-APPLE-RADIUS=500;X-TITLE=Hauptmarkt 14:geo:11.0781791,49.454045
END:VEVENT
END:VCALENDAR