BEGIN:VCALENDAR
VERSION:2.0
PRODID:-//Service Magazin sechs+sechzig - ECPv6.15.18//NONSGML v1.0//EN
CALSCALE:GREGORIAN
METHOD:PUBLISH
X-ORIGINAL-URL:https://service.magazin66.de
X-WR-CALDESC:Veranstaltungen für Service Magazin sechs+sechzig
REFRESH-INTERVAL;VALUE=DURATION:PT1H
X-Robots-Tag:noindex
X-PUBLISHED-TTL:PT1H
BEGIN:VTIMEZONE
TZID:Europe/Berlin
BEGIN:DAYLIGHT
TZOFFSETFROM:+0100
TZOFFSETTO:+0200
TZNAME:CEST
DTSTART:20240331T010000
END:DAYLIGHT
BEGIN:STANDARD
TZOFFSETFROM:+0200
TZOFFSETTO:+0100
TZNAME:CET
DTSTART:20241027T010000
END:STANDARD
BEGIN:DAYLIGHT
TZOFFSETFROM:+0100
TZOFFSETTO:+0200
TZNAME:CEST
DTSTART:20250330T010000
END:DAYLIGHT
BEGIN:STANDARD
TZOFFSETFROM:+0200
TZOFFSETTO:+0100
TZNAME:CET
DTSTART:20251026T010000
END:STANDARD
BEGIN:DAYLIGHT
TZOFFSETFROM:+0100
TZOFFSETTO:+0200
TZNAME:CEST
DTSTART:20260329T010000
END:DAYLIGHT
BEGIN:STANDARD
TZOFFSETFROM:+0200
TZOFFSETTO:+0100
TZNAME:CET
DTSTART:20261025T010000
END:STANDARD
BEGIN:DAYLIGHT
TZOFFSETFROM:+0100
TZOFFSETTO:+0200
TZNAME:CEST
DTSTART:20270328T010000
END:DAYLIGHT
BEGIN:STANDARD
TZOFFSETFROM:+0200
TZOFFSETTO:+0100
TZNAME:CET
DTSTART:20271031T010000
END:STANDARD
END:VTIMEZONE
BEGIN:VEVENT
DTSTART;TZID=Europe/Berlin:20260321T193000
DTEND;TZID=Europe/Berlin:20260321T213000
DTSTAMP:20260421T010508
CREATED:20260220T111353Z
LAST-MODIFIED:20260220T111353Z
UID:10001460-1774121400-1774128600@service.magazin66.de
SUMMARY:Emmi und die Schlochsaitn
DESCRIPTION:Eine humorvolle musikalische kabarettistische Reise ins Herz des Franken. \nInfo: 0911/23734260
URL:https://service.magazin66.de/event/emmi-und-die-schlochsaitn/
LOCATION:Vereinsraum Großgeschaidt\, Großgeschaidt 37\, Heroldsberg\, 90562
CATEGORIES:Musik und Unterhaltung
GEO:49.5571146;11.1693872
X-APPLE-STRUCTURED-LOCATION;VALUE=URI;X-ADDRESS=Vereinsraum Großgeschaidt Großgeschaidt 37 Heroldsberg 90562;X-APPLE-RADIUS=500;X-TITLE=Großgeschaidt 37:geo:11.1693872,49.5571146
END:VEVENT
BEGIN:VEVENT
DTSTART;TZID=Europe/Berlin:20260214T180000
DTEND;TZID=Europe/Berlin:20260214T190000
DTSTAMP:20260421T010508
CREATED:20251125T082405Z
LAST-MODIFIED:20251125T082405Z
UID:10000354-1771092000-1771095600@service.magazin66.de
SUMMARY:Champagnergrab
DESCRIPTION:Lesung mit Guido Büttgen
URL:https://service.magazin66.de/event/champagnergrab/
LOCATION:Weißes Schloss\, Kirchenweg 4\, Heroldsberg\, 90562
CATEGORIES:Literatur, Theater und Kino
GEO:49.5360582;11.1578861
X-APPLE-STRUCTURED-LOCATION;VALUE=URI;X-ADDRESS=Weißes Schloss Kirchenweg 4 Heroldsberg 90562;X-APPLE-RADIUS=500;X-TITLE=Kirchenweg 4:geo:11.1578861,49.5360582
END:VEVENT
BEGIN:VEVENT
DTSTART;TZID=Europe/Berlin:20251228T193000
DTEND;TZID=Europe/Berlin:20251228T210000
DTSTAMP:20260421T010508
CREATED:20251125T092512Z
LAST-MODIFIED:20251125T092512Z
UID:10000370-1766950200-1766955600@service.magazin66.de
SUMMARY:Konzert zum Jahresausklang
DESCRIPTION:mit dem Ensemble BlechQuadrat. \n 
URL:https://service.magazin66.de/event/konzert-zum-jahresausklang/
LOCATION:St. Matthäus Heroldsberg\, Kirchenweg 2\, Heroldsberg\, 90562
CATEGORIES:Musik und Unterhaltung
GEO:49.5357797;11.1595541
X-APPLE-STRUCTURED-LOCATION;VALUE=URI;X-ADDRESS=St. Matthäus Heroldsberg Kirchenweg 2 Heroldsberg 90562;X-APPLE-RADIUS=500;X-TITLE=Kirchenweg 2:geo:11.1595541,49.5357797
END:VEVENT
END:VCALENDAR