BEGIN:VCALENDAR
VERSION:2.0
PRODID:-//Service Magazin sechs+sechzig - ECPv6.15.18//NONSGML v1.0//EN
CALSCALE:GREGORIAN
METHOD:PUBLISH
X-ORIGINAL-URL:https://service.magazin66.de
X-WR-CALDESC:Veranstaltungen für Service Magazin sechs+sechzig
REFRESH-INTERVAL;VALUE=DURATION:PT1H
X-Robots-Tag:noindex
X-PUBLISHED-TTL:PT1H
BEGIN:VTIMEZONE
TZID:Europe/Berlin
BEGIN:DAYLIGHT
TZOFFSETFROM:+0100
TZOFFSETTO:+0200
TZNAME:CEST
DTSTART:20240331T010000
END:DAYLIGHT
BEGIN:STANDARD
TZOFFSETFROM:+0200
TZOFFSETTO:+0100
TZNAME:CET
DTSTART:20241027T010000
END:STANDARD
BEGIN:DAYLIGHT
TZOFFSETFROM:+0100
TZOFFSETTO:+0200
TZNAME:CEST
DTSTART:20250330T010000
END:DAYLIGHT
BEGIN:STANDARD
TZOFFSETFROM:+0200
TZOFFSETTO:+0100
TZNAME:CET
DTSTART:20251026T010000
END:STANDARD
BEGIN:DAYLIGHT
TZOFFSETFROM:+0100
TZOFFSETTO:+0200
TZNAME:CEST
DTSTART:20260329T010000
END:DAYLIGHT
BEGIN:STANDARD
TZOFFSETFROM:+0200
TZOFFSETTO:+0100
TZNAME:CET
DTSTART:20261025T010000
END:STANDARD
BEGIN:DAYLIGHT
TZOFFSETFROM:+0100
TZOFFSETTO:+0200
TZNAME:CEST
DTSTART:20270328T010000
END:DAYLIGHT
BEGIN:STANDARD
TZOFFSETFROM:+0200
TZOFFSETTO:+0100
TZNAME:CET
DTSTART:20271031T010000
END:STANDARD
END:VTIMEZONE
BEGIN:VEVENT
DTSTART;TZID=Europe/Berlin:20260418T140000
DTEND;TZID=Europe/Berlin:20260418T150000
DTSTAMP:20260420T161008
CREATED:20251128T130453Z
LAST-MODIFIED:20251128T130453Z
UID:10000685-1776520800-1776524400@service.magazin66.de
SUMMARY:Entdeckertour rund um die Laufer Altstadt
DESCRIPTION:Rundgang mit den Laufer Stadtführern. Treffpunkt ist die Infosäule der Burgenstraße an der Johanniskirche am Marktplatz. Teilnehmergebühr: 5 Euro (für Kinder unter 14 Jahren ist die Teilnahme kostenlos).
URL:https://service.magazin66.de/event/entdeckertour-rund-um-die-laufer-altstadt/2026-04-18/
LOCATION:Johanniskirche Lauf\, Kirchenplatz 1\, Lauf\, 91207
CATEGORIES:Spaziergänge und Wanderungen
ORGANIZER;CN="Stadtf%C3%BChrer Lauf e. V.":MAILTO:stadtfuehrer@lauf.de
GEO:49.5112464;11.2798878
X-APPLE-STRUCTURED-LOCATION;VALUE=URI;X-ADDRESS=Johanniskirche Lauf Kirchenplatz 1 Lauf 91207;X-APPLE-RADIUS=500;X-TITLE=Kirchenplatz 1:geo:11.2798878,49.5112464
END:VEVENT
BEGIN:VEVENT
DTSTART;TZID=Europe/Berlin:20260411T140000
DTEND;TZID=Europe/Berlin:20260411T150000
DTSTAMP:20260420T161008
CREATED:20251128T130453Z
LAST-MODIFIED:20251128T130453Z
UID:10000684-1775916000-1775919600@service.magazin66.de
SUMMARY:Entdeckertour rund um die Laufer Altstadt
DESCRIPTION:Rundgang mit den Laufer Stadtführern. Treffpunkt ist die Infosäule der Burgenstraße an der Johanniskirche am Marktplatz. Teilnehmergebühr: 5 Euro (für Kinder unter 14 Jahren ist die Teilnahme kostenlos).
URL:https://service.magazin66.de/event/entdeckertour-rund-um-die-laufer-altstadt/2026-04-11/
LOCATION:Johanniskirche Lauf\, Kirchenplatz 1\, Lauf\, 91207
CATEGORIES:Spaziergänge und Wanderungen
ORGANIZER;CN="Stadtf%C3%BChrer Lauf e. V.":MAILTO:stadtfuehrer@lauf.de
GEO:49.5112464;11.2798878
X-APPLE-STRUCTURED-LOCATION;VALUE=URI;X-ADDRESS=Johanniskirche Lauf Kirchenplatz 1 Lauf 91207;X-APPLE-RADIUS=500;X-TITLE=Kirchenplatz 1:geo:11.2798878,49.5112464
END:VEVENT
BEGIN:VEVENT
DTSTART;TZID=Europe/Berlin:20260404T140000
DTEND;TZID=Europe/Berlin:20260404T150000
DTSTAMP:20260420T161008
CREATED:20251128T130453Z
LAST-MODIFIED:20251128T130453Z
UID:10000683-1775311200-1775314800@service.magazin66.de
SUMMARY:Entdeckertour rund um die Laufer Altstadt
DESCRIPTION:Rundgang mit den Laufer Stadtführern. Treffpunkt ist die Infosäule der Burgenstraße an der Johanniskirche am Marktplatz. Teilnehmergebühr: 5 Euro (für Kinder unter 14 Jahren ist die Teilnahme kostenlos).
URL:https://service.magazin66.de/event/entdeckertour-rund-um-die-laufer-altstadt/2026-04-04/
LOCATION:Johanniskirche Lauf\, Kirchenplatz 1\, Lauf\, 91207
CATEGORIES:Spaziergänge und Wanderungen
ORGANIZER;CN="Stadtf%C3%BChrer Lauf e. V.":MAILTO:stadtfuehrer@lauf.de
GEO:49.5112464;11.2798878
X-APPLE-STRUCTURED-LOCATION;VALUE=URI;X-ADDRESS=Johanniskirche Lauf Kirchenplatz 1 Lauf 91207;X-APPLE-RADIUS=500;X-TITLE=Kirchenplatz 1:geo:11.2798878,49.5112464
END:VEVENT
BEGIN:VEVENT
DTSTART;TZID=Europe/Berlin:20260328T140000
DTEND;TZID=Europe/Berlin:20260328T150000
DTSTAMP:20260420T161008
CREATED:20251128T130453Z
LAST-MODIFIED:20251128T130453Z
UID:10000682-1774706400-1774710000@service.magazin66.de
SUMMARY:Entdeckertour rund um die Laufer Altstadt
DESCRIPTION:Rundgang mit den Laufer Stadtführern. Treffpunkt ist die Infosäule der Burgenstraße an der Johanniskirche am Marktplatz. Teilnehmergebühr: 5 Euro (für Kinder unter 14 Jahren ist die Teilnahme kostenlos).
URL:https://service.magazin66.de/event/entdeckertour-rund-um-die-laufer-altstadt/2026-03-28/
LOCATION:Johanniskirche Lauf\, Kirchenplatz 1\, Lauf\, 91207
CATEGORIES:Spaziergänge und Wanderungen
ORGANIZER;CN="Stadtf%C3%BChrer Lauf e. V.":MAILTO:stadtfuehrer@lauf.de
GEO:49.5112464;11.2798878
X-APPLE-STRUCTURED-LOCATION;VALUE=URI;X-ADDRESS=Johanniskirche Lauf Kirchenplatz 1 Lauf 91207;X-APPLE-RADIUS=500;X-TITLE=Kirchenplatz 1:geo:11.2798878,49.5112464
END:VEVENT
BEGIN:VEVENT
DTSTART;TZID=Europe/Berlin:20260321T140000
DTEND;TZID=Europe/Berlin:20260321T150000
DTSTAMP:20260420T161008
CREATED:20251128T130453Z
LAST-MODIFIED:20251128T130453Z
UID:10000681-1774101600-1774105200@service.magazin66.de
SUMMARY:Entdeckertour rund um die Laufer Altstadt
DESCRIPTION:Rundgang mit den Laufer Stadtführern. Treffpunkt ist die Infosäule der Burgenstraße an der Johanniskirche am Marktplatz. Teilnehmergebühr: 5 Euro (für Kinder unter 14 Jahren ist die Teilnahme kostenlos).
URL:https://service.magazin66.de/event/entdeckertour-rund-um-die-laufer-altstadt/2026-03-21/
LOCATION:Johanniskirche Lauf\, Kirchenplatz 1\, Lauf\, 91207
CATEGORIES:Spaziergänge und Wanderungen
ORGANIZER;CN="Stadtf%C3%BChrer Lauf e. V.":MAILTO:stadtfuehrer@lauf.de
GEO:49.5112464;11.2798878
X-APPLE-STRUCTURED-LOCATION;VALUE=URI;X-ADDRESS=Johanniskirche Lauf Kirchenplatz 1 Lauf 91207;X-APPLE-RADIUS=500;X-TITLE=Kirchenplatz 1:geo:11.2798878,49.5112464
END:VEVENT
BEGIN:VEVENT
DTSTART;TZID=Europe/Berlin:20260314T140000
DTEND;TZID=Europe/Berlin:20260314T150000
DTSTAMP:20260420T161008
CREATED:20251128T130453Z
LAST-MODIFIED:20251128T130453Z
UID:10000680-1773496800-1773500400@service.magazin66.de
SUMMARY:Entdeckertour rund um die Laufer Altstadt
DESCRIPTION:Rundgang mit den Laufer Stadtführern. Treffpunkt ist die Infosäule der Burgenstraße an der Johanniskirche am Marktplatz. Teilnehmergebühr: 5 Euro (für Kinder unter 14 Jahren ist die Teilnahme kostenlos).
URL:https://service.magazin66.de/event/entdeckertour-rund-um-die-laufer-altstadt/2026-03-14/
LOCATION:Johanniskirche Lauf\, Kirchenplatz 1\, Lauf\, 91207
CATEGORIES:Spaziergänge und Wanderungen
ORGANIZER;CN="Stadtf%C3%BChrer Lauf e. V.":MAILTO:stadtfuehrer@lauf.de
GEO:49.5112464;11.2798878
X-APPLE-STRUCTURED-LOCATION;VALUE=URI;X-ADDRESS=Johanniskirche Lauf Kirchenplatz 1 Lauf 91207;X-APPLE-RADIUS=500;X-TITLE=Kirchenplatz 1:geo:11.2798878,49.5112464
END:VEVENT
BEGIN:VEVENT
DTSTART;TZID=Europe/Berlin:20260307T140000
DTEND;TZID=Europe/Berlin:20260307T150000
DTSTAMP:20260420T161008
CREATED:20251128T130453Z
LAST-MODIFIED:20251128T130453Z
UID:10000679-1772892000-1772895600@service.magazin66.de
SUMMARY:Entdeckertour rund um die Laufer Altstadt
DESCRIPTION:Rundgang mit den Laufer Stadtführern. Treffpunkt ist die Infosäule der Burgenstraße an der Johanniskirche am Marktplatz. Teilnehmergebühr: 5 Euro (für Kinder unter 14 Jahren ist die Teilnahme kostenlos).
URL:https://service.magazin66.de/event/entdeckertour-rund-um-die-laufer-altstadt/2026-03-07/
LOCATION:Johanniskirche Lauf\, Kirchenplatz 1\, Lauf\, 91207
CATEGORIES:Spaziergänge und Wanderungen
ORGANIZER;CN="Stadtf%C3%BChrer Lauf e. V.":MAILTO:stadtfuehrer@lauf.de
GEO:49.5112464;11.2798878
X-APPLE-STRUCTURED-LOCATION;VALUE=URI;X-ADDRESS=Johanniskirche Lauf Kirchenplatz 1 Lauf 91207;X-APPLE-RADIUS=500;X-TITLE=Kirchenplatz 1:geo:11.2798878,49.5112464
END:VEVENT
BEGIN:VEVENT
DTSTART;TZID=Europe/Berlin:20260228T140000
DTEND;TZID=Europe/Berlin:20260228T150000
DTSTAMP:20260420T161008
CREATED:20251128T130453Z
LAST-MODIFIED:20251128T130453Z
UID:10000678-1772287200-1772290800@service.magazin66.de
SUMMARY:Entdeckertour rund um die Laufer Altstadt
DESCRIPTION:Rundgang mit den Laufer Stadtführern. Treffpunkt ist die Infosäule der Burgenstraße an der Johanniskirche am Marktplatz. Teilnehmergebühr: 5 Euro (für Kinder unter 14 Jahren ist die Teilnahme kostenlos).
URL:https://service.magazin66.de/event/entdeckertour-rund-um-die-laufer-altstadt/2026-02-28/
LOCATION:Johanniskirche Lauf\, Kirchenplatz 1\, Lauf\, 91207
CATEGORIES:Spaziergänge und Wanderungen
ORGANIZER;CN="Stadtf%C3%BChrer Lauf e. V.":MAILTO:stadtfuehrer@lauf.de
GEO:49.5112464;11.2798878
X-APPLE-STRUCTURED-LOCATION;VALUE=URI;X-ADDRESS=Johanniskirche Lauf Kirchenplatz 1 Lauf 91207;X-APPLE-RADIUS=500;X-TITLE=Kirchenplatz 1:geo:11.2798878,49.5112464
END:VEVENT
BEGIN:VEVENT
DTSTART;TZID=Europe/Berlin:20260221T140000
DTEND;TZID=Europe/Berlin:20260221T150000
DTSTAMP:20260420T161008
CREATED:20251128T130453Z
LAST-MODIFIED:20251128T130453Z
UID:10000677-1771682400-1771686000@service.magazin66.de
SUMMARY:Entdeckertour rund um die Laufer Altstadt
DESCRIPTION:Rundgang mit den Laufer Stadtführern. Treffpunkt ist die Infosäule der Burgenstraße an der Johanniskirche am Marktplatz. Teilnehmergebühr: 5 Euro (für Kinder unter 14 Jahren ist die Teilnahme kostenlos).
URL:https://service.magazin66.de/event/entdeckertour-rund-um-die-laufer-altstadt/2026-02-21/
LOCATION:Johanniskirche Lauf\, Kirchenplatz 1\, Lauf\, 91207
CATEGORIES:Spaziergänge und Wanderungen
ORGANIZER;CN="Stadtf%C3%BChrer Lauf e. V.":MAILTO:stadtfuehrer@lauf.de
GEO:49.5112464;11.2798878
X-APPLE-STRUCTURED-LOCATION;VALUE=URI;X-ADDRESS=Johanniskirche Lauf Kirchenplatz 1 Lauf 91207;X-APPLE-RADIUS=500;X-TITLE=Kirchenplatz 1:geo:11.2798878,49.5112464
END:VEVENT
BEGIN:VEVENT
DTSTART;TZID=Europe/Berlin:20260214T140000
DTEND;TZID=Europe/Berlin:20260214T150000
DTSTAMP:20260420T161008
CREATED:20251128T130453Z
LAST-MODIFIED:20251128T130453Z
UID:10000676-1771077600-1771081200@service.magazin66.de
SUMMARY:Entdeckertour rund um die Laufer Altstadt
DESCRIPTION:Rundgang mit den Laufer Stadtführern. Treffpunkt ist die Infosäule der Burgenstraße an der Johanniskirche am Marktplatz. Teilnehmergebühr: 5 Euro (für Kinder unter 14 Jahren ist die Teilnahme kostenlos).
URL:https://service.magazin66.de/event/entdeckertour-rund-um-die-laufer-altstadt/2026-02-14/
LOCATION:Johanniskirche Lauf\, Kirchenplatz 1\, Lauf\, 91207
CATEGORIES:Spaziergänge und Wanderungen
ORGANIZER;CN="Stadtf%C3%BChrer Lauf e. V.":MAILTO:stadtfuehrer@lauf.de
GEO:49.5112464;11.2798878
X-APPLE-STRUCTURED-LOCATION;VALUE=URI;X-ADDRESS=Johanniskirche Lauf Kirchenplatz 1 Lauf 91207;X-APPLE-RADIUS=500;X-TITLE=Kirchenplatz 1:geo:11.2798878,49.5112464
END:VEVENT
BEGIN:VEVENT
DTSTART;TZID=Europe/Berlin:20260207T140000
DTEND;TZID=Europe/Berlin:20260207T150000
DTSTAMP:20260420T161008
CREATED:20251128T130453Z
LAST-MODIFIED:20251128T130453Z
UID:10000675-1770472800-1770476400@service.magazin66.de
SUMMARY:Entdeckertour rund um die Laufer Altstadt
DESCRIPTION:Rundgang mit den Laufer Stadtführern. Treffpunkt ist die Infosäule der Burgenstraße an der Johanniskirche am Marktplatz. Teilnehmergebühr: 5 Euro (für Kinder unter 14 Jahren ist die Teilnahme kostenlos).
URL:https://service.magazin66.de/event/entdeckertour-rund-um-die-laufer-altstadt/2026-02-07/
LOCATION:Johanniskirche Lauf\, Kirchenplatz 1\, Lauf\, 91207
CATEGORIES:Spaziergänge und Wanderungen
ORGANIZER;CN="Stadtf%C3%BChrer Lauf e. V.":MAILTO:stadtfuehrer@lauf.de
GEO:49.5112464;11.2798878
X-APPLE-STRUCTURED-LOCATION;VALUE=URI;X-ADDRESS=Johanniskirche Lauf Kirchenplatz 1 Lauf 91207;X-APPLE-RADIUS=500;X-TITLE=Kirchenplatz 1:geo:11.2798878,49.5112464
END:VEVENT
BEGIN:VEVENT
DTSTART;TZID=Europe/Berlin:20260131T140000
DTEND;TZID=Europe/Berlin:20260131T150000
DTSTAMP:20260420T161008
CREATED:20251128T130453Z
LAST-MODIFIED:20251128T130453Z
UID:10000674-1769868000-1769871600@service.magazin66.de
SUMMARY:Entdeckertour rund um die Laufer Altstadt
DESCRIPTION:Rundgang mit den Laufer Stadtführern. Treffpunkt ist die Infosäule der Burgenstraße an der Johanniskirche am Marktplatz. Teilnehmergebühr: 5 Euro (für Kinder unter 14 Jahren ist die Teilnahme kostenlos).
URL:https://service.magazin66.de/event/entdeckertour-rund-um-die-laufer-altstadt/2026-01-31/
LOCATION:Johanniskirche Lauf\, Kirchenplatz 1\, Lauf\, 91207
CATEGORIES:Spaziergänge und Wanderungen
ORGANIZER;CN="Stadtf%C3%BChrer Lauf e. V.":MAILTO:stadtfuehrer@lauf.de
GEO:49.5112464;11.2798878
X-APPLE-STRUCTURED-LOCATION;VALUE=URI;X-ADDRESS=Johanniskirche Lauf Kirchenplatz 1 Lauf 91207;X-APPLE-RADIUS=500;X-TITLE=Kirchenplatz 1:geo:11.2798878,49.5112464
END:VEVENT
BEGIN:VEVENT
DTSTART;TZID=Europe/Berlin:20260124T140000
DTEND;TZID=Europe/Berlin:20260124T150000
DTSTAMP:20260420T161008
CREATED:20251128T130453Z
LAST-MODIFIED:20251128T130453Z
UID:10000673-1769263200-1769266800@service.magazin66.de
SUMMARY:Entdeckertour rund um die Laufer Altstadt
DESCRIPTION:Rundgang mit den Laufer Stadtführern. Treffpunkt ist die Infosäule der Burgenstraße an der Johanniskirche am Marktplatz. Teilnehmergebühr: 5 Euro (für Kinder unter 14 Jahren ist die Teilnahme kostenlos).
URL:https://service.magazin66.de/event/entdeckertour-rund-um-die-laufer-altstadt/2026-01-24/
LOCATION:Johanniskirche Lauf\, Kirchenplatz 1\, Lauf\, 91207
CATEGORIES:Spaziergänge und Wanderungen
ORGANIZER;CN="Stadtf%C3%BChrer Lauf e. V.":MAILTO:stadtfuehrer@lauf.de
GEO:49.5112464;11.2798878
X-APPLE-STRUCTURED-LOCATION;VALUE=URI;X-ADDRESS=Johanniskirche Lauf Kirchenplatz 1 Lauf 91207;X-APPLE-RADIUS=500;X-TITLE=Kirchenplatz 1:geo:11.2798878,49.5112464
END:VEVENT
BEGIN:VEVENT
DTSTART;TZID=Europe/Berlin:20260117T140000
DTEND;TZID=Europe/Berlin:20260117T150000
DTSTAMP:20260420T161008
CREATED:20251128T130453Z
LAST-MODIFIED:20251128T130453Z
UID:10000672-1768658400-1768662000@service.magazin66.de
SUMMARY:Entdeckertour rund um die Laufer Altstadt
DESCRIPTION:Rundgang mit den Laufer Stadtführern. Treffpunkt ist die Infosäule der Burgenstraße an der Johanniskirche am Marktplatz. Teilnehmergebühr: 5 Euro (für Kinder unter 14 Jahren ist die Teilnahme kostenlos).
URL:https://service.magazin66.de/event/entdeckertour-rund-um-die-laufer-altstadt/2026-01-17/
LOCATION:Johanniskirche Lauf\, Kirchenplatz 1\, Lauf\, 91207
CATEGORIES:Spaziergänge und Wanderungen
ORGANIZER;CN="Stadtf%C3%BChrer Lauf e. V.":MAILTO:stadtfuehrer@lauf.de
GEO:49.5112464;11.2798878
X-APPLE-STRUCTURED-LOCATION;VALUE=URI;X-ADDRESS=Johanniskirche Lauf Kirchenplatz 1 Lauf 91207;X-APPLE-RADIUS=500;X-TITLE=Kirchenplatz 1:geo:11.2798878,49.5112464
END:VEVENT
BEGIN:VEVENT
DTSTART;TZID=Europe/Berlin:20260110T140000
DTEND;TZID=Europe/Berlin:20260110T150000
DTSTAMP:20260420T161008
CREATED:20251128T130453Z
LAST-MODIFIED:20251128T130453Z
UID:10000671-1768053600-1768057200@service.magazin66.de
SUMMARY:Entdeckertour rund um die Laufer Altstadt
DESCRIPTION:Rundgang mit den Laufer Stadtführern. Treffpunkt ist die Infosäule der Burgenstraße an der Johanniskirche am Marktplatz. Teilnehmergebühr: 5 Euro (für Kinder unter 14 Jahren ist die Teilnahme kostenlos).
URL:https://service.magazin66.de/event/entdeckertour-rund-um-die-laufer-altstadt/2026-01-10/
LOCATION:Johanniskirche Lauf\, Kirchenplatz 1\, Lauf\, 91207
CATEGORIES:Spaziergänge und Wanderungen
ORGANIZER;CN="Stadtf%C3%BChrer Lauf e. V.":MAILTO:stadtfuehrer@lauf.de
GEO:49.5112464;11.2798878
X-APPLE-STRUCTURED-LOCATION;VALUE=URI;X-ADDRESS=Johanniskirche Lauf Kirchenplatz 1 Lauf 91207;X-APPLE-RADIUS=500;X-TITLE=Kirchenplatz 1:geo:11.2798878,49.5112464
END:VEVENT
BEGIN:VEVENT
DTSTART;TZID=Europe/Berlin:20260103T140000
DTEND;TZID=Europe/Berlin:20260103T150000
DTSTAMP:20260420T161008
CREATED:20251128T130453Z
LAST-MODIFIED:20251128T130453Z
UID:10000670-1767448800-1767452400@service.magazin66.de
SUMMARY:Entdeckertour rund um die Laufer Altstadt
DESCRIPTION:Rundgang mit den Laufer Stadtführern. Treffpunkt ist die Infosäule der Burgenstraße an der Johanniskirche am Marktplatz. Teilnehmergebühr: 5 Euro (für Kinder unter 14 Jahren ist die Teilnahme kostenlos).
URL:https://service.magazin66.de/event/entdeckertour-rund-um-die-laufer-altstadt/2026-01-03/
LOCATION:Johanniskirche Lauf\, Kirchenplatz 1\, Lauf\, 91207
CATEGORIES:Spaziergänge und Wanderungen
ORGANIZER;CN="Stadtf%C3%BChrer Lauf e. V.":MAILTO:stadtfuehrer@lauf.de
GEO:49.5112464;11.2798878
X-APPLE-STRUCTURED-LOCATION;VALUE=URI;X-ADDRESS=Johanniskirche Lauf Kirchenplatz 1 Lauf 91207;X-APPLE-RADIUS=500;X-TITLE=Kirchenplatz 1:geo:11.2798878,49.5112464
END:VEVENT
BEGIN:VEVENT
DTSTART;TZID=Europe/Berlin:20251227T140000
DTEND;TZID=Europe/Berlin:20251227T150000
DTSTAMP:20260420T161008
CREATED:20251128T130453Z
LAST-MODIFIED:20251128T130453Z
UID:10000669-1766844000-1766847600@service.magazin66.de
SUMMARY:Entdeckertour rund um die Laufer Altstadt
DESCRIPTION:Rundgang mit den Laufer Stadtführern. Treffpunkt ist die Infosäule der Burgenstraße an der Johanniskirche am Marktplatz. Teilnehmergebühr: 5 Euro (für Kinder unter 14 Jahren ist die Teilnahme kostenlos).
URL:https://service.magazin66.de/event/entdeckertour-rund-um-die-laufer-altstadt/2025-12-27/
LOCATION:Johanniskirche Lauf\, Kirchenplatz 1\, Lauf\, 91207
CATEGORIES:Spaziergänge und Wanderungen
ORGANIZER;CN="Stadtf%C3%BChrer Lauf e. V.":MAILTO:stadtfuehrer@lauf.de
GEO:49.5112464;11.2798878
X-APPLE-STRUCTURED-LOCATION;VALUE=URI;X-ADDRESS=Johanniskirche Lauf Kirchenplatz 1 Lauf 91207;X-APPLE-RADIUS=500;X-TITLE=Kirchenplatz 1:geo:11.2798878,49.5112464
END:VEVENT
BEGIN:VEVENT
DTSTART;TZID=Europe/Berlin:20251220T140000
DTEND;TZID=Europe/Berlin:20251220T150000
DTSTAMP:20260420T161008
CREATED:20251128T130453Z
LAST-MODIFIED:20251128T130453Z
UID:10000668-1766239200-1766242800@service.magazin66.de
SUMMARY:Entdeckertour rund um die Laufer Altstadt
DESCRIPTION:Rundgang mit den Laufer Stadtführern. Treffpunkt ist die Infosäule der Burgenstraße an der Johanniskirche am Marktplatz. Teilnehmergebühr: 5 Euro (für Kinder unter 14 Jahren ist die Teilnahme kostenlos).
URL:https://service.magazin66.de/event/entdeckertour-rund-um-die-laufer-altstadt/2025-12-20/
LOCATION:Johanniskirche Lauf\, Kirchenplatz 1\, Lauf\, 91207
CATEGORIES:Spaziergänge und Wanderungen
ORGANIZER;CN="Stadtf%C3%BChrer Lauf e. V.":MAILTO:stadtfuehrer@lauf.de
GEO:49.5112464;11.2798878
X-APPLE-STRUCTURED-LOCATION;VALUE=URI;X-ADDRESS=Johanniskirche Lauf Kirchenplatz 1 Lauf 91207;X-APPLE-RADIUS=500;X-TITLE=Kirchenplatz 1:geo:11.2798878,49.5112464
END:VEVENT
BEGIN:VEVENT
DTSTART;TZID=Europe/Berlin:20251213T140000
DTEND;TZID=Europe/Berlin:20251213T150000
DTSTAMP:20260420T161008
CREATED:20251128T130453Z
LAST-MODIFIED:20251128T130453Z
UID:10000667-1765634400-1765638000@service.magazin66.de
SUMMARY:Entdeckertour rund um die Laufer Altstadt
DESCRIPTION:Rundgang mit den Laufer Stadtführern. Treffpunkt ist die Infosäule der Burgenstraße an der Johanniskirche am Marktplatz. Teilnehmergebühr: 5 Euro (für Kinder unter 14 Jahren ist die Teilnahme kostenlos).
URL:https://service.magazin66.de/event/entdeckertour-rund-um-die-laufer-altstadt/2025-12-13/
LOCATION:Johanniskirche Lauf\, Kirchenplatz 1\, Lauf\, 91207
CATEGORIES:Spaziergänge und Wanderungen
ORGANIZER;CN="Stadtf%C3%BChrer Lauf e. V.":MAILTO:stadtfuehrer@lauf.de
GEO:49.5112464;11.2798878
X-APPLE-STRUCTURED-LOCATION;VALUE=URI;X-ADDRESS=Johanniskirche Lauf Kirchenplatz 1 Lauf 91207;X-APPLE-RADIUS=500;X-TITLE=Kirchenplatz 1:geo:11.2798878,49.5112464
END:VEVENT
BEGIN:VEVENT
DTSTART;TZID=Europe/Berlin:20251206T140000
DTEND;TZID=Europe/Berlin:20251206T150000
DTSTAMP:20260420T161008
CREATED:20251128T130453Z
LAST-MODIFIED:20251128T130453Z
UID:10000666-1765029600-1765033200@service.magazin66.de
SUMMARY:Entdeckertour rund um die Laufer Altstadt
DESCRIPTION:Rundgang mit den Laufer Stadtführern. Treffpunkt ist die Infosäule der Burgenstraße an der Johanniskirche am Marktplatz. Teilnehmergebühr: 5 Euro (für Kinder unter 14 Jahren ist die Teilnahme kostenlos).
URL:https://service.magazin66.de/event/entdeckertour-rund-um-die-laufer-altstadt/2025-12-06/
LOCATION:Johanniskirche Lauf\, Kirchenplatz 1\, Lauf\, 91207
CATEGORIES:Spaziergänge und Wanderungen
ORGANIZER;CN="Stadtf%C3%BChrer Lauf e. V.":MAILTO:stadtfuehrer@lauf.de
GEO:49.5112464;11.2798878
X-APPLE-STRUCTURED-LOCATION;VALUE=URI;X-ADDRESS=Johanniskirche Lauf Kirchenplatz 1 Lauf 91207;X-APPLE-RADIUS=500;X-TITLE=Kirchenplatz 1:geo:11.2798878,49.5112464
END:VEVENT
END:VCALENDAR