BEGIN:VCALENDAR
VERSION:2.0
PRODID:-//Service Magazin sechs+sechzig - ECPv6.15.18//NONSGML v1.0//EN
CALSCALE:GREGORIAN
METHOD:PUBLISH
X-WR-CALNAME:Service Magazin sechs+sechzig
X-ORIGINAL-URL:https://service.magazin66.de
X-WR-CALDESC:Veranstaltungen für Service Magazin sechs+sechzig
REFRESH-INTERVAL;VALUE=DURATION:PT1H
X-Robots-Tag:noindex
X-PUBLISHED-TTL:PT1H
BEGIN:VTIMEZONE
TZID:Europe/Berlin
BEGIN:DAYLIGHT
TZOFFSETFROM:+0100
TZOFFSETTO:+0200
TZNAME:CEST
DTSTART:20240331T010000
END:DAYLIGHT
BEGIN:STANDARD
TZOFFSETFROM:+0200
TZOFFSETTO:+0100
TZNAME:CET
DTSTART:20241027T010000
END:STANDARD
BEGIN:DAYLIGHT
TZOFFSETFROM:+0100
TZOFFSETTO:+0200
TZNAME:CEST
DTSTART:20250330T010000
END:DAYLIGHT
BEGIN:STANDARD
TZOFFSETFROM:+0200
TZOFFSETTO:+0100
TZNAME:CET
DTSTART:20251026T010000
END:STANDARD
BEGIN:DAYLIGHT
TZOFFSETFROM:+0100
TZOFFSETTO:+0200
TZNAME:CEST
DTSTART:20260329T010000
END:DAYLIGHT
BEGIN:STANDARD
TZOFFSETFROM:+0200
TZOFFSETTO:+0100
TZNAME:CET
DTSTART:20261025T010000
END:STANDARD
BEGIN:DAYLIGHT
TZOFFSETFROM:+0100
TZOFFSETTO:+0200
TZNAME:CEST
DTSTART:20270328T010000
END:DAYLIGHT
BEGIN:STANDARD
TZOFFSETFROM:+0200
TZOFFSETTO:+0100
TZNAME:CET
DTSTART:20271031T010000
END:STANDARD
END:VTIMEZONE
BEGIN:VEVENT
DTSTART;TZID=Europe/Berlin:20260417T100000
DTEND;TZID=Europe/Berlin:20260417T120000
DTSTAMP:20260420T192437
CREATED:20251128T164728Z
LAST-MODIFIED:20251128T164728Z
UID:10000839-1776420000-1776427200@service.magazin66.de
SUMMARY:Walk & Talk
DESCRIPTION:Spaziergang (ca. 1\,5 – 2 Stunden) und Austausch. Treffpunkt: Jeden Mittwoch um 10 Uhr am Bahnhof Altdorf. Ohne Anmeldung.
URL:https://service.magazin66.de/event/walk-talk/2026-04-17/
LOCATION:Bahnhof Altdorf\, Bahnhofstr. 20\, Altdorf\, 90518
CATEGORIES:Spaziergänge und Wanderungen
GEO:49.3892515;11.3530281
X-APPLE-STRUCTURED-LOCATION;VALUE=URI;X-ADDRESS=Bahnhof Altdorf Bahnhofstr. 20 Altdorf 90518;X-APPLE-RADIUS=500;X-TITLE=Bahnhofstr. 20:geo:11.3530281,49.3892515
END:VEVENT
BEGIN:VEVENT
DTSTART;TZID=Europe/Berlin:20260410T100000
DTEND;TZID=Europe/Berlin:20260410T120000
DTSTAMP:20260420T192437
CREATED:20251128T164728Z
LAST-MODIFIED:20251128T164728Z
UID:10000838-1775815200-1775822400@service.magazin66.de
SUMMARY:Walk & Talk
DESCRIPTION:Spaziergang (ca. 1\,5 – 2 Stunden) und Austausch. Treffpunkt: Jeden Mittwoch um 10 Uhr am Bahnhof Altdorf. Ohne Anmeldung.
URL:https://service.magazin66.de/event/walk-talk/2026-04-10/
LOCATION:Bahnhof Altdorf\, Bahnhofstr. 20\, Altdorf\, 90518
CATEGORIES:Spaziergänge und Wanderungen
GEO:49.3892515;11.3530281
X-APPLE-STRUCTURED-LOCATION;VALUE=URI;X-ADDRESS=Bahnhof Altdorf Bahnhofstr. 20 Altdorf 90518;X-APPLE-RADIUS=500;X-TITLE=Bahnhofstr. 20:geo:11.3530281,49.3892515
END:VEVENT
BEGIN:VEVENT
DTSTART;TZID=Europe/Berlin:20260403T100000
DTEND;TZID=Europe/Berlin:20260403T120000
DTSTAMP:20260420T192437
CREATED:20251128T164728Z
LAST-MODIFIED:20251128T164728Z
UID:10000837-1775210400-1775217600@service.magazin66.de
SUMMARY:Walk & Talk
DESCRIPTION:Spaziergang (ca. 1\,5 – 2 Stunden) und Austausch. Treffpunkt: Jeden Mittwoch um 10 Uhr am Bahnhof Altdorf. Ohne Anmeldung.
URL:https://service.magazin66.de/event/walk-talk/2026-04-03/
LOCATION:Bahnhof Altdorf\, Bahnhofstr. 20\, Altdorf\, 90518
CATEGORIES:Spaziergänge und Wanderungen
GEO:49.3892515;11.3530281
X-APPLE-STRUCTURED-LOCATION;VALUE=URI;X-ADDRESS=Bahnhof Altdorf Bahnhofstr. 20 Altdorf 90518;X-APPLE-RADIUS=500;X-TITLE=Bahnhofstr. 20:geo:11.3530281,49.3892515
END:VEVENT
BEGIN:VEVENT
DTSTART;TZID=Europe/Berlin:20260327T100000
DTEND;TZID=Europe/Berlin:20260327T120000
DTSTAMP:20260420T192437
CREATED:20251128T164728Z
LAST-MODIFIED:20251128T164728Z
UID:10000836-1774605600-1774612800@service.magazin66.de
SUMMARY:Walk & Talk
DESCRIPTION:Spaziergang (ca. 1\,5 – 2 Stunden) und Austausch. Treffpunkt: Jeden Mittwoch um 10 Uhr am Bahnhof Altdorf. Ohne Anmeldung.
URL:https://service.magazin66.de/event/walk-talk/2026-03-27/
LOCATION:Bahnhof Altdorf\, Bahnhofstr. 20\, Altdorf\, 90518
CATEGORIES:Spaziergänge und Wanderungen
GEO:49.3892515;11.3530281
X-APPLE-STRUCTURED-LOCATION;VALUE=URI;X-ADDRESS=Bahnhof Altdorf Bahnhofstr. 20 Altdorf 90518;X-APPLE-RADIUS=500;X-TITLE=Bahnhofstr. 20:geo:11.3530281,49.3892515
END:VEVENT
BEGIN:VEVENT
DTSTART;TZID=Europe/Berlin:20260320T100000
DTEND;TZID=Europe/Berlin:20260320T120000
DTSTAMP:20260420T192437
CREATED:20251128T164728Z
LAST-MODIFIED:20251128T164728Z
UID:10000835-1774000800-1774008000@service.magazin66.de
SUMMARY:Walk & Talk
DESCRIPTION:Spaziergang (ca. 1\,5 – 2 Stunden) und Austausch. Treffpunkt: Jeden Mittwoch um 10 Uhr am Bahnhof Altdorf. Ohne Anmeldung.
URL:https://service.magazin66.de/event/walk-talk/2026-03-20/
LOCATION:Bahnhof Altdorf\, Bahnhofstr. 20\, Altdorf\, 90518
CATEGORIES:Spaziergänge und Wanderungen
GEO:49.3892515;11.3530281
X-APPLE-STRUCTURED-LOCATION;VALUE=URI;X-ADDRESS=Bahnhof Altdorf Bahnhofstr. 20 Altdorf 90518;X-APPLE-RADIUS=500;X-TITLE=Bahnhofstr. 20:geo:11.3530281,49.3892515
END:VEVENT
BEGIN:VEVENT
DTSTART;TZID=Europe/Berlin:20260313T100000
DTEND;TZID=Europe/Berlin:20260313T120000
DTSTAMP:20260420T192437
CREATED:20251128T164728Z
LAST-MODIFIED:20251128T164728Z
UID:10000834-1773396000-1773403200@service.magazin66.de
SUMMARY:Walk & Talk
DESCRIPTION:Spaziergang (ca. 1\,5 – 2 Stunden) und Austausch. Treffpunkt: Jeden Mittwoch um 10 Uhr am Bahnhof Altdorf. Ohne Anmeldung.
URL:https://service.magazin66.de/event/walk-talk/2026-03-13/
LOCATION:Bahnhof Altdorf\, Bahnhofstr. 20\, Altdorf\, 90518
CATEGORIES:Spaziergänge und Wanderungen
GEO:49.3892515;11.3530281
X-APPLE-STRUCTURED-LOCATION;VALUE=URI;X-ADDRESS=Bahnhof Altdorf Bahnhofstr. 20 Altdorf 90518;X-APPLE-RADIUS=500;X-TITLE=Bahnhofstr. 20:geo:11.3530281,49.3892515
END:VEVENT
BEGIN:VEVENT
DTSTART;TZID=Europe/Berlin:20260306T100000
DTEND;TZID=Europe/Berlin:20260306T120000
DTSTAMP:20260420T192437
CREATED:20251128T164728Z
LAST-MODIFIED:20251128T164728Z
UID:10000833-1772791200-1772798400@service.magazin66.de
SUMMARY:Walk & Talk
DESCRIPTION:Spaziergang (ca. 1\,5 – 2 Stunden) und Austausch. Treffpunkt: Jeden Mittwoch um 10 Uhr am Bahnhof Altdorf. Ohne Anmeldung.
URL:https://service.magazin66.de/event/walk-talk/2026-03-06/
LOCATION:Bahnhof Altdorf\, Bahnhofstr. 20\, Altdorf\, 90518
CATEGORIES:Spaziergänge und Wanderungen
GEO:49.3892515;11.3530281
X-APPLE-STRUCTURED-LOCATION;VALUE=URI;X-ADDRESS=Bahnhof Altdorf Bahnhofstr. 20 Altdorf 90518;X-APPLE-RADIUS=500;X-TITLE=Bahnhofstr. 20:geo:11.3530281,49.3892515
END:VEVENT
BEGIN:VEVENT
DTSTART;TZID=Europe/Berlin:20260227T100000
DTEND;TZID=Europe/Berlin:20260227T120000
DTSTAMP:20260420T192437
CREATED:20251128T164728Z
LAST-MODIFIED:20251128T164728Z
UID:10000832-1772186400-1772193600@service.magazin66.de
SUMMARY:Walk & Talk
DESCRIPTION:Spaziergang (ca. 1\,5 – 2 Stunden) und Austausch. Treffpunkt: Jeden Mittwoch um 10 Uhr am Bahnhof Altdorf. Ohne Anmeldung.
URL:https://service.magazin66.de/event/walk-talk/2026-02-27/
LOCATION:Bahnhof Altdorf\, Bahnhofstr. 20\, Altdorf\, 90518
CATEGORIES:Spaziergänge und Wanderungen
GEO:49.3892515;11.3530281
X-APPLE-STRUCTURED-LOCATION;VALUE=URI;X-ADDRESS=Bahnhof Altdorf Bahnhofstr. 20 Altdorf 90518;X-APPLE-RADIUS=500;X-TITLE=Bahnhofstr. 20:geo:11.3530281,49.3892515
END:VEVENT
BEGIN:VEVENT
DTSTART;TZID=Europe/Berlin:20260220T100000
DTEND;TZID=Europe/Berlin:20260220T120000
DTSTAMP:20260420T192437
CREATED:20251128T164728Z
LAST-MODIFIED:20251128T164728Z
UID:10000831-1771581600-1771588800@service.magazin66.de
SUMMARY:Walk & Talk
DESCRIPTION:Spaziergang (ca. 1\,5 – 2 Stunden) und Austausch. Treffpunkt: Jeden Mittwoch um 10 Uhr am Bahnhof Altdorf. Ohne Anmeldung.
URL:https://service.magazin66.de/event/walk-talk/2026-02-20/
LOCATION:Bahnhof Altdorf\, Bahnhofstr. 20\, Altdorf\, 90518
CATEGORIES:Spaziergänge und Wanderungen
GEO:49.3892515;11.3530281
X-APPLE-STRUCTURED-LOCATION;VALUE=URI;X-ADDRESS=Bahnhof Altdorf Bahnhofstr. 20 Altdorf 90518;X-APPLE-RADIUS=500;X-TITLE=Bahnhofstr. 20:geo:11.3530281,49.3892515
END:VEVENT
BEGIN:VEVENT
DTSTART;TZID=Europe/Berlin:20260213T100000
DTEND;TZID=Europe/Berlin:20260213T120000
DTSTAMP:20260420T192437
CREATED:20251128T164728Z
LAST-MODIFIED:20251128T164728Z
UID:10000830-1770976800-1770984000@service.magazin66.de
SUMMARY:Walk & Talk
DESCRIPTION:Spaziergang (ca. 1\,5 – 2 Stunden) und Austausch. Treffpunkt: Jeden Mittwoch um 10 Uhr am Bahnhof Altdorf. Ohne Anmeldung.
URL:https://service.magazin66.de/event/walk-talk/2026-02-13/
LOCATION:Bahnhof Altdorf\, Bahnhofstr. 20\, Altdorf\, 90518
CATEGORIES:Spaziergänge und Wanderungen
GEO:49.3892515;11.3530281
X-APPLE-STRUCTURED-LOCATION;VALUE=URI;X-ADDRESS=Bahnhof Altdorf Bahnhofstr. 20 Altdorf 90518;X-APPLE-RADIUS=500;X-TITLE=Bahnhofstr. 20:geo:11.3530281,49.3892515
END:VEVENT
BEGIN:VEVENT
DTSTART;TZID=Europe/Berlin:20260206T100000
DTEND;TZID=Europe/Berlin:20260206T120000
DTSTAMP:20260420T192437
CREATED:20251128T164728Z
LAST-MODIFIED:20251128T164728Z
UID:10000829-1770372000-1770379200@service.magazin66.de
SUMMARY:Walk & Talk
DESCRIPTION:Spaziergang (ca. 1\,5 – 2 Stunden) und Austausch. Treffpunkt: Jeden Mittwoch um 10 Uhr am Bahnhof Altdorf. Ohne Anmeldung.
URL:https://service.magazin66.de/event/walk-talk/2026-02-06/
LOCATION:Bahnhof Altdorf\, Bahnhofstr. 20\, Altdorf\, 90518
CATEGORIES:Spaziergänge und Wanderungen
GEO:49.3892515;11.3530281
X-APPLE-STRUCTURED-LOCATION;VALUE=URI;X-ADDRESS=Bahnhof Altdorf Bahnhofstr. 20 Altdorf 90518;X-APPLE-RADIUS=500;X-TITLE=Bahnhofstr. 20:geo:11.3530281,49.3892515
END:VEVENT
BEGIN:VEVENT
DTSTART;TZID=Europe/Berlin:20260130T100000
DTEND;TZID=Europe/Berlin:20260130T120000
DTSTAMP:20260420T192437
CREATED:20251128T164728Z
LAST-MODIFIED:20251128T164728Z
UID:10000828-1769767200-1769774400@service.magazin66.de
SUMMARY:Walk & Talk
DESCRIPTION:Spaziergang (ca. 1\,5 – 2 Stunden) und Austausch. Treffpunkt: Jeden Mittwoch um 10 Uhr am Bahnhof Altdorf. Ohne Anmeldung.
URL:https://service.magazin66.de/event/walk-talk/2026-01-30/
LOCATION:Bahnhof Altdorf\, Bahnhofstr. 20\, Altdorf\, 90518
CATEGORIES:Spaziergänge und Wanderungen
GEO:49.3892515;11.3530281
X-APPLE-STRUCTURED-LOCATION;VALUE=URI;X-ADDRESS=Bahnhof Altdorf Bahnhofstr. 20 Altdorf 90518;X-APPLE-RADIUS=500;X-TITLE=Bahnhofstr. 20:geo:11.3530281,49.3892515
END:VEVENT
BEGIN:VEVENT
DTSTART;TZID=Europe/Berlin:20260123T100000
DTEND;TZID=Europe/Berlin:20260123T120000
DTSTAMP:20260420T192437
CREATED:20251128T164728Z
LAST-MODIFIED:20251128T164728Z
UID:10000827-1769162400-1769169600@service.magazin66.de
SUMMARY:Walk & Talk
DESCRIPTION:Spaziergang (ca. 1\,5 – 2 Stunden) und Austausch. Treffpunkt: Jeden Mittwoch um 10 Uhr am Bahnhof Altdorf. Ohne Anmeldung.
URL:https://service.magazin66.de/event/walk-talk/2026-01-23/
LOCATION:Bahnhof Altdorf\, Bahnhofstr. 20\, Altdorf\, 90518
CATEGORIES:Spaziergänge und Wanderungen
GEO:49.3892515;11.3530281
X-APPLE-STRUCTURED-LOCATION;VALUE=URI;X-ADDRESS=Bahnhof Altdorf Bahnhofstr. 20 Altdorf 90518;X-APPLE-RADIUS=500;X-TITLE=Bahnhofstr. 20:geo:11.3530281,49.3892515
END:VEVENT
BEGIN:VEVENT
DTSTART;TZID=Europe/Berlin:20260116T100000
DTEND;TZID=Europe/Berlin:20260116T120000
DTSTAMP:20260420T192437
CREATED:20251128T164728Z
LAST-MODIFIED:20251128T164728Z
UID:10000826-1768557600-1768564800@service.magazin66.de
SUMMARY:Walk & Talk
DESCRIPTION:Spaziergang (ca. 1\,5 – 2 Stunden) und Austausch. Treffpunkt: Jeden Mittwoch um 10 Uhr am Bahnhof Altdorf. Ohne Anmeldung.
URL:https://service.magazin66.de/event/walk-talk/2026-01-16/
LOCATION:Bahnhof Altdorf\, Bahnhofstr. 20\, Altdorf\, 90518
CATEGORIES:Spaziergänge und Wanderungen
GEO:49.3892515;11.3530281
X-APPLE-STRUCTURED-LOCATION;VALUE=URI;X-ADDRESS=Bahnhof Altdorf Bahnhofstr. 20 Altdorf 90518;X-APPLE-RADIUS=500;X-TITLE=Bahnhofstr. 20:geo:11.3530281,49.3892515
END:VEVENT
BEGIN:VEVENT
DTSTART;TZID=Europe/Berlin:20260109T100000
DTEND;TZID=Europe/Berlin:20260109T120000
DTSTAMP:20260420T192437
CREATED:20251128T164728Z
LAST-MODIFIED:20251128T164728Z
UID:10000825-1767952800-1767960000@service.magazin66.de
SUMMARY:Walk & Talk
DESCRIPTION:Spaziergang (ca. 1\,5 – 2 Stunden) und Austausch. Treffpunkt: Jeden Mittwoch um 10 Uhr am Bahnhof Altdorf. Ohne Anmeldung.
URL:https://service.magazin66.de/event/walk-talk/2026-01-09/
LOCATION:Bahnhof Altdorf\, Bahnhofstr. 20\, Altdorf\, 90518
CATEGORIES:Spaziergänge und Wanderungen
GEO:49.3892515;11.3530281
X-APPLE-STRUCTURED-LOCATION;VALUE=URI;X-ADDRESS=Bahnhof Altdorf Bahnhofstr. 20 Altdorf 90518;X-APPLE-RADIUS=500;X-TITLE=Bahnhofstr. 20:geo:11.3530281,49.3892515
END:VEVENT
BEGIN:VEVENT
DTSTART;TZID=Europe/Berlin:20260102T100000
DTEND;TZID=Europe/Berlin:20260102T120000
DTSTAMP:20260420T192437
CREATED:20251128T164728Z
LAST-MODIFIED:20251128T164728Z
UID:10000824-1767348000-1767355200@service.magazin66.de
SUMMARY:Walk & Talk
DESCRIPTION:Spaziergang (ca. 1\,5 – 2 Stunden) und Austausch. Treffpunkt: Jeden Mittwoch um 10 Uhr am Bahnhof Altdorf. Ohne Anmeldung.
URL:https://service.magazin66.de/event/walk-talk/2026-01-02/
LOCATION:Bahnhof Altdorf\, Bahnhofstr. 20\, Altdorf\, 90518
CATEGORIES:Spaziergänge und Wanderungen
GEO:49.3892515;11.3530281
X-APPLE-STRUCTURED-LOCATION;VALUE=URI;X-ADDRESS=Bahnhof Altdorf Bahnhofstr. 20 Altdorf 90518;X-APPLE-RADIUS=500;X-TITLE=Bahnhofstr. 20:geo:11.3530281,49.3892515
END:VEVENT
BEGIN:VEVENT
DTSTART;TZID=Europe/Berlin:20251226T100000
DTEND;TZID=Europe/Berlin:20251226T120000
DTSTAMP:20260420T192437
CREATED:20251128T164728Z
LAST-MODIFIED:20251128T164728Z
UID:10000823-1766743200-1766750400@service.magazin66.de
SUMMARY:Walk & Talk
DESCRIPTION:Spaziergang (ca. 1\,5 – 2 Stunden) und Austausch. Treffpunkt: Jeden Mittwoch um 10 Uhr am Bahnhof Altdorf. Ohne Anmeldung.
URL:https://service.magazin66.de/event/walk-talk/2025-12-26/
LOCATION:Bahnhof Altdorf\, Bahnhofstr. 20\, Altdorf\, 90518
CATEGORIES:Spaziergänge und Wanderungen
GEO:49.3892515;11.3530281
X-APPLE-STRUCTURED-LOCATION;VALUE=URI;X-ADDRESS=Bahnhof Altdorf Bahnhofstr. 20 Altdorf 90518;X-APPLE-RADIUS=500;X-TITLE=Bahnhofstr. 20:geo:11.3530281,49.3892515
END:VEVENT
BEGIN:VEVENT
DTSTART;TZID=Europe/Berlin:20251219T100000
DTEND;TZID=Europe/Berlin:20251219T120000
DTSTAMP:20260420T192437
CREATED:20251128T164728Z
LAST-MODIFIED:20251128T164728Z
UID:10000822-1766138400-1766145600@service.magazin66.de
SUMMARY:Walk & Talk
DESCRIPTION:Spaziergang (ca. 1\,5 – 2 Stunden) und Austausch. Treffpunkt: Jeden Mittwoch um 10 Uhr am Bahnhof Altdorf. Ohne Anmeldung.
URL:https://service.magazin66.de/event/walk-talk/2025-12-19/
LOCATION:Bahnhof Altdorf\, Bahnhofstr. 20\, Altdorf\, 90518
CATEGORIES:Spaziergänge und Wanderungen
GEO:49.3892515;11.3530281
X-APPLE-STRUCTURED-LOCATION;VALUE=URI;X-ADDRESS=Bahnhof Altdorf Bahnhofstr. 20 Altdorf 90518;X-APPLE-RADIUS=500;X-TITLE=Bahnhofstr. 20:geo:11.3530281,49.3892515
END:VEVENT
BEGIN:VEVENT
DTSTART;TZID=Europe/Berlin:20251212T100000
DTEND;TZID=Europe/Berlin:20251212T120000
DTSTAMP:20260420T192437
CREATED:20251128T164728Z
LAST-MODIFIED:20251128T164728Z
UID:10000821-1765533600-1765540800@service.magazin66.de
SUMMARY:Walk & Talk
DESCRIPTION:Spaziergang (ca. 1\,5 – 2 Stunden) und Austausch. Treffpunkt: Jeden Mittwoch um 10 Uhr am Bahnhof Altdorf. Ohne Anmeldung.
URL:https://service.magazin66.de/event/walk-talk/2025-12-12/
LOCATION:Bahnhof Altdorf\, Bahnhofstr. 20\, Altdorf\, 90518
CATEGORIES:Spaziergänge und Wanderungen
GEO:49.3892515;11.3530281
X-APPLE-STRUCTURED-LOCATION;VALUE=URI;X-ADDRESS=Bahnhof Altdorf Bahnhofstr. 20 Altdorf 90518;X-APPLE-RADIUS=500;X-TITLE=Bahnhofstr. 20:geo:11.3530281,49.3892515
END:VEVENT
BEGIN:VEVENT
DTSTART;TZID=Europe/Berlin:20251205T100000
DTEND;TZID=Europe/Berlin:20251205T120000
DTSTAMP:20260420T192437
CREATED:20251128T164728Z
LAST-MODIFIED:20251128T164728Z
UID:10000820-1764928800-1764936000@service.magazin66.de
SUMMARY:Walk & Talk
DESCRIPTION:Spaziergang (ca. 1\,5 – 2 Stunden) und Austausch. Treffpunkt: Jeden Mittwoch um 10 Uhr am Bahnhof Altdorf. Ohne Anmeldung.
URL:https://service.magazin66.de/event/walk-talk/2025-12-05/
LOCATION:Bahnhof Altdorf\, Bahnhofstr. 20\, Altdorf\, 90518
CATEGORIES:Spaziergänge und Wanderungen
GEO:49.3892515;11.3530281
X-APPLE-STRUCTURED-LOCATION;VALUE=URI;X-ADDRESS=Bahnhof Altdorf Bahnhofstr. 20 Altdorf 90518;X-APPLE-RADIUS=500;X-TITLE=Bahnhofstr. 20:geo:11.3530281,49.3892515
END:VEVENT
BEGIN:VEVENT
DTSTART;TZID=Europe/Berlin:20251128T100000
DTEND;TZID=Europe/Berlin:20251128T120000
DTSTAMP:20260420T192437
CREATED:20251128T164728Z
LAST-MODIFIED:20251128T164728Z
UID:10000819-1764324000-1764331200@service.magazin66.de
SUMMARY:Walk & Talk
DESCRIPTION:Spaziergang (ca. 1\,5 – 2 Stunden) und Austausch. Treffpunkt: Jeden Mittwoch um 10 Uhr am Bahnhof Altdorf. Ohne Anmeldung.
URL:https://service.magazin66.de/event/walk-talk/2025-11-28/
LOCATION:Bahnhof Altdorf\, Bahnhofstr. 20\, Altdorf\, 90518
CATEGORIES:Spaziergänge und Wanderungen
GEO:49.3892515;11.3530281
X-APPLE-STRUCTURED-LOCATION;VALUE=URI;X-ADDRESS=Bahnhof Altdorf Bahnhofstr. 20 Altdorf 90518;X-APPLE-RADIUS=500;X-TITLE=Bahnhofstr. 20:geo:11.3530281,49.3892515
END:VEVENT
END:VCALENDAR