BEGIN:VCALENDAR
VERSION:2.0
PRODID:-//Service Magazin sechs+sechzig - ECPv6.15.18//NONSGML v1.0//EN
CALSCALE:GREGORIAN
METHOD:PUBLISH
X-WR-CALNAME:Service Magazin sechs+sechzig
X-ORIGINAL-URL:https://service.magazin66.de
X-WR-CALDESC:Veranstaltungen für Service Magazin sechs+sechzig
REFRESH-INTERVAL;VALUE=DURATION:PT1H
X-Robots-Tag:noindex
X-PUBLISHED-TTL:PT1H
BEGIN:VTIMEZONE
TZID:Europe/Berlin
BEGIN:DAYLIGHT
TZOFFSETFROM:+0100
TZOFFSETTO:+0200
TZNAME:CEST
DTSTART:20240331T010000
END:DAYLIGHT
BEGIN:STANDARD
TZOFFSETFROM:+0200
TZOFFSETTO:+0100
TZNAME:CET
DTSTART:20241027T010000
END:STANDARD
BEGIN:DAYLIGHT
TZOFFSETFROM:+0100
TZOFFSETTO:+0200
TZNAME:CEST
DTSTART:20250330T010000
END:DAYLIGHT
BEGIN:STANDARD
TZOFFSETFROM:+0200
TZOFFSETTO:+0100
TZNAME:CET
DTSTART:20251026T010000
END:STANDARD
BEGIN:DAYLIGHT
TZOFFSETFROM:+0100
TZOFFSETTO:+0200
TZNAME:CEST
DTSTART:20260329T010000
END:DAYLIGHT
BEGIN:STANDARD
TZOFFSETFROM:+0200
TZOFFSETTO:+0100
TZNAME:CET
DTSTART:20261025T010000
END:STANDARD
BEGIN:DAYLIGHT
TZOFFSETFROM:+0100
TZOFFSETTO:+0200
TZNAME:CEST
DTSTART:20270328T010000
END:DAYLIGHT
BEGIN:STANDARD
TZOFFSETFROM:+0200
TZOFFSETTO:+0100
TZNAME:CET
DTSTART:20271031T010000
END:STANDARD
END:VTIMEZONE
BEGIN:VEVENT
DTSTART;TZID=Europe/Berlin:20260329T140000
DTEND;TZID=Europe/Berlin:20260329T180000
DTSTAMP:20260420T194139
CREATED:20251127T110314Z
LAST-MODIFIED:20251127T110314Z
UID:10000420-1774792800-1774807200@service.magazin66.de
SUMMARY:Spielenachmittag für Alle
DESCRIPTION:
URL:https://service.magazin66.de/event/spielenachmittag-fuer-alle/2026-03-29/
LOCATION:Haus des Spiels im Pellerhaus\, Egidienplatz 23\, Nürnberg\, 90403
CATEGORIES:Unterwegs mit Enkeln
GEO:49.4569076;11.081009
X-APPLE-STRUCTURED-LOCATION;VALUE=URI;X-ADDRESS=Haus des Spiels im Pellerhaus Egidienplatz 23 Nürnberg 90403;X-APPLE-RADIUS=500;X-TITLE=Egidienplatz 23:geo:11.081009,49.4569076
END:VEVENT
BEGIN:VEVENT
DTSTART;TZID=Europe/Berlin:20260322T140000
DTEND;TZID=Europe/Berlin:20260322T180000
DTSTAMP:20260420T194139
CREATED:20251127T110314Z
LAST-MODIFIED:20251127T110314Z
UID:10000419-1774188000-1774202400@service.magazin66.de
SUMMARY:Spielenachmittag für Alle
DESCRIPTION:
URL:https://service.magazin66.de/event/spielenachmittag-fuer-alle/2026-03-22/
LOCATION:Haus des Spiels im Pellerhaus\, Egidienplatz 23\, Nürnberg\, 90403
CATEGORIES:Unterwegs mit Enkeln
GEO:49.4569076;11.081009
X-APPLE-STRUCTURED-LOCATION;VALUE=URI;X-ADDRESS=Haus des Spiels im Pellerhaus Egidienplatz 23 Nürnberg 90403;X-APPLE-RADIUS=500;X-TITLE=Egidienplatz 23:geo:11.081009,49.4569076
END:VEVENT
BEGIN:VEVENT
DTSTART;TZID=Europe/Berlin:20260315T140000
DTEND;TZID=Europe/Berlin:20260315T180000
DTSTAMP:20260420T194139
CREATED:20251127T110314Z
LAST-MODIFIED:20251127T110314Z
UID:10000418-1773583200-1773597600@service.magazin66.de
SUMMARY:Spielenachmittag für Alle
DESCRIPTION:
URL:https://service.magazin66.de/event/spielenachmittag-fuer-alle/2026-03-15/
LOCATION:Haus des Spiels im Pellerhaus\, Egidienplatz 23\, Nürnberg\, 90403
CATEGORIES:Unterwegs mit Enkeln
GEO:49.4569076;11.081009
X-APPLE-STRUCTURED-LOCATION;VALUE=URI;X-ADDRESS=Haus des Spiels im Pellerhaus Egidienplatz 23 Nürnberg 90403;X-APPLE-RADIUS=500;X-TITLE=Egidienplatz 23:geo:11.081009,49.4569076
END:VEVENT
BEGIN:VEVENT
DTSTART;TZID=Europe/Berlin:20260308T140000
DTEND;TZID=Europe/Berlin:20260308T180000
DTSTAMP:20260420T194139
CREATED:20251127T110314Z
LAST-MODIFIED:20251127T110314Z
UID:10000417-1772978400-1772992800@service.magazin66.de
SUMMARY:Spielenachmittag für Alle
DESCRIPTION:
URL:https://service.magazin66.de/event/spielenachmittag-fuer-alle/2026-03-08/
LOCATION:Haus des Spiels im Pellerhaus\, Egidienplatz 23\, Nürnberg\, 90403
CATEGORIES:Unterwegs mit Enkeln
GEO:49.4569076;11.081009
X-APPLE-STRUCTURED-LOCATION;VALUE=URI;X-ADDRESS=Haus des Spiels im Pellerhaus Egidienplatz 23 Nürnberg 90403;X-APPLE-RADIUS=500;X-TITLE=Egidienplatz 23:geo:11.081009,49.4569076
END:VEVENT
BEGIN:VEVENT
DTSTART;TZID=Europe/Berlin:20260301T140000
DTEND;TZID=Europe/Berlin:20260301T180000
DTSTAMP:20260420T194139
CREATED:20251127T110314Z
LAST-MODIFIED:20251127T110314Z
UID:10000416-1772373600-1772388000@service.magazin66.de
SUMMARY:Spielenachmittag für Alle
DESCRIPTION:
URL:https://service.magazin66.de/event/spielenachmittag-fuer-alle/2026-03-01/
LOCATION:Haus des Spiels im Pellerhaus\, Egidienplatz 23\, Nürnberg\, 90403
CATEGORIES:Unterwegs mit Enkeln
GEO:49.4569076;11.081009
X-APPLE-STRUCTURED-LOCATION;VALUE=URI;X-ADDRESS=Haus des Spiels im Pellerhaus Egidienplatz 23 Nürnberg 90403;X-APPLE-RADIUS=500;X-TITLE=Egidienplatz 23:geo:11.081009,49.4569076
END:VEVENT
BEGIN:VEVENT
DTSTART;TZID=Europe/Berlin:20260222T140000
DTEND;TZID=Europe/Berlin:20260222T180000
DTSTAMP:20260420T194139
CREATED:20251127T110314Z
LAST-MODIFIED:20251127T110314Z
UID:10000415-1771768800-1771783200@service.magazin66.de
SUMMARY:Spielenachmittag für Alle
DESCRIPTION:
URL:https://service.magazin66.de/event/spielenachmittag-fuer-alle/2026-02-22/
LOCATION:Haus des Spiels im Pellerhaus\, Egidienplatz 23\, Nürnberg\, 90403
CATEGORIES:Unterwegs mit Enkeln
GEO:49.4569076;11.081009
X-APPLE-STRUCTURED-LOCATION;VALUE=URI;X-ADDRESS=Haus des Spiels im Pellerhaus Egidienplatz 23 Nürnberg 90403;X-APPLE-RADIUS=500;X-TITLE=Egidienplatz 23:geo:11.081009,49.4569076
END:VEVENT
BEGIN:VEVENT
DTSTART;TZID=Europe/Berlin:20260215T140000
DTEND;TZID=Europe/Berlin:20260215T180000
DTSTAMP:20260420T194139
CREATED:20251127T110314Z
LAST-MODIFIED:20251127T110314Z
UID:10000414-1771164000-1771178400@service.magazin66.de
SUMMARY:Spielenachmittag für Alle
DESCRIPTION:
URL:https://service.magazin66.de/event/spielenachmittag-fuer-alle/2026-02-15/
LOCATION:Haus des Spiels im Pellerhaus\, Egidienplatz 23\, Nürnberg\, 90403
CATEGORIES:Unterwegs mit Enkeln
GEO:49.4569076;11.081009
X-APPLE-STRUCTURED-LOCATION;VALUE=URI;X-ADDRESS=Haus des Spiels im Pellerhaus Egidienplatz 23 Nürnberg 90403;X-APPLE-RADIUS=500;X-TITLE=Egidienplatz 23:geo:11.081009,49.4569076
END:VEVENT
BEGIN:VEVENT
DTSTART;TZID=Europe/Berlin:20260208T140000
DTEND;TZID=Europe/Berlin:20260208T180000
DTSTAMP:20260420T194139
CREATED:20251127T110314Z
LAST-MODIFIED:20251127T110314Z
UID:10000413-1770559200-1770573600@service.magazin66.de
SUMMARY:Spielenachmittag für Alle
DESCRIPTION:
URL:https://service.magazin66.de/event/spielenachmittag-fuer-alle/2026-02-08/
LOCATION:Haus des Spiels im Pellerhaus\, Egidienplatz 23\, Nürnberg\, 90403
CATEGORIES:Unterwegs mit Enkeln
GEO:49.4569076;11.081009
X-APPLE-STRUCTURED-LOCATION;VALUE=URI;X-ADDRESS=Haus des Spiels im Pellerhaus Egidienplatz 23 Nürnberg 90403;X-APPLE-RADIUS=500;X-TITLE=Egidienplatz 23:geo:11.081009,49.4569076
END:VEVENT
BEGIN:VEVENT
DTSTART;TZID=Europe/Berlin:20260201T140000
DTEND;TZID=Europe/Berlin:20260201T180000
DTSTAMP:20260420T194139
CREATED:20251127T110314Z
LAST-MODIFIED:20251127T110314Z
UID:10000412-1769954400-1769968800@service.magazin66.de
SUMMARY:Spielenachmittag für Alle
DESCRIPTION:
URL:https://service.magazin66.de/event/spielenachmittag-fuer-alle/2026-02-01/
LOCATION:Haus des Spiels im Pellerhaus\, Egidienplatz 23\, Nürnberg\, 90403
CATEGORIES:Unterwegs mit Enkeln
GEO:49.4569076;11.081009
X-APPLE-STRUCTURED-LOCATION;VALUE=URI;X-ADDRESS=Haus des Spiels im Pellerhaus Egidienplatz 23 Nürnberg 90403;X-APPLE-RADIUS=500;X-TITLE=Egidienplatz 23:geo:11.081009,49.4569076
END:VEVENT
BEGIN:VEVENT
DTSTART;TZID=Europe/Berlin:20260125T140000
DTEND;TZID=Europe/Berlin:20260125T180000
DTSTAMP:20260420T194139
CREATED:20251127T110314Z
LAST-MODIFIED:20251127T110314Z
UID:10000411-1769349600-1769364000@service.magazin66.de
SUMMARY:Spielenachmittag für Alle
DESCRIPTION:
URL:https://service.magazin66.de/event/spielenachmittag-fuer-alle/2026-01-25/
LOCATION:Haus des Spiels im Pellerhaus\, Egidienplatz 23\, Nürnberg\, 90403
CATEGORIES:Unterwegs mit Enkeln
GEO:49.4569076;11.081009
X-APPLE-STRUCTURED-LOCATION;VALUE=URI;X-ADDRESS=Haus des Spiels im Pellerhaus Egidienplatz 23 Nürnberg 90403;X-APPLE-RADIUS=500;X-TITLE=Egidienplatz 23:geo:11.081009,49.4569076
END:VEVENT
BEGIN:VEVENT
DTSTART;TZID=Europe/Berlin:20260118T140000
DTEND;TZID=Europe/Berlin:20260118T180000
DTSTAMP:20260420T194139
CREATED:20251127T110314Z
LAST-MODIFIED:20251127T110314Z
UID:10000410-1768744800-1768759200@service.magazin66.de
SUMMARY:Spielenachmittag für Alle
DESCRIPTION:
URL:https://service.magazin66.de/event/spielenachmittag-fuer-alle/2026-01-18/
LOCATION:Haus des Spiels im Pellerhaus\, Egidienplatz 23\, Nürnberg\, 90403
CATEGORIES:Unterwegs mit Enkeln
GEO:49.4569076;11.081009
X-APPLE-STRUCTURED-LOCATION;VALUE=URI;X-ADDRESS=Haus des Spiels im Pellerhaus Egidienplatz 23 Nürnberg 90403;X-APPLE-RADIUS=500;X-TITLE=Egidienplatz 23:geo:11.081009,49.4569076
END:VEVENT
BEGIN:VEVENT
DTSTART;TZID=Europe/Berlin:20260111T140000
DTEND;TZID=Europe/Berlin:20260111T180000
DTSTAMP:20260420T194139
CREATED:20251127T110314Z
LAST-MODIFIED:20251127T110314Z
UID:10000409-1768140000-1768154400@service.magazin66.de
SUMMARY:Spielenachmittag für Alle
DESCRIPTION:
URL:https://service.magazin66.de/event/spielenachmittag-fuer-alle/2026-01-11/
LOCATION:Haus des Spiels im Pellerhaus\, Egidienplatz 23\, Nürnberg\, 90403
CATEGORIES:Unterwegs mit Enkeln
GEO:49.4569076;11.081009
X-APPLE-STRUCTURED-LOCATION;VALUE=URI;X-ADDRESS=Haus des Spiels im Pellerhaus Egidienplatz 23 Nürnberg 90403;X-APPLE-RADIUS=500;X-TITLE=Egidienplatz 23:geo:11.081009,49.4569076
END:VEVENT
BEGIN:VEVENT
DTSTART;TZID=Europe/Berlin:20251221T140000
DTEND;TZID=Europe/Berlin:20251221T180000
DTSTAMP:20260420T194139
CREATED:20251127T110314Z
LAST-MODIFIED:20251127T110314Z
UID:10000408-1766325600-1766340000@service.magazin66.de
SUMMARY:Spielenachmittag für Alle
DESCRIPTION:
URL:https://service.magazin66.de/event/spielenachmittag-fuer-alle/2025-12-21/
LOCATION:Haus des Spiels im Pellerhaus\, Egidienplatz 23\, Nürnberg\, 90403
CATEGORIES:Unterwegs mit Enkeln
GEO:49.4569076;11.081009
X-APPLE-STRUCTURED-LOCATION;VALUE=URI;X-ADDRESS=Haus des Spiels im Pellerhaus Egidienplatz 23 Nürnberg 90403;X-APPLE-RADIUS=500;X-TITLE=Egidienplatz 23:geo:11.081009,49.4569076
END:VEVENT
BEGIN:VEVENT
DTSTART;TZID=Europe/Berlin:20251214T140000
DTEND;TZID=Europe/Berlin:20251214T180000
DTSTAMP:20260420T194139
CREATED:20251127T110314Z
LAST-MODIFIED:20251127T110314Z
UID:10000407-1765720800-1765735200@service.magazin66.de
SUMMARY:Spielenachmittag für Alle
DESCRIPTION:
URL:https://service.magazin66.de/event/spielenachmittag-fuer-alle/2025-12-14/
LOCATION:Haus des Spiels im Pellerhaus\, Egidienplatz 23\, Nürnberg\, 90403
CATEGORIES:Unterwegs mit Enkeln
GEO:49.4569076;11.081009
X-APPLE-STRUCTURED-LOCATION;VALUE=URI;X-ADDRESS=Haus des Spiels im Pellerhaus Egidienplatz 23 Nürnberg 90403;X-APPLE-RADIUS=500;X-TITLE=Egidienplatz 23:geo:11.081009,49.4569076
END:VEVENT
BEGIN:VEVENT
DTSTART;TZID=Europe/Berlin:20251207T140000
DTEND;TZID=Europe/Berlin:20251207T180000
DTSTAMP:20260420T194139
CREATED:20251127T110314Z
LAST-MODIFIED:20251127T110314Z
UID:10000406-1765116000-1765130400@service.magazin66.de
SUMMARY:Spielenachmittag für Alle
DESCRIPTION:
URL:https://service.magazin66.de/event/spielenachmittag-fuer-alle/2025-12-07/
LOCATION:Haus des Spiels im Pellerhaus\, Egidienplatz 23\, Nürnberg\, 90403
CATEGORIES:Unterwegs mit Enkeln
GEO:49.4569076;11.081009
X-APPLE-STRUCTURED-LOCATION;VALUE=URI;X-ADDRESS=Haus des Spiels im Pellerhaus Egidienplatz 23 Nürnberg 90403;X-APPLE-RADIUS=500;X-TITLE=Egidienplatz 23:geo:11.081009,49.4569076
END:VEVENT
END:VCALENDAR