BEGIN:VCALENDAR
VERSION:2.0
PRODID:-//Service Magazin sechs+sechzig - ECPv6.15.18//NONSGML v1.0//EN
CALSCALE:GREGORIAN
METHOD:PUBLISH
X-WR-CALNAME:Service Magazin sechs+sechzig
X-ORIGINAL-URL:https://service.magazin66.de
X-WR-CALDESC:Veranstaltungen für Service Magazin sechs+sechzig
REFRESH-INTERVAL;VALUE=DURATION:PT1H
X-Robots-Tag:noindex
X-PUBLISHED-TTL:PT1H
BEGIN:VTIMEZONE
TZID:Europe/Berlin
BEGIN:DAYLIGHT
TZOFFSETFROM:+0100
TZOFFSETTO:+0200
TZNAME:CEST
DTSTART:20240331T010000
END:DAYLIGHT
BEGIN:STANDARD
TZOFFSETFROM:+0200
TZOFFSETTO:+0100
TZNAME:CET
DTSTART:20241027T010000
END:STANDARD
BEGIN:DAYLIGHT
TZOFFSETFROM:+0100
TZOFFSETTO:+0200
TZNAME:CEST
DTSTART:20250330T010000
END:DAYLIGHT
BEGIN:STANDARD
TZOFFSETFROM:+0200
TZOFFSETTO:+0100
TZNAME:CET
DTSTART:20251026T010000
END:STANDARD
BEGIN:DAYLIGHT
TZOFFSETFROM:+0100
TZOFFSETTO:+0200
TZNAME:CEST
DTSTART:20260329T010000
END:DAYLIGHT
BEGIN:STANDARD
TZOFFSETFROM:+0200
TZOFFSETTO:+0100
TZNAME:CET
DTSTART:20261025T010000
END:STANDARD
BEGIN:DAYLIGHT
TZOFFSETFROM:+0100
TZOFFSETTO:+0200
TZNAME:CEST
DTSTART:20270328T010000
END:DAYLIGHT
BEGIN:STANDARD
TZOFFSETFROM:+0200
TZOFFSETTO:+0100
TZNAME:CET
DTSTART:20271031T010000
END:STANDARD
END:VTIMEZONE
BEGIN:VEVENT
DTSTART;TZID=Europe/Berlin:20260414T140000
DTEND;TZID=Europe/Berlin:20260414T160000
DTSTAMP:20260420T142902
CREATED:20251128T085758Z
LAST-MODIFIED:20251128T105443Z
UID:10000514-1776175200-1776182400@service.magazin66.de
SUMMARY:Erlanger Singioren - zusammen singen
DESCRIPTION:Wir treffen uns in der Martin-Luther-Kirche (Erlangen) und singen „altes“ und „neues“ Liedgut mit und ohne Begleitung. Weitere Inhalte sind: Stimmtraining\, Atemschule und Bewegung. Wir freuen uns\, wenn Sie einfach vorbeikommen und mitsingen. Eintritt 2 Euro\, keine Anmeldung erforderlich. \nFindet in den bayerischen Schulferien und an Feiertagen nicht statt.
URL:https://service.magazin66.de/event/erlanger-singioren-zusammen-singen/2026-04-14/
LOCATION:Martin-Luther-Kirche Erlangen\, Bamberger Str. 18\, 91056 Erlangen
CATEGORIES:Musik und Unterhaltung
ORGANIZER;CN="Abteilung f%C3%BCr Alters- und Generationenfragen Erlangen":MAILTO:alter-generationen@stadt.erlangen.de
GEO:49.5960541;10.9631176
X-APPLE-STRUCTURED-LOCATION;VALUE=URI;X-ADDRESS=Martin-Luther-Kirche Erlangen Bamberger Str. 18 91056 Erlangen;X-APPLE-RADIUS=500;X-TITLE=Bamberger Str. 18:geo:10.9631176,49.5960541
END:VEVENT
BEGIN:VEVENT
DTSTART;TZID=Europe/Berlin:20260324T140000
DTEND;TZID=Europe/Berlin:20260324T160000
DTSTAMP:20260420T142902
CREATED:20251128T085758Z
LAST-MODIFIED:20251128T105443Z
UID:10000513-1774360800-1774368000@service.magazin66.de
SUMMARY:Erlanger Singioren - zusammen singen
DESCRIPTION:Wir treffen uns in der Martin-Luther-Kirche (Erlangen) und singen „altes“ und „neues“ Liedgut mit und ohne Begleitung. Weitere Inhalte sind: Stimmtraining\, Atemschule und Bewegung. Wir freuen uns\, wenn Sie einfach vorbeikommen und mitsingen. Eintritt 2 Euro\, keine Anmeldung erforderlich. \nFindet in den bayerischen Schulferien und an Feiertagen nicht statt.
URL:https://service.magazin66.de/event/erlanger-singioren-zusammen-singen/2026-03-24/
LOCATION:Martin-Luther-Kirche Erlangen\, Bamberger Str. 18\, 91056 Erlangen
CATEGORIES:Musik und Unterhaltung
ORGANIZER;CN="Abteilung f%C3%BCr Alters- und Generationenfragen Erlangen":MAILTO:alter-generationen@stadt.erlangen.de
GEO:49.5960541;10.9631176
X-APPLE-STRUCTURED-LOCATION;VALUE=URI;X-ADDRESS=Martin-Luther-Kirche Erlangen Bamberger Str. 18 91056 Erlangen;X-APPLE-RADIUS=500;X-TITLE=Bamberger Str. 18:geo:10.9631176,49.5960541
END:VEVENT
BEGIN:VEVENT
DTSTART;TZID=Europe/Berlin:20260317T140000
DTEND;TZID=Europe/Berlin:20260317T160000
DTSTAMP:20260420T142902
CREATED:20251128T085758Z
LAST-MODIFIED:20251128T105443Z
UID:10000512-1773756000-1773763200@service.magazin66.de
SUMMARY:Erlanger Singioren - zusammen singen
DESCRIPTION:Wir treffen uns in der Martin-Luther-Kirche (Erlangen) und singen „altes“ und „neues“ Liedgut mit und ohne Begleitung. Weitere Inhalte sind: Stimmtraining\, Atemschule und Bewegung. Wir freuen uns\, wenn Sie einfach vorbeikommen und mitsingen. Eintritt 2 Euro\, keine Anmeldung erforderlich. \nFindet in den bayerischen Schulferien und an Feiertagen nicht statt.
URL:https://service.magazin66.de/event/erlanger-singioren-zusammen-singen/2026-03-17/
LOCATION:Martin-Luther-Kirche Erlangen\, Bamberger Str. 18\, 91056 Erlangen
CATEGORIES:Musik und Unterhaltung
ORGANIZER;CN="Abteilung f%C3%BCr Alters- und Generationenfragen Erlangen":MAILTO:alter-generationen@stadt.erlangen.de
GEO:49.5960541;10.9631176
X-APPLE-STRUCTURED-LOCATION;VALUE=URI;X-ADDRESS=Martin-Luther-Kirche Erlangen Bamberger Str. 18 91056 Erlangen;X-APPLE-RADIUS=500;X-TITLE=Bamberger Str. 18:geo:10.9631176,49.5960541
END:VEVENT
BEGIN:VEVENT
DTSTART;TZID=Europe/Berlin:20260310T140000
DTEND;TZID=Europe/Berlin:20260310T160000
DTSTAMP:20260420T142902
CREATED:20251128T085758Z
LAST-MODIFIED:20251128T105443Z
UID:10000511-1773151200-1773158400@service.magazin66.de
SUMMARY:Erlanger Singioren - zusammen singen
DESCRIPTION:Wir treffen uns in der Martin-Luther-Kirche (Erlangen) und singen „altes“ und „neues“ Liedgut mit und ohne Begleitung. Weitere Inhalte sind: Stimmtraining\, Atemschule und Bewegung. Wir freuen uns\, wenn Sie einfach vorbeikommen und mitsingen. Eintritt 2 Euro\, keine Anmeldung erforderlich. \nFindet in den bayerischen Schulferien und an Feiertagen nicht statt.
URL:https://service.magazin66.de/event/erlanger-singioren-zusammen-singen/2026-03-10/
LOCATION:Martin-Luther-Kirche Erlangen\, Bamberger Str. 18\, 91056 Erlangen
CATEGORIES:Musik und Unterhaltung
ORGANIZER;CN="Abteilung f%C3%BCr Alters- und Generationenfragen Erlangen":MAILTO:alter-generationen@stadt.erlangen.de
GEO:49.5960541;10.9631176
X-APPLE-STRUCTURED-LOCATION;VALUE=URI;X-ADDRESS=Martin-Luther-Kirche Erlangen Bamberger Str. 18 91056 Erlangen;X-APPLE-RADIUS=500;X-TITLE=Bamberger Str. 18:geo:10.9631176,49.5960541
END:VEVENT
BEGIN:VEVENT
DTSTART;TZID=Europe/Berlin:20260303T140000
DTEND;TZID=Europe/Berlin:20260303T160000
DTSTAMP:20260420T142902
CREATED:20251128T085758Z
LAST-MODIFIED:20251128T105443Z
UID:10000510-1772546400-1772553600@service.magazin66.de
SUMMARY:Erlanger Singioren - zusammen singen
DESCRIPTION:Wir treffen uns in der Martin-Luther-Kirche (Erlangen) und singen „altes“ und „neues“ Liedgut mit und ohne Begleitung. Weitere Inhalte sind: Stimmtraining\, Atemschule und Bewegung. Wir freuen uns\, wenn Sie einfach vorbeikommen und mitsingen. Eintritt 2 Euro\, keine Anmeldung erforderlich. \nFindet in den bayerischen Schulferien und an Feiertagen nicht statt.
URL:https://service.magazin66.de/event/erlanger-singioren-zusammen-singen/2026-03-03/
LOCATION:Martin-Luther-Kirche Erlangen\, Bamberger Str. 18\, 91056 Erlangen
CATEGORIES:Musik und Unterhaltung
ORGANIZER;CN="Abteilung f%C3%BCr Alters- und Generationenfragen Erlangen":MAILTO:alter-generationen@stadt.erlangen.de
GEO:49.5960541;10.9631176
X-APPLE-STRUCTURED-LOCATION;VALUE=URI;X-ADDRESS=Martin-Luther-Kirche Erlangen Bamberger Str. 18 91056 Erlangen;X-APPLE-RADIUS=500;X-TITLE=Bamberger Str. 18:geo:10.9631176,49.5960541
END:VEVENT
BEGIN:VEVENT
DTSTART;TZID=Europe/Berlin:20260224T140000
DTEND;TZID=Europe/Berlin:20260224T160000
DTSTAMP:20260420T142902
CREATED:20251128T085758Z
LAST-MODIFIED:20251128T105443Z
UID:10000509-1771941600-1771948800@service.magazin66.de
SUMMARY:Erlanger Singioren - zusammen singen
DESCRIPTION:Wir treffen uns in der Martin-Luther-Kirche (Erlangen) und singen „altes“ und „neues“ Liedgut mit und ohne Begleitung. Weitere Inhalte sind: Stimmtraining\, Atemschule und Bewegung. Wir freuen uns\, wenn Sie einfach vorbeikommen und mitsingen. Eintritt 2 Euro\, keine Anmeldung erforderlich. \nFindet in den bayerischen Schulferien und an Feiertagen nicht statt.
URL:https://service.magazin66.de/event/erlanger-singioren-zusammen-singen/2026-02-24/
LOCATION:Martin-Luther-Kirche Erlangen\, Bamberger Str. 18\, 91056 Erlangen
CATEGORIES:Musik und Unterhaltung
ORGANIZER;CN="Abteilung f%C3%BCr Alters- und Generationenfragen Erlangen":MAILTO:alter-generationen@stadt.erlangen.de
GEO:49.5960541;10.9631176
X-APPLE-STRUCTURED-LOCATION;VALUE=URI;X-ADDRESS=Martin-Luther-Kirche Erlangen Bamberger Str. 18 91056 Erlangen;X-APPLE-RADIUS=500;X-TITLE=Bamberger Str. 18:geo:10.9631176,49.5960541
END:VEVENT
BEGIN:VEVENT
DTSTART;TZID=Europe/Berlin:20260210T140000
DTEND;TZID=Europe/Berlin:20260210T160000
DTSTAMP:20260420T142902
CREATED:20251128T085758Z
LAST-MODIFIED:20251128T105443Z
UID:10000508-1770732000-1770739200@service.magazin66.de
SUMMARY:Erlanger Singioren - zusammen singen
DESCRIPTION:Wir treffen uns in der Martin-Luther-Kirche (Erlangen) und singen „altes“ und „neues“ Liedgut mit und ohne Begleitung. Weitere Inhalte sind: Stimmtraining\, Atemschule und Bewegung. Wir freuen uns\, wenn Sie einfach vorbeikommen und mitsingen. Eintritt 2 Euro\, keine Anmeldung erforderlich. \nFindet in den bayerischen Schulferien und an Feiertagen nicht statt.
URL:https://service.magazin66.de/event/erlanger-singioren-zusammen-singen/2026-02-10/
LOCATION:Martin-Luther-Kirche Erlangen\, Bamberger Str. 18\, 91056 Erlangen
CATEGORIES:Musik und Unterhaltung
ORGANIZER;CN="Abteilung f%C3%BCr Alters- und Generationenfragen Erlangen":MAILTO:alter-generationen@stadt.erlangen.de
GEO:49.5960541;10.9631176
X-APPLE-STRUCTURED-LOCATION;VALUE=URI;X-ADDRESS=Martin-Luther-Kirche Erlangen Bamberger Str. 18 91056 Erlangen;X-APPLE-RADIUS=500;X-TITLE=Bamberger Str. 18:geo:10.9631176,49.5960541
END:VEVENT
BEGIN:VEVENT
DTSTART;TZID=Europe/Berlin:20260203T140000
DTEND;TZID=Europe/Berlin:20260203T160000
DTSTAMP:20260420T142902
CREATED:20251128T085758Z
LAST-MODIFIED:20251128T105443Z
UID:10000507-1770127200-1770134400@service.magazin66.de
SUMMARY:Erlanger Singioren - zusammen singen
DESCRIPTION:Wir treffen uns in der Martin-Luther-Kirche (Erlangen) und singen „altes“ und „neues“ Liedgut mit und ohne Begleitung. Weitere Inhalte sind: Stimmtraining\, Atemschule und Bewegung. Wir freuen uns\, wenn Sie einfach vorbeikommen und mitsingen. Eintritt 2 Euro\, keine Anmeldung erforderlich. \nFindet in den bayerischen Schulferien und an Feiertagen nicht statt.
URL:https://service.magazin66.de/event/erlanger-singioren-zusammen-singen/2026-02-03/
LOCATION:Martin-Luther-Kirche Erlangen\, Bamberger Str. 18\, 91056 Erlangen
CATEGORIES:Musik und Unterhaltung
ORGANIZER;CN="Abteilung f%C3%BCr Alters- und Generationenfragen Erlangen":MAILTO:alter-generationen@stadt.erlangen.de
GEO:49.5960541;10.9631176
X-APPLE-STRUCTURED-LOCATION;VALUE=URI;X-ADDRESS=Martin-Luther-Kirche Erlangen Bamberger Str. 18 91056 Erlangen;X-APPLE-RADIUS=500;X-TITLE=Bamberger Str. 18:geo:10.9631176,49.5960541
END:VEVENT
BEGIN:VEVENT
DTSTART;TZID=Europe/Berlin:20260127T140000
DTEND;TZID=Europe/Berlin:20260127T160000
DTSTAMP:20260420T142902
CREATED:20251128T085758Z
LAST-MODIFIED:20251128T105443Z
UID:10000506-1769522400-1769529600@service.magazin66.de
SUMMARY:Erlanger Singioren - zusammen singen
DESCRIPTION:Wir treffen uns in der Martin-Luther-Kirche (Erlangen) und singen „altes“ und „neues“ Liedgut mit und ohne Begleitung. Weitere Inhalte sind: Stimmtraining\, Atemschule und Bewegung. Wir freuen uns\, wenn Sie einfach vorbeikommen und mitsingen. Eintritt 2 Euro\, keine Anmeldung erforderlich. \nFindet in den bayerischen Schulferien und an Feiertagen nicht statt.
URL:https://service.magazin66.de/event/erlanger-singioren-zusammen-singen/2026-01-27/
LOCATION:Martin-Luther-Kirche Erlangen\, Bamberger Str. 18\, 91056 Erlangen
CATEGORIES:Musik und Unterhaltung
ORGANIZER;CN="Abteilung f%C3%BCr Alters- und Generationenfragen Erlangen":MAILTO:alter-generationen@stadt.erlangen.de
GEO:49.5960541;10.9631176
X-APPLE-STRUCTURED-LOCATION;VALUE=URI;X-ADDRESS=Martin-Luther-Kirche Erlangen Bamberger Str. 18 91056 Erlangen;X-APPLE-RADIUS=500;X-TITLE=Bamberger Str. 18:geo:10.9631176,49.5960541
END:VEVENT
BEGIN:VEVENT
DTSTART;TZID=Europe/Berlin:20260120T140000
DTEND;TZID=Europe/Berlin:20260120T160000
DTSTAMP:20260420T142902
CREATED:20251128T085758Z
LAST-MODIFIED:20251128T105443Z
UID:10000505-1768917600-1768924800@service.magazin66.de
SUMMARY:Erlanger Singioren - zusammen singen
DESCRIPTION:Wir treffen uns in der Martin-Luther-Kirche (Erlangen) und singen „altes“ und „neues“ Liedgut mit und ohne Begleitung. Weitere Inhalte sind: Stimmtraining\, Atemschule und Bewegung. Wir freuen uns\, wenn Sie einfach vorbeikommen und mitsingen. Eintritt 2 Euro\, keine Anmeldung erforderlich. \nFindet in den bayerischen Schulferien und an Feiertagen nicht statt.
URL:https://service.magazin66.de/event/erlanger-singioren-zusammen-singen/2026-01-20/
LOCATION:Martin-Luther-Kirche Erlangen\, Bamberger Str. 18\, 91056 Erlangen
CATEGORIES:Musik und Unterhaltung
ORGANIZER;CN="Abteilung f%C3%BCr Alters- und Generationenfragen Erlangen":MAILTO:alter-generationen@stadt.erlangen.de
GEO:49.5960541;10.9631176
X-APPLE-STRUCTURED-LOCATION;VALUE=URI;X-ADDRESS=Martin-Luther-Kirche Erlangen Bamberger Str. 18 91056 Erlangen;X-APPLE-RADIUS=500;X-TITLE=Bamberger Str. 18:geo:10.9631176,49.5960541
END:VEVENT
BEGIN:VEVENT
DTSTART;TZID=Europe/Berlin:20260113T140000
DTEND;TZID=Europe/Berlin:20260113T160000
DTSTAMP:20260420T142902
CREATED:20251128T085758Z
LAST-MODIFIED:20251128T105443Z
UID:10000504-1768312800-1768320000@service.magazin66.de
SUMMARY:Erlanger Singioren - zusammen singen
DESCRIPTION:Wir treffen uns in der Martin-Luther-Kirche (Erlangen) und singen „altes“ und „neues“ Liedgut mit und ohne Begleitung. Weitere Inhalte sind: Stimmtraining\, Atemschule und Bewegung. Wir freuen uns\, wenn Sie einfach vorbeikommen und mitsingen. Eintritt 2 Euro\, keine Anmeldung erforderlich. \nFindet in den bayerischen Schulferien und an Feiertagen nicht statt.
URL:https://service.magazin66.de/event/erlanger-singioren-zusammen-singen/2026-01-13/
LOCATION:Martin-Luther-Kirche Erlangen\, Bamberger Str. 18\, 91056 Erlangen
CATEGORIES:Musik und Unterhaltung
ORGANIZER;CN="Abteilung f%C3%BCr Alters- und Generationenfragen Erlangen":MAILTO:alter-generationen@stadt.erlangen.de
GEO:49.5960541;10.9631176
X-APPLE-STRUCTURED-LOCATION;VALUE=URI;X-ADDRESS=Martin-Luther-Kirche Erlangen Bamberger Str. 18 91056 Erlangen;X-APPLE-RADIUS=500;X-TITLE=Bamberger Str. 18:geo:10.9631176,49.5960541
END:VEVENT
BEGIN:VEVENT
DTSTART;TZID=Europe/Berlin:20260106T140000
DTEND;TZID=Europe/Berlin:20260106T160000
DTSTAMP:20260420T142902
CREATED:20251128T085758Z
LAST-MODIFIED:20251128T105443Z
UID:10000503-1767708000-1767715200@service.magazin66.de
SUMMARY:Erlanger Singioren - zusammen singen
DESCRIPTION:Wir treffen uns in der Martin-Luther-Kirche (Erlangen) und singen „altes“ und „neues“ Liedgut mit und ohne Begleitung. Weitere Inhalte sind: Stimmtraining\, Atemschule und Bewegung. Wir freuen uns\, wenn Sie einfach vorbeikommen und mitsingen. Eintritt 2 Euro\, keine Anmeldung erforderlich. \nFindet in den bayerischen Schulferien und an Feiertagen nicht statt.
URL:https://service.magazin66.de/event/erlanger-singioren-zusammen-singen/2026-01-06/
LOCATION:Martin-Luther-Kirche Erlangen\, Bamberger Str. 18\, 91056 Erlangen
CATEGORIES:Musik und Unterhaltung
ORGANIZER;CN="Abteilung f%C3%BCr Alters- und Generationenfragen Erlangen":MAILTO:alter-generationen@stadt.erlangen.de
GEO:49.5960541;10.9631176
X-APPLE-STRUCTURED-LOCATION;VALUE=URI;X-ADDRESS=Martin-Luther-Kirche Erlangen Bamberger Str. 18 91056 Erlangen;X-APPLE-RADIUS=500;X-TITLE=Bamberger Str. 18:geo:10.9631176,49.5960541
END:VEVENT
BEGIN:VEVENT
DTSTART;TZID=Europe/Berlin:20251216T140000
DTEND;TZID=Europe/Berlin:20251216T160000
DTSTAMP:20260420T142902
CREATED:20251128T085758Z
LAST-MODIFIED:20251128T105443Z
UID:10000502-1765893600-1765900800@service.magazin66.de
SUMMARY:Erlanger Singioren - zusammen singen
DESCRIPTION:Wir treffen uns in der Martin-Luther-Kirche (Erlangen) und singen „altes“ und „neues“ Liedgut mit und ohne Begleitung. Weitere Inhalte sind: Stimmtraining\, Atemschule und Bewegung. Wir freuen uns\, wenn Sie einfach vorbeikommen und mitsingen. Eintritt 2 Euro\, keine Anmeldung erforderlich. \nFindet in den bayerischen Schulferien und an Feiertagen nicht statt.
URL:https://service.magazin66.de/event/erlanger-singioren-zusammen-singen/2025-12-16/
LOCATION:Martin-Luther-Kirche Erlangen\, Bamberger Str. 18\, 91056 Erlangen
CATEGORIES:Musik und Unterhaltung
ORGANIZER;CN="Abteilung f%C3%BCr Alters- und Generationenfragen Erlangen":MAILTO:alter-generationen@stadt.erlangen.de
GEO:49.5960541;10.9631176
X-APPLE-STRUCTURED-LOCATION;VALUE=URI;X-ADDRESS=Martin-Luther-Kirche Erlangen Bamberger Str. 18 91056 Erlangen;X-APPLE-RADIUS=500;X-TITLE=Bamberger Str. 18:geo:10.9631176,49.5960541
END:VEVENT
BEGIN:VEVENT
DTSTART;TZID=Europe/Berlin:20251209T140000
DTEND;TZID=Europe/Berlin:20251209T160000
DTSTAMP:20260420T142902
CREATED:20251128T085758Z
LAST-MODIFIED:20251128T105443Z
UID:10000501-1765288800-1765296000@service.magazin66.de
SUMMARY:Erlanger Singioren - zusammen singen
DESCRIPTION:Wir treffen uns in der Martin-Luther-Kirche (Erlangen) und singen „altes“ und „neues“ Liedgut mit und ohne Begleitung. Weitere Inhalte sind: Stimmtraining\, Atemschule und Bewegung. Wir freuen uns\, wenn Sie einfach vorbeikommen und mitsingen. Eintritt 2 Euro\, keine Anmeldung erforderlich. \nFindet in den bayerischen Schulferien und an Feiertagen nicht statt.
URL:https://service.magazin66.de/event/erlanger-singioren-zusammen-singen/2025-12-09/
LOCATION:Martin-Luther-Kirche Erlangen\, Bamberger Str. 18\, 91056 Erlangen
CATEGORIES:Musik und Unterhaltung
ORGANIZER;CN="Abteilung f%C3%BCr Alters- und Generationenfragen Erlangen":MAILTO:alter-generationen@stadt.erlangen.de
GEO:49.5960541;10.9631176
X-APPLE-STRUCTURED-LOCATION;VALUE=URI;X-ADDRESS=Martin-Luther-Kirche Erlangen Bamberger Str. 18 91056 Erlangen;X-APPLE-RADIUS=500;X-TITLE=Bamberger Str. 18:geo:10.9631176,49.5960541
END:VEVENT
BEGIN:VEVENT
DTSTART;TZID=Europe/Berlin:20251202T140000
DTEND;TZID=Europe/Berlin:20251202T160000
DTSTAMP:20260420T142902
CREATED:20251128T085758Z
LAST-MODIFIED:20251128T105443Z
UID:10000500-1764684000-1764691200@service.magazin66.de
SUMMARY:Erlanger Singioren - zusammen singen
DESCRIPTION:Wir treffen uns in der Martin-Luther-Kirche (Erlangen) und singen „altes“ und „neues“ Liedgut mit und ohne Begleitung. Weitere Inhalte sind: Stimmtraining\, Atemschule und Bewegung. Wir freuen uns\, wenn Sie einfach vorbeikommen und mitsingen. Eintritt 2 Euro\, keine Anmeldung erforderlich. \nFindet in den bayerischen Schulferien und an Feiertagen nicht statt.
URL:https://service.magazin66.de/event/erlanger-singioren-zusammen-singen/2025-12-02/
LOCATION:Martin-Luther-Kirche Erlangen\, Bamberger Str. 18\, 91056 Erlangen
CATEGORIES:Musik und Unterhaltung
ORGANIZER;CN="Abteilung f%C3%BCr Alters- und Generationenfragen Erlangen":MAILTO:alter-generationen@stadt.erlangen.de
GEO:49.5960541;10.9631176
X-APPLE-STRUCTURED-LOCATION;VALUE=URI;X-ADDRESS=Martin-Luther-Kirche Erlangen Bamberger Str. 18 91056 Erlangen;X-APPLE-RADIUS=500;X-TITLE=Bamberger Str. 18:geo:10.9631176,49.5960541
END:VEVENT
END:VCALENDAR