BEGIN:VCALENDAR
VERSION:2.0
PRODID:-//Service Magazin sechs+sechzig - ECPv6.15.18//NONSGML v1.0//EN
CALSCALE:GREGORIAN
METHOD:PUBLISH
X-WR-CALNAME:Service Magazin sechs+sechzig
X-ORIGINAL-URL:https://service.magazin66.de
X-WR-CALDESC:Veranstaltungen für Service Magazin sechs+sechzig
REFRESH-INTERVAL;VALUE=DURATION:PT1H
X-Robots-Tag:noindex
X-PUBLISHED-TTL:PT1H
BEGIN:VTIMEZONE
TZID:Europe/Berlin
BEGIN:DAYLIGHT
TZOFFSETFROM:+0100
TZOFFSETTO:+0200
TZNAME:CEST
DTSTART:20240331T010000
END:DAYLIGHT
BEGIN:STANDARD
TZOFFSETFROM:+0200
TZOFFSETTO:+0100
TZNAME:CET
DTSTART:20241027T010000
END:STANDARD
BEGIN:DAYLIGHT
TZOFFSETFROM:+0100
TZOFFSETTO:+0200
TZNAME:CEST
DTSTART:20250330T010000
END:DAYLIGHT
BEGIN:STANDARD
TZOFFSETFROM:+0200
TZOFFSETTO:+0100
TZNAME:CET
DTSTART:20251026T010000
END:STANDARD
BEGIN:DAYLIGHT
TZOFFSETFROM:+0100
TZOFFSETTO:+0200
TZNAME:CEST
DTSTART:20260329T010000
END:DAYLIGHT
BEGIN:STANDARD
TZOFFSETFROM:+0200
TZOFFSETTO:+0100
TZNAME:CET
DTSTART:20261025T010000
END:STANDARD
BEGIN:DAYLIGHT
TZOFFSETFROM:+0100
TZOFFSETTO:+0200
TZNAME:CEST
DTSTART:20270328T010000
END:DAYLIGHT
BEGIN:STANDARD
TZOFFSETFROM:+0200
TZOFFSETTO:+0100
TZNAME:CET
DTSTART:20271031T010000
END:STANDARD
END:VTIMEZONE
BEGIN:VEVENT
DTSTART;TZID=Europe/Berlin:20260405T110000
DTEND;TZID=Europe/Berlin:20260405T120000
DTSTAMP:20260422T161818
CREATED:20251127T105455Z
LAST-MODIFIED:20260222T103107Z
UID:10001557-1775386800-1775390400@service.magazin66.de
SUMMARY:Familienführung für Groß und Klein
DESCRIPTION:Kunstgespräch für Kinder ab 3 Jahren aufwärts in Begleitung von Erwachsenen. \nJeden 1. Sonntag im Monat \nInfo: 0911 / 2402069\, nmn.de
URL:https://service.magazin66.de/event/familienfuehrung-fuer-gross-und-klein/2026-04-05/
LOCATION:Neues Museum Nürnberg\, Klarissenplatz\, Nürnberg\, 90402
CATEGORIES:Unterwegs mit Enkeln
GEO:49.4477957;11.0801801
X-APPLE-STRUCTURED-LOCATION;VALUE=URI;X-ADDRESS=Neues Museum Nürnberg Klarissenplatz Nürnberg 90402;X-APPLE-RADIUS=500;X-TITLE=Klarissenplatz:geo:11.0801801,49.4477957
END:VEVENT
BEGIN:VEVENT
DTSTART;TZID=Europe/Berlin:20260322T111500
DTEND;TZID=Europe/Berlin:20260322T123000
DTSTAMP:20260422T161818
CREATED:20260220T111848Z
LAST-MODIFIED:20260220T111848Z
UID:10001462-1774178100-1774182600@service.magazin66.de
SUMMARY:Pegnitzschäfer-Konzert: Saitenspiele II
DESCRIPTION:Künstlerische Leitung: Wilfried ­Krüger; Eintritt frei.
URL:https://service.magazin66.de/event/pegnitzschaefer-konzert-saitenspiele-ii/
LOCATION:Neues Museum Nürnberg\, Klarissenplatz\, Nürnberg\, 90402
CATEGORIES:Musik und Unterhaltung
GEO:49.4477957;11.0801801
X-APPLE-STRUCTURED-LOCATION;VALUE=URI;X-ADDRESS=Neues Museum Nürnberg Klarissenplatz Nürnberg 90402;X-APPLE-RADIUS=500;X-TITLE=Klarissenplatz:geo:11.0801801,49.4477957
END:VEVENT
BEGIN:VEVENT
DTSTART;TZID=Europe/Berlin:20260319T170000
DTEND;TZID=Europe/Berlin:20260319T174500
DTSTAMP:20260422T161818
CREATED:20260219T123758Z
LAST-MODIFIED:20260219T123758Z
UID:10001318-1773939600-1773942300@service.magazin66.de
SUMMARY:Yoga im Neuen Museum
DESCRIPTION:Offen für alle. Einfach ausführbare Flows\, bewusste Atmung und Meditationsübungen. \nMit Anmeldung. Info/Anmeldung: 0911/2402036
URL:https://service.magazin66.de/event/yoga-im-neuen-museum/2026-03-19/
LOCATION:Neues Museum Nürnberg\, Klarissenplatz\, Nürnberg\, 90402
CATEGORIES:Gesundheit und Sport
GEO:49.4477957;11.0801801
X-APPLE-STRUCTURED-LOCATION;VALUE=URI;X-ADDRESS=Neues Museum Nürnberg Klarissenplatz Nürnberg 90402;X-APPLE-RADIUS=500;X-TITLE=Klarissenplatz:geo:11.0801801,49.4477957
END:VEVENT
BEGIN:VEVENT
DTSTART;TZID=Europe/Berlin:20260305T170000
DTEND;TZID=Europe/Berlin:20260305T174500
DTSTAMP:20260422T161818
CREATED:20260219T123758Z
LAST-MODIFIED:20260219T123758Z
UID:10001317-1772730000-1772732700@service.magazin66.de
SUMMARY:Yoga im Neuen Museum
DESCRIPTION:Offen für alle. Einfach ausführbare Flows\, bewusste Atmung und Meditationsübungen. \nMit Anmeldung. Info/Anmeldung: 0911/2402036
URL:https://service.magazin66.de/event/yoga-im-neuen-museum/2026-03-05/
LOCATION:Neues Museum Nürnberg\, Klarissenplatz\, Nürnberg\, 90402
CATEGORIES:Gesundheit und Sport
GEO:49.4477957;11.0801801
X-APPLE-STRUCTURED-LOCATION;VALUE=URI;X-ADDRESS=Neues Museum Nürnberg Klarissenplatz Nürnberg 90402;X-APPLE-RADIUS=500;X-TITLE=Klarissenplatz:geo:11.0801801,49.4477957
END:VEVENT
BEGIN:VEVENT
DTSTART;TZID=Europe/Berlin:20260301T110000
DTEND;TZID=Europe/Berlin:20260301T120000
DTSTAMP:20260422T161818
CREATED:20251127T105455Z
LAST-MODIFIED:20260222T103107Z
UID:10000405-1772362800-1772366400@service.magazin66.de
SUMMARY:Familienführung für Groß und Klein
DESCRIPTION:Kunstgespräch für Kinder ab 3 Jahren aufwärts in Begleitung von Erwachsenen. \nJeden 1. Sonntag im Monat \nInfo: 0911 / 2402069\, nmn.de
URL:https://service.magazin66.de/event/familienfuehrung-fuer-gross-und-klein/2026-03-01/
LOCATION:Neues Museum Nürnberg\, Klarissenplatz\, Nürnberg\, 90402
CATEGORIES:Unterwegs mit Enkeln
GEO:49.4477957;11.0801801
X-APPLE-STRUCTURED-LOCATION;VALUE=URI;X-ADDRESS=Neues Museum Nürnberg Klarissenplatz Nürnberg 90402;X-APPLE-RADIUS=500;X-TITLE=Klarissenplatz:geo:11.0801801,49.4477957
END:VEVENT
BEGIN:VEVENT
DTSTART;TZID=Europe/Berlin:20260201T110000
DTEND;TZID=Europe/Berlin:20260201T120000
DTSTAMP:20260422T161818
CREATED:20251127T105455Z
LAST-MODIFIED:20260222T103107Z
UID:10000404-1769943600-1769947200@service.magazin66.de
SUMMARY:Familienführung für Groß und Klein
DESCRIPTION:Kunstgespräch für Kinder ab 3 Jahren aufwärts in Begleitung von Erwachsenen. \nJeden 1. Sonntag im Monat \nInfo: 0911 / 2402069\, nmn.de
URL:https://service.magazin66.de/event/familienfuehrung-fuer-gross-und-klein/2026-02-01/
LOCATION:Neues Museum Nürnberg\, Klarissenplatz\, Nürnberg\, 90402
CATEGORIES:Unterwegs mit Enkeln
GEO:49.4477957;11.0801801
X-APPLE-STRUCTURED-LOCATION;VALUE=URI;X-ADDRESS=Neues Museum Nürnberg Klarissenplatz Nürnberg 90402;X-APPLE-RADIUS=500;X-TITLE=Klarissenplatz:geo:11.0801801,49.4477957
END:VEVENT
BEGIN:VEVENT
DTSTART;TZID=Europe/Berlin:20260122T190000
DTEND;TZID=Europe/Berlin:20260122T210000
DTSTAMP:20260422T161818
CREATED:20251125T081503Z
LAST-MODIFIED:20251125T081503Z
UID:10000350-1769108400-1769115600@service.magazin66.de
SUMMARY:Filmvortrag: Moving Parr
DESCRIPTION:Filmabend mit Markus Schaden\, dem Kurator der Ausstellung »GRAND HOTEL«
URL:https://service.magazin66.de/event/filmvortrag-moving-parr/
LOCATION:Neues Museum Nürnberg\, Klarissenplatz\, Nürnberg\, 90402
CATEGORIES:Literatur, Theater und Kino
GEO:49.4477957;11.0801801
X-APPLE-STRUCTURED-LOCATION;VALUE=URI;X-ADDRESS=Neues Museum Nürnberg Klarissenplatz Nürnberg 90402;X-APPLE-RADIUS=500;X-TITLE=Klarissenplatz:geo:11.0801801,49.4477957
END:VEVENT
BEGIN:VEVENT
DTSTART;TZID=Europe/Berlin:20260110T140000
DTEND;TZID=Europe/Berlin:20260110T160000
DTSTAMP:20260422T161818
CREATED:20251127T110601Z
LAST-MODIFIED:20251127T110601Z
UID:10000421-1768053600-1768060800@service.magazin66.de
SUMMARY:Familienworkshop: Grüße aus dem GRAND HOTEL PARR
DESCRIPTION:Für Familien mit Kindern ab 6 Jahren
URL:https://service.magazin66.de/event/familienworkshop-gruesse-aus-dem-grand-hotel-parr/
LOCATION:Neues Museum Nürnberg\, Klarissenplatz\, Nürnberg\, 90402
GEO:49.4477957;11.0801801
X-APPLE-STRUCTURED-LOCATION;VALUE=URI;X-ADDRESS=Neues Museum Nürnberg Klarissenplatz Nürnberg 90402;X-APPLE-RADIUS=500;X-TITLE=Klarissenplatz:geo:11.0801801,49.4477957
END:VEVENT
BEGIN:VEVENT
DTSTART;TZID=Europe/Berlin:20260104T110000
DTEND;TZID=Europe/Berlin:20260104T120000
DTSTAMP:20260422T161818
CREATED:20251127T105455Z
LAST-MODIFIED:20260222T103107Z
UID:10000403-1767524400-1767528000@service.magazin66.de
SUMMARY:Familienführung für Groß und Klein
DESCRIPTION:Kunstgespräch für Kinder ab 3 Jahren aufwärts in Begleitung von Erwachsenen. \nJeden 1. Sonntag im Monat \nInfo: 0911 / 2402069\, nmn.de
URL:https://service.magazin66.de/event/familienfuehrung-fuer-gross-und-klein/2026-01-04/
LOCATION:Neues Museum Nürnberg\, Klarissenplatz\, Nürnberg\, 90402
CATEGORIES:Unterwegs mit Enkeln
GEO:49.4477957;11.0801801
X-APPLE-STRUCTURED-LOCATION;VALUE=URI;X-ADDRESS=Neues Museum Nürnberg Klarissenplatz Nürnberg 90402;X-APPLE-RADIUS=500;X-TITLE=Klarissenplatz:geo:11.0801801,49.4477957
END:VEVENT
BEGIN:VEVENT
DTSTART;TZID=Europe/Berlin:20251207T110000
DTEND;TZID=Europe/Berlin:20251207T120000
DTSTAMP:20260422T161818
CREATED:20251127T105455Z
LAST-MODIFIED:20260222T103107Z
UID:10000402-1765105200-1765108800@service.magazin66.de
SUMMARY:Familienführung für Groß und Klein
DESCRIPTION:Kunstgespräch für Kinder ab 3 Jahren aufwärts in Begleitung von Erwachsenen. \nJeden 1. Sonntag im Monat \nInfo: 0911 / 2402069\, nmn.de
URL:https://service.magazin66.de/event/familienfuehrung-fuer-gross-und-klein/2025-12-07/
LOCATION:Neues Museum Nürnberg\, Klarissenplatz\, Nürnberg\, 90402
CATEGORIES:Unterwegs mit Enkeln
GEO:49.4477957;11.0801801
X-APPLE-STRUCTURED-LOCATION;VALUE=URI;X-ADDRESS=Neues Museum Nürnberg Klarissenplatz Nürnberg 90402;X-APPLE-RADIUS=500;X-TITLE=Klarissenplatz:geo:11.0801801,49.4477957
END:VEVENT
END:VCALENDAR