BEGIN:VCALENDAR
VERSION:2.0
PRODID:-//Service Magazin sechs+sechzig - ECPv6.15.18//NONSGML v1.0//EN
CALSCALE:GREGORIAN
METHOD:PUBLISH
X-ORIGINAL-URL:https://service.magazin66.de
X-WR-CALDESC:Veranstaltungen für Service Magazin sechs+sechzig
REFRESH-INTERVAL;VALUE=DURATION:PT1H
X-Robots-Tag:noindex
X-PUBLISHED-TTL:PT1H
BEGIN:VTIMEZONE
TZID:Europe/Berlin
BEGIN:DAYLIGHT
TZOFFSETFROM:+0100
TZOFFSETTO:+0200
TZNAME:CEST
DTSTART:20240331T010000
END:DAYLIGHT
BEGIN:STANDARD
TZOFFSETFROM:+0200
TZOFFSETTO:+0100
TZNAME:CET
DTSTART:20241027T010000
END:STANDARD
BEGIN:DAYLIGHT
TZOFFSETFROM:+0100
TZOFFSETTO:+0200
TZNAME:CEST
DTSTART:20250330T010000
END:DAYLIGHT
BEGIN:STANDARD
TZOFFSETFROM:+0200
TZOFFSETTO:+0100
TZNAME:CET
DTSTART:20251026T010000
END:STANDARD
BEGIN:DAYLIGHT
TZOFFSETFROM:+0100
TZOFFSETTO:+0200
TZNAME:CEST
DTSTART:20260329T010000
END:DAYLIGHT
BEGIN:STANDARD
TZOFFSETFROM:+0200
TZOFFSETTO:+0100
TZNAME:CET
DTSTART:20261025T010000
END:STANDARD
BEGIN:DAYLIGHT
TZOFFSETFROM:+0100
TZOFFSETTO:+0200
TZNAME:CEST
DTSTART:20270328T010000
END:DAYLIGHT
BEGIN:STANDARD
TZOFFSETFROM:+0200
TZOFFSETTO:+0100
TZNAME:CET
DTSTART:20271031T010000
END:STANDARD
END:VTIMEZONE
BEGIN:VEVENT
DTSTART;TZID=Europe/Berlin:20260417T080000
DTEND;TZID=Europe/Berlin:20260417T090000
DTSTAMP:20260420T174237
CREATED:20251128T105157Z
LAST-MODIFIED:20251128T105157Z
UID:10000606-1776412800-1776416400@service.magazin66.de
SUMMARY:Senioren-Gymnastik Erlangen
DESCRIPTION:Der Teilnahmebetrag von 2 Euro fällt nur für die tatsächlich besuchten Sportstunden an. Für ErlangenPass-Besitzer*innen sind alle Kurse kostenlos.\nInformationen zu den weiteren Angeboten erhalten Sie im Büro der Abteilung für Alters- und Generationenfragen (ehem. Seniorenamt).\nEine Anmeldung ist nicht erforderlich. Während der Schulferien findet der Kurs nicht statt.
URL:https://service.magazin66.de/event/senioren-gymnastik-erlangen/2026-04-17/
LOCATION:Pestalozzischule Erlangen\, Pestalozzistr. 1\, 91052 Erlangen
CATEGORIES:Gesundheit und Sport
ORGANIZER;CN="Abteilung f%C3%BCr Alters- und Generationenfragen Erlangen":MAILTO:alter-generationen@stadt.erlangen.de
GEO:49.5839951;10.9957158
X-APPLE-STRUCTURED-LOCATION;VALUE=URI;X-ADDRESS=Pestalozzischule Erlangen Pestalozzistr. 1 91052 Erlangen;X-APPLE-RADIUS=500;X-TITLE=Pestalozzistr. 1:geo:10.9957158,49.5839951
END:VEVENT
BEGIN:VEVENT
DTSTART;TZID=Europe/Berlin:20260327T080000
DTEND;TZID=Europe/Berlin:20260327T090000
DTSTAMP:20260420T174237
CREATED:20251128T105157Z
LAST-MODIFIED:20251128T105157Z
UID:10000605-1774598400-1774602000@service.magazin66.de
SUMMARY:Senioren-Gymnastik Erlangen
DESCRIPTION:Der Teilnahmebetrag von 2 Euro fällt nur für die tatsächlich besuchten Sportstunden an. Für ErlangenPass-Besitzer*innen sind alle Kurse kostenlos.\nInformationen zu den weiteren Angeboten erhalten Sie im Büro der Abteilung für Alters- und Generationenfragen (ehem. Seniorenamt).\nEine Anmeldung ist nicht erforderlich. Während der Schulferien findet der Kurs nicht statt.
URL:https://service.magazin66.de/event/senioren-gymnastik-erlangen/2026-03-27/
LOCATION:Pestalozzischule Erlangen\, Pestalozzistr. 1\, 91052 Erlangen
CATEGORIES:Gesundheit und Sport
ORGANIZER;CN="Abteilung f%C3%BCr Alters- und Generationenfragen Erlangen":MAILTO:alter-generationen@stadt.erlangen.de
GEO:49.5839951;10.9957158
X-APPLE-STRUCTURED-LOCATION;VALUE=URI;X-ADDRESS=Pestalozzischule Erlangen Pestalozzistr. 1 91052 Erlangen;X-APPLE-RADIUS=500;X-TITLE=Pestalozzistr. 1:geo:10.9957158,49.5839951
END:VEVENT
BEGIN:VEVENT
DTSTART;TZID=Europe/Berlin:20260320T080000
DTEND;TZID=Europe/Berlin:20260320T090000
DTSTAMP:20260420T174237
CREATED:20251128T105157Z
LAST-MODIFIED:20251128T105157Z
UID:10000604-1773993600-1773997200@service.magazin66.de
SUMMARY:Senioren-Gymnastik Erlangen
DESCRIPTION:Der Teilnahmebetrag von 2 Euro fällt nur für die tatsächlich besuchten Sportstunden an. Für ErlangenPass-Besitzer*innen sind alle Kurse kostenlos.\nInformationen zu den weiteren Angeboten erhalten Sie im Büro der Abteilung für Alters- und Generationenfragen (ehem. Seniorenamt).\nEine Anmeldung ist nicht erforderlich. Während der Schulferien findet der Kurs nicht statt.
URL:https://service.magazin66.de/event/senioren-gymnastik-erlangen/2026-03-20/
LOCATION:Pestalozzischule Erlangen\, Pestalozzistr. 1\, 91052 Erlangen
CATEGORIES:Gesundheit und Sport
ORGANIZER;CN="Abteilung f%C3%BCr Alters- und Generationenfragen Erlangen":MAILTO:alter-generationen@stadt.erlangen.de
GEO:49.5839951;10.9957158
X-APPLE-STRUCTURED-LOCATION;VALUE=URI;X-ADDRESS=Pestalozzischule Erlangen Pestalozzistr. 1 91052 Erlangen;X-APPLE-RADIUS=500;X-TITLE=Pestalozzistr. 1:geo:10.9957158,49.5839951
END:VEVENT
BEGIN:VEVENT
DTSTART;TZID=Europe/Berlin:20260313T080000
DTEND;TZID=Europe/Berlin:20260313T090000
DTSTAMP:20260420T174238
CREATED:20251128T105157Z
LAST-MODIFIED:20251128T105157Z
UID:10000603-1773388800-1773392400@service.magazin66.de
SUMMARY:Senioren-Gymnastik Erlangen
DESCRIPTION:Der Teilnahmebetrag von 2 Euro fällt nur für die tatsächlich besuchten Sportstunden an. Für ErlangenPass-Besitzer*innen sind alle Kurse kostenlos.\nInformationen zu den weiteren Angeboten erhalten Sie im Büro der Abteilung für Alters- und Generationenfragen (ehem. Seniorenamt).\nEine Anmeldung ist nicht erforderlich. Während der Schulferien findet der Kurs nicht statt.
URL:https://service.magazin66.de/event/senioren-gymnastik-erlangen/2026-03-13/
LOCATION:Pestalozzischule Erlangen\, Pestalozzistr. 1\, 91052 Erlangen
CATEGORIES:Gesundheit und Sport
ORGANIZER;CN="Abteilung f%C3%BCr Alters- und Generationenfragen Erlangen":MAILTO:alter-generationen@stadt.erlangen.de
GEO:49.5839951;10.9957158
X-APPLE-STRUCTURED-LOCATION;VALUE=URI;X-ADDRESS=Pestalozzischule Erlangen Pestalozzistr. 1 91052 Erlangen;X-APPLE-RADIUS=500;X-TITLE=Pestalozzistr. 1:geo:10.9957158,49.5839951
END:VEVENT
BEGIN:VEVENT
DTSTART;TZID=Europe/Berlin:20260306T080000
DTEND;TZID=Europe/Berlin:20260306T090000
DTSTAMP:20260420T174238
CREATED:20251128T105157Z
LAST-MODIFIED:20251128T105157Z
UID:10000602-1772784000-1772787600@service.magazin66.de
SUMMARY:Senioren-Gymnastik Erlangen
DESCRIPTION:Der Teilnahmebetrag von 2 Euro fällt nur für die tatsächlich besuchten Sportstunden an. Für ErlangenPass-Besitzer*innen sind alle Kurse kostenlos.\nInformationen zu den weiteren Angeboten erhalten Sie im Büro der Abteilung für Alters- und Generationenfragen (ehem. Seniorenamt).\nEine Anmeldung ist nicht erforderlich. Während der Schulferien findet der Kurs nicht statt.
URL:https://service.magazin66.de/event/senioren-gymnastik-erlangen/2026-03-06/
LOCATION:Pestalozzischule Erlangen\, Pestalozzistr. 1\, 91052 Erlangen
CATEGORIES:Gesundheit und Sport
ORGANIZER;CN="Abteilung f%C3%BCr Alters- und Generationenfragen Erlangen":MAILTO:alter-generationen@stadt.erlangen.de
GEO:49.5839951;10.9957158
X-APPLE-STRUCTURED-LOCATION;VALUE=URI;X-ADDRESS=Pestalozzischule Erlangen Pestalozzistr. 1 91052 Erlangen;X-APPLE-RADIUS=500;X-TITLE=Pestalozzistr. 1:geo:10.9957158,49.5839951
END:VEVENT
BEGIN:VEVENT
DTSTART;TZID=Europe/Berlin:20260227T080000
DTEND;TZID=Europe/Berlin:20260227T090000
DTSTAMP:20260420T174238
CREATED:20251128T105157Z
LAST-MODIFIED:20251128T105157Z
UID:10000601-1772179200-1772182800@service.magazin66.de
SUMMARY:Senioren-Gymnastik Erlangen
DESCRIPTION:Der Teilnahmebetrag von 2 Euro fällt nur für die tatsächlich besuchten Sportstunden an. Für ErlangenPass-Besitzer*innen sind alle Kurse kostenlos.\nInformationen zu den weiteren Angeboten erhalten Sie im Büro der Abteilung für Alters- und Generationenfragen (ehem. Seniorenamt).\nEine Anmeldung ist nicht erforderlich. Während der Schulferien findet der Kurs nicht statt.
URL:https://service.magazin66.de/event/senioren-gymnastik-erlangen/2026-02-27/
LOCATION:Pestalozzischule Erlangen\, Pestalozzistr. 1\, 91052 Erlangen
CATEGORIES:Gesundheit und Sport
ORGANIZER;CN="Abteilung f%C3%BCr Alters- und Generationenfragen Erlangen":MAILTO:alter-generationen@stadt.erlangen.de
GEO:49.5839951;10.9957158
X-APPLE-STRUCTURED-LOCATION;VALUE=URI;X-ADDRESS=Pestalozzischule Erlangen Pestalozzistr. 1 91052 Erlangen;X-APPLE-RADIUS=500;X-TITLE=Pestalozzistr. 1:geo:10.9957158,49.5839951
END:VEVENT
BEGIN:VEVENT
DTSTART;TZID=Europe/Berlin:20260213T080000
DTEND;TZID=Europe/Berlin:20260213T090000
DTSTAMP:20260420T174238
CREATED:20251128T105157Z
LAST-MODIFIED:20251128T105157Z
UID:10000600-1770969600-1770973200@service.magazin66.de
SUMMARY:Senioren-Gymnastik Erlangen
DESCRIPTION:Der Teilnahmebetrag von 2 Euro fällt nur für die tatsächlich besuchten Sportstunden an. Für ErlangenPass-Besitzer*innen sind alle Kurse kostenlos.\nInformationen zu den weiteren Angeboten erhalten Sie im Büro der Abteilung für Alters- und Generationenfragen (ehem. Seniorenamt).\nEine Anmeldung ist nicht erforderlich. Während der Schulferien findet der Kurs nicht statt.
URL:https://service.magazin66.de/event/senioren-gymnastik-erlangen/2026-02-13/
LOCATION:Pestalozzischule Erlangen\, Pestalozzistr. 1\, 91052 Erlangen
CATEGORIES:Gesundheit und Sport
ORGANIZER;CN="Abteilung f%C3%BCr Alters- und Generationenfragen Erlangen":MAILTO:alter-generationen@stadt.erlangen.de
GEO:49.5839951;10.9957158
X-APPLE-STRUCTURED-LOCATION;VALUE=URI;X-ADDRESS=Pestalozzischule Erlangen Pestalozzistr. 1 91052 Erlangen;X-APPLE-RADIUS=500;X-TITLE=Pestalozzistr. 1:geo:10.9957158,49.5839951
END:VEVENT
BEGIN:VEVENT
DTSTART;TZID=Europe/Berlin:20260206T080000
DTEND;TZID=Europe/Berlin:20260206T090000
DTSTAMP:20260420T174238
CREATED:20251128T105157Z
LAST-MODIFIED:20251128T105157Z
UID:10000599-1770364800-1770368400@service.magazin66.de
SUMMARY:Senioren-Gymnastik Erlangen
DESCRIPTION:Der Teilnahmebetrag von 2 Euro fällt nur für die tatsächlich besuchten Sportstunden an. Für ErlangenPass-Besitzer*innen sind alle Kurse kostenlos.\nInformationen zu den weiteren Angeboten erhalten Sie im Büro der Abteilung für Alters- und Generationenfragen (ehem. Seniorenamt).\nEine Anmeldung ist nicht erforderlich. Während der Schulferien findet der Kurs nicht statt.
URL:https://service.magazin66.de/event/senioren-gymnastik-erlangen/2026-02-06/
LOCATION:Pestalozzischule Erlangen\, Pestalozzistr. 1\, 91052 Erlangen
CATEGORIES:Gesundheit und Sport
ORGANIZER;CN="Abteilung f%C3%BCr Alters- und Generationenfragen Erlangen":MAILTO:alter-generationen@stadt.erlangen.de
GEO:49.5839951;10.9957158
X-APPLE-STRUCTURED-LOCATION;VALUE=URI;X-ADDRESS=Pestalozzischule Erlangen Pestalozzistr. 1 91052 Erlangen;X-APPLE-RADIUS=500;X-TITLE=Pestalozzistr. 1:geo:10.9957158,49.5839951
END:VEVENT
BEGIN:VEVENT
DTSTART;TZID=Europe/Berlin:20260130T080000
DTEND;TZID=Europe/Berlin:20260130T090000
DTSTAMP:20260420T174238
CREATED:20251128T105157Z
LAST-MODIFIED:20251128T105157Z
UID:10000598-1769760000-1769763600@service.magazin66.de
SUMMARY:Senioren-Gymnastik Erlangen
DESCRIPTION:Der Teilnahmebetrag von 2 Euro fällt nur für die tatsächlich besuchten Sportstunden an. Für ErlangenPass-Besitzer*innen sind alle Kurse kostenlos.\nInformationen zu den weiteren Angeboten erhalten Sie im Büro der Abteilung für Alters- und Generationenfragen (ehem. Seniorenamt).\nEine Anmeldung ist nicht erforderlich. Während der Schulferien findet der Kurs nicht statt.
URL:https://service.magazin66.de/event/senioren-gymnastik-erlangen/2026-01-30/
LOCATION:Pestalozzischule Erlangen\, Pestalozzistr. 1\, 91052 Erlangen
CATEGORIES:Gesundheit und Sport
ORGANIZER;CN="Abteilung f%C3%BCr Alters- und Generationenfragen Erlangen":MAILTO:alter-generationen@stadt.erlangen.de
GEO:49.5839951;10.9957158
X-APPLE-STRUCTURED-LOCATION;VALUE=URI;X-ADDRESS=Pestalozzischule Erlangen Pestalozzistr. 1 91052 Erlangen;X-APPLE-RADIUS=500;X-TITLE=Pestalozzistr. 1:geo:10.9957158,49.5839951
END:VEVENT
BEGIN:VEVENT
DTSTART;TZID=Europe/Berlin:20260123T080000
DTEND;TZID=Europe/Berlin:20260123T090000
DTSTAMP:20260420T174238
CREATED:20251128T105157Z
LAST-MODIFIED:20251128T105157Z
UID:10000597-1769155200-1769158800@service.magazin66.de
SUMMARY:Senioren-Gymnastik Erlangen
DESCRIPTION:Der Teilnahmebetrag von 2 Euro fällt nur für die tatsächlich besuchten Sportstunden an. Für ErlangenPass-Besitzer*innen sind alle Kurse kostenlos.\nInformationen zu den weiteren Angeboten erhalten Sie im Büro der Abteilung für Alters- und Generationenfragen (ehem. Seniorenamt).\nEine Anmeldung ist nicht erforderlich. Während der Schulferien findet der Kurs nicht statt.
URL:https://service.magazin66.de/event/senioren-gymnastik-erlangen/2026-01-23/
LOCATION:Pestalozzischule Erlangen\, Pestalozzistr. 1\, 91052 Erlangen
CATEGORIES:Gesundheit und Sport
ORGANIZER;CN="Abteilung f%C3%BCr Alters- und Generationenfragen Erlangen":MAILTO:alter-generationen@stadt.erlangen.de
GEO:49.5839951;10.9957158
X-APPLE-STRUCTURED-LOCATION;VALUE=URI;X-ADDRESS=Pestalozzischule Erlangen Pestalozzistr. 1 91052 Erlangen;X-APPLE-RADIUS=500;X-TITLE=Pestalozzistr. 1:geo:10.9957158,49.5839951
END:VEVENT
BEGIN:VEVENT
DTSTART;TZID=Europe/Berlin:20260116T080000
DTEND;TZID=Europe/Berlin:20260116T090000
DTSTAMP:20260420T174238
CREATED:20251128T105157Z
LAST-MODIFIED:20251128T105157Z
UID:10000596-1768550400-1768554000@service.magazin66.de
SUMMARY:Senioren-Gymnastik Erlangen
DESCRIPTION:Der Teilnahmebetrag von 2 Euro fällt nur für die tatsächlich besuchten Sportstunden an. Für ErlangenPass-Besitzer*innen sind alle Kurse kostenlos.\nInformationen zu den weiteren Angeboten erhalten Sie im Büro der Abteilung für Alters- und Generationenfragen (ehem. Seniorenamt).\nEine Anmeldung ist nicht erforderlich. Während der Schulferien findet der Kurs nicht statt.
URL:https://service.magazin66.de/event/senioren-gymnastik-erlangen/2026-01-16/
LOCATION:Pestalozzischule Erlangen\, Pestalozzistr. 1\, 91052 Erlangen
CATEGORIES:Gesundheit und Sport
ORGANIZER;CN="Abteilung f%C3%BCr Alters- und Generationenfragen Erlangen":MAILTO:alter-generationen@stadt.erlangen.de
GEO:49.5839951;10.9957158
X-APPLE-STRUCTURED-LOCATION;VALUE=URI;X-ADDRESS=Pestalozzischule Erlangen Pestalozzistr. 1 91052 Erlangen;X-APPLE-RADIUS=500;X-TITLE=Pestalozzistr. 1:geo:10.9957158,49.5839951
END:VEVENT
BEGIN:VEVENT
DTSTART;TZID=Europe/Berlin:20260109T080000
DTEND;TZID=Europe/Berlin:20260109T090000
DTSTAMP:20260420T174238
CREATED:20251128T105157Z
LAST-MODIFIED:20251128T105157Z
UID:10000595-1767945600-1767949200@service.magazin66.de
SUMMARY:Senioren-Gymnastik Erlangen
DESCRIPTION:Der Teilnahmebetrag von 2 Euro fällt nur für die tatsächlich besuchten Sportstunden an. Für ErlangenPass-Besitzer*innen sind alle Kurse kostenlos.\nInformationen zu den weiteren Angeboten erhalten Sie im Büro der Abteilung für Alters- und Generationenfragen (ehem. Seniorenamt).\nEine Anmeldung ist nicht erforderlich. Während der Schulferien findet der Kurs nicht statt.
URL:https://service.magazin66.de/event/senioren-gymnastik-erlangen/2026-01-09/
LOCATION:Pestalozzischule Erlangen\, Pestalozzistr. 1\, 91052 Erlangen
CATEGORIES:Gesundheit und Sport
ORGANIZER;CN="Abteilung f%C3%BCr Alters- und Generationenfragen Erlangen":MAILTO:alter-generationen@stadt.erlangen.de
GEO:49.5839951;10.9957158
X-APPLE-STRUCTURED-LOCATION;VALUE=URI;X-ADDRESS=Pestalozzischule Erlangen Pestalozzistr. 1 91052 Erlangen;X-APPLE-RADIUS=500;X-TITLE=Pestalozzistr. 1:geo:10.9957158,49.5839951
END:VEVENT
BEGIN:VEVENT
DTSTART;TZID=Europe/Berlin:20251219T080000
DTEND;TZID=Europe/Berlin:20251219T090000
DTSTAMP:20260420T174238
CREATED:20251128T105157Z
LAST-MODIFIED:20251128T105157Z
UID:10000594-1766131200-1766134800@service.magazin66.de
SUMMARY:Senioren-Gymnastik Erlangen
DESCRIPTION:Der Teilnahmebetrag von 2 Euro fällt nur für die tatsächlich besuchten Sportstunden an. Für ErlangenPass-Besitzer*innen sind alle Kurse kostenlos.\nInformationen zu den weiteren Angeboten erhalten Sie im Büro der Abteilung für Alters- und Generationenfragen (ehem. Seniorenamt).\nEine Anmeldung ist nicht erforderlich. Während der Schulferien findet der Kurs nicht statt.
URL:https://service.magazin66.de/event/senioren-gymnastik-erlangen/2025-12-19/
LOCATION:Pestalozzischule Erlangen\, Pestalozzistr. 1\, 91052 Erlangen
CATEGORIES:Gesundheit und Sport
ORGANIZER;CN="Abteilung f%C3%BCr Alters- und Generationenfragen Erlangen":MAILTO:alter-generationen@stadt.erlangen.de
GEO:49.5839951;10.9957158
X-APPLE-STRUCTURED-LOCATION;VALUE=URI;X-ADDRESS=Pestalozzischule Erlangen Pestalozzistr. 1 91052 Erlangen;X-APPLE-RADIUS=500;X-TITLE=Pestalozzistr. 1:geo:10.9957158,49.5839951
END:VEVENT
BEGIN:VEVENT
DTSTART;TZID=Europe/Berlin:20251212T080000
DTEND;TZID=Europe/Berlin:20251212T090000
DTSTAMP:20260420T174238
CREATED:20251128T105157Z
LAST-MODIFIED:20251128T105157Z
UID:10000593-1765526400-1765530000@service.magazin66.de
SUMMARY:Senioren-Gymnastik Erlangen
DESCRIPTION:Der Teilnahmebetrag von 2 Euro fällt nur für die tatsächlich besuchten Sportstunden an. Für ErlangenPass-Besitzer*innen sind alle Kurse kostenlos.\nInformationen zu den weiteren Angeboten erhalten Sie im Büro der Abteilung für Alters- und Generationenfragen (ehem. Seniorenamt).\nEine Anmeldung ist nicht erforderlich. Während der Schulferien findet der Kurs nicht statt.
URL:https://service.magazin66.de/event/senioren-gymnastik-erlangen/2025-12-12/
LOCATION:Pestalozzischule Erlangen\, Pestalozzistr. 1\, 91052 Erlangen
CATEGORIES:Gesundheit und Sport
ORGANIZER;CN="Abteilung f%C3%BCr Alters- und Generationenfragen Erlangen":MAILTO:alter-generationen@stadt.erlangen.de
GEO:49.5839951;10.9957158
X-APPLE-STRUCTURED-LOCATION;VALUE=URI;X-ADDRESS=Pestalozzischule Erlangen Pestalozzistr. 1 91052 Erlangen;X-APPLE-RADIUS=500;X-TITLE=Pestalozzistr. 1:geo:10.9957158,49.5839951
END:VEVENT
BEGIN:VEVENT
DTSTART;TZID=Europe/Berlin:20251205T080000
DTEND;TZID=Europe/Berlin:20251205T090000
DTSTAMP:20260420T174238
CREATED:20251128T105157Z
LAST-MODIFIED:20251128T105157Z
UID:10000592-1764921600-1764925200@service.magazin66.de
SUMMARY:Senioren-Gymnastik Erlangen
DESCRIPTION:Der Teilnahmebetrag von 2 Euro fällt nur für die tatsächlich besuchten Sportstunden an. Für ErlangenPass-Besitzer*innen sind alle Kurse kostenlos.\nInformationen zu den weiteren Angeboten erhalten Sie im Büro der Abteilung für Alters- und Generationenfragen (ehem. Seniorenamt).\nEine Anmeldung ist nicht erforderlich. Während der Schulferien findet der Kurs nicht statt.
URL:https://service.magazin66.de/event/senioren-gymnastik-erlangen/2025-12-05/
LOCATION:Pestalozzischule Erlangen\, Pestalozzistr. 1\, 91052 Erlangen
CATEGORIES:Gesundheit und Sport
ORGANIZER;CN="Abteilung f%C3%BCr Alters- und Generationenfragen Erlangen":MAILTO:alter-generationen@stadt.erlangen.de
GEO:49.5839951;10.9957158
X-APPLE-STRUCTURED-LOCATION;VALUE=URI;X-ADDRESS=Pestalozzischule Erlangen Pestalozzistr. 1 91052 Erlangen;X-APPLE-RADIUS=500;X-TITLE=Pestalozzistr. 1:geo:10.9957158,49.5839951
END:VEVENT
END:VCALENDAR